| Back to Multiple platform build/check report for BioC 3.11 |
|
This page was generated on 2020-10-16 11:58:58 -0400 (Fri, 16 Oct 2020).
| TO THE DEVELOPERS/MAINTAINERS OF THE ssize PACKAGE: Please make sure to use the following settings in order to reproduce any error or warning you see on this page. |
| Package 1734/1905 | Hostname | OS / Arch | INSTALL | BUILD | CHECK | BUILD BIN | ||||||
| ssize 1.62.0 Gregory R. Warnes
| malbec2 | Linux (Ubuntu 18.04.4 LTS) / x86_64 | OK | OK | OK | |||||||
| tokay2 | Windows Server 2012 R2 Standard / x64 | OK | OK | OK | [ OK ] | |||||||
| machv2 | macOS 10.14.6 Mojave / x86_64 | OK | OK | OK | OK |
| Package: ssize |
| Version: 1.62.0 |
| Command: rm -rf ssize.buildbin-libdir && mkdir ssize.buildbin-libdir && C:\Users\biocbuild\bbs-3.11-bioc\R\bin\R.exe CMD INSTALL --merge-multiarch --build --library=ssize.buildbin-libdir ssize_1.62.0.tar.gz |
| StartedAt: 2020-10-16 11:24:49 -0400 (Fri, 16 Oct 2020) |
| EndedAt: 2020-10-16 11:25:40 -0400 (Fri, 16 Oct 2020) |
| EllapsedTime: 51.4 seconds |
| RetCode: 0 |
| Status: OK |
| PackageFile: ssize_1.62.0.zip |
| PackageFileSize: 410 KiB |
##############################################################################
##############################################################################
###
### Running command:
###
### rm -rf ssize.buildbin-libdir && mkdir ssize.buildbin-libdir && C:\Users\biocbuild\bbs-3.11-bioc\R\bin\R.exe CMD INSTALL --merge-multiarch --build --library=ssize.buildbin-libdir ssize_1.62.0.tar.gz
###
##############################################################################
##############################################################################
install for i386
* installing *source* package 'ssize' ...
** using staged installation
** R
** data
** inst
** byte-compile and prepare package for lazy loading
** help
*** installing help indices
converting help for package 'ssize'
finding HTML links ... done
exp.sd html
pow html
power.t.test.FDR html
** building package indices
** installing vignettes
** testing if installed package can be loaded from temporary location
** testing if installed package can be loaded from final location
** testing if installed package keeps a record of temporary installation path
install for x64
* installing *source* package 'ssize' ...
** testing if installed package can be loaded
* MD5 sums
packaged installation of 'ssize' as ssize_1.62.0.zip
* DONE (ssize)