| Back to Multiple platform build/check report for BioC 3.11 | 
 | 
This page was generated on 2020-10-16 11:58:56 -0400 (Fri, 16 Oct 2020).
| TO THE DEVELOPERS/MAINTAINERS OF THE spikeLI PACKAGE: Please make sure to use the following settings in order to reproduce any error or warning you see on this page. | 
| Package 1713/1905 | Hostname | OS / Arch | INSTALL | BUILD | CHECK | BUILD BIN | ||||||
| spikeLI 2.48.0 Enrico Carlon 
 | malbec2 | Linux (Ubuntu 18.04.4 LTS) / x86_64 | OK | OK | OK |  | ||||||
| tokay2 | Windows Server 2012 R2 Standard / x64 | OK | OK | OK | [ OK ] |  | ||||||
| machv2 | macOS 10.14.6 Mojave / x86_64 | OK | OK | OK | OK |  | 
| Package: spikeLI | 
| Version: 2.48.0 | 
| Command: rm -rf spikeLI.buildbin-libdir && mkdir spikeLI.buildbin-libdir && C:\Users\biocbuild\bbs-3.11-bioc\R\bin\R.exe CMD INSTALL --merge-multiarch --build --library=spikeLI.buildbin-libdir spikeLI_2.48.0.tar.gz | 
| StartedAt: 2020-10-16 11:23:33 -0400 (Fri, 16 Oct 2020) | 
| EndedAt: 2020-10-16 11:24:01 -0400 (Fri, 16 Oct 2020) | 
| EllapsedTime: 28.4 seconds | 
| RetCode: 0 | 
| Status: OK | 
| PackageFile: spikeLI_2.48.0.zip | 
| PackageFileSize: 358.8 KiB | 
##############################################################################
##############################################################################
###
### Running command:
###
###   rm -rf spikeLI.buildbin-libdir && mkdir spikeLI.buildbin-libdir && C:\Users\biocbuild\bbs-3.11-bioc\R\bin\R.exe CMD INSTALL --merge-multiarch --build --library=spikeLI.buildbin-libdir spikeLI_2.48.0.tar.gz
###
##############################################################################
##############################################################################
install for i386
* installing *source* package 'spikeLI' ...
** using staged installation
** R
** data
** demo
** inst
** byte-compile and prepare package for lazy loading
** help
*** installing help indices
  converting help for package 'spikeLI'
    finding HTML links ... done
    IvsDG                                   html  
    Ivsc                                    html  
    SPIKE_IN                                html  
    SPIKE_IN95                              html  
    SPIKE_INA                               html  
    SPIKE_INB                               html  
    SPIKE_INH                               html  
    collapse                                html  
    conc133                                 html  
    conc95                                  html  
    hgu                                     html  
    spikeLI.package                         html  
** building package indices
** installing vignettes
** testing if installed package can be loaded from temporary location
** testing if installed package can be loaded from final location
** testing if installed package keeps a record of temporary installation path
install for x64
* installing *source* package 'spikeLI' ...
** testing if installed package can be loaded
* MD5 sums
packaged installation of 'spikeLI' as spikeLI_2.48.0.zip
* DONE (spikeLI)