| Back to Multiple platform build/check report for BioC 3.11 |
|
This page was generated on 2020-10-16 11:58:55 -0400 (Fri, 16 Oct 2020).
| TO THE DEVELOPERS/MAINTAINERS OF THE sojourner PACKAGE: Please make sure to use the following settings in order to reproduce any error or warning you see on this page. |
| Package 1697/1905 | Hostname | OS / Arch | INSTALL | BUILD | CHECK | BUILD BIN | ||||||
| sojourner 1.2.1 Sojourner Developer
| malbec2 | Linux (Ubuntu 18.04.4 LTS) / x86_64 | OK | OK | OK | |||||||
| tokay2 | Windows Server 2012 R2 Standard / x64 | OK | OK | ERROR | [ OK ] | |||||||
| machv2 | macOS 10.14.6 Mojave / x86_64 | OK | OK | OK | OK |
| Package: sojourner |
| Version: 1.2.1 |
| Command: rm -rf sojourner.buildbin-libdir && mkdir sojourner.buildbin-libdir && C:\Users\biocbuild\bbs-3.11-bioc\R\bin\R.exe CMD INSTALL --merge-multiarch --build --library=sojourner.buildbin-libdir sojourner_1.2.1.tar.gz |
| StartedAt: 2020-10-16 11:22:35 -0400 (Fri, 16 Oct 2020) |
| EndedAt: 2020-10-16 11:23:24 -0400 (Fri, 16 Oct 2020) |
| EllapsedTime: 48.9 seconds |
| RetCode: 0 |
| Status: OK |
| PackageFile: sojourner_1.2.1.zip |
| PackageFileSize: 2.917 MiB |
##############################################################################
##############################################################################
###
### Running command:
###
### rm -rf sojourner.buildbin-libdir && mkdir sojourner.buildbin-libdir && C:\Users\biocbuild\bbs-3.11-bioc\R\bin\R.exe CMD INSTALL --merge-multiarch --build --library=sojourner.buildbin-libdir sojourner_1.2.1.tar.gz
###
##############################################################################
##############################################################################
install for i386
* installing *source* package 'sojourner' ...
** using staged installation
** R
** inst
** byte-compile and prepare package for lazy loading
** help
*** installing help indices
converting help for package 'sojourner'
finding HTML links ... done
Dcoef-methods html
combineTrackll-methods html
compareFolder-methods html
compare_RT_CDF-methods html
createTrackll-methods html
dispVariance-methods html
displacementCDF-methods html
dwellTime-methods html
exportTrackll-methods html
filterTrack-methods html
fitNormDistr-methods html
fitRT-methods html
linkSkippedFrames-methods html
maskTracks-methods html
mergeTracks-methods html
msd-methods html
plotIndividual_Tracks-methods html
plotLocalizations_Density-methods html
plotTrack-methods html
plotTrackOverlay_Dcoef-methods html
sojourner html
sojournerGUI-methods html
squareDisp-methods html
** building package indices
** installing vignettes
** testing if installed package can be loaded from temporary location
** testing if installed package can be loaded from final location
** testing if installed package keeps a record of temporary installation path
install for x64
* installing *source* package 'sojourner' ...
** testing if installed package can be loaded
* MD5 sums
packaged installation of 'sojourner' as sojourner_1.2.1.zip
* DONE (sojourner)