| Back to Multiple platform build/check report for BioC 3.11 |
|
This page was generated on 2020-10-16 11:58:54 -0400 (Fri, 16 Oct 2020).
| TO THE DEVELOPERS/MAINTAINERS OF THE singleCellTK PACKAGE: Please make sure to use the following settings in order to reproduce any error or warning you see on this page. |
| Package 1673/1905 | Hostname | OS / Arch | INSTALL | BUILD | CHECK | BUILD BIN | ||||||
| singleCellTK 1.8.0 David Jenkins
| malbec2 | Linux (Ubuntu 18.04.4 LTS) / x86_64 | OK | OK | OK | |||||||
| tokay2 | Windows Server 2012 R2 Standard / x64 | OK | OK | OK | [ OK ] | |||||||
| machv2 | macOS 10.14.6 Mojave / x86_64 | OK | OK | OK | OK |
| Package: singleCellTK |
| Version: 1.8.0 |
| Command: rm -rf singleCellTK.buildbin-libdir && mkdir singleCellTK.buildbin-libdir && C:\Users\biocbuild\bbs-3.11-bioc\R\bin\R.exe CMD INSTALL --merge-multiarch --build --library=singleCellTK.buildbin-libdir singleCellTK_1.8.0.tar.gz |
| StartedAt: 2020-10-16 11:21:03 -0400 (Fri, 16 Oct 2020) |
| EndedAt: 2020-10-16 11:21:43 -0400 (Fri, 16 Oct 2020) |
| EllapsedTime: 39.8 seconds |
| RetCode: 0 |
| Status: OK |
| PackageFile: singleCellTK_1.8.0.zip |
| PackageFileSize: 2.242 MiB |
##############################################################################
##############################################################################
###
### Running command:
###
### rm -rf singleCellTK.buildbin-libdir && mkdir singleCellTK.buildbin-libdir && C:\Users\biocbuild\bbs-3.11-bioc\R\bin\R.exe CMD INSTALL --merge-multiarch --build --library=singleCellTK.buildbin-libdir singleCellTK_1.8.0.tar.gz
###
##############################################################################
##############################################################################
install for i386
* installing *source* package 'singleCellTK' ...
** using staged installation
** R
** data
*** moving datasets to lazyload DB
** inst
** byte-compile and prepare package for lazy loading
** help
*** installing help indices
converting help for package 'singleCellTK'
finding HTML links ... done
ComBatSCE html
DownsampleCells html
DownsampleDepth html
MAST html
SCtkExperiment-class html
SCtkExperiment html
alignSingleCellData html
calcEffectSizes html
convertGeneIDs html
createSCE html
distinctColors html
enrichRSCE html
filterSCData html
generateSimulatedData html
getBiomarker html
getClusterInputData html
getPCA html
getTSNE html
getUMAP html
gsvaSCE html
iterateSimulations html
mouseBrainSubsetSCE html
parseRsubreadLogs html
pcaVariances-set html
pcaVariances html
plotBatchVariance html
plotBiomarker html
plotDiffEx html
plotDimRed html
plotPCA html
plotTSNE html
plotUMAP html
saveBiomarkerRes html
saveDiffExResults html
scDiffEx html
singleCellTK html
subDiffEx html
summarizeTable html
visPlot html
** building package indices
** installing vignettes
** testing if installed package can be loaded from temporary location
** testing if installed package can be loaded from final location
** testing if installed package keeps a record of temporary installation path
install for x64
* installing *source* package 'singleCellTK' ...
** testing if installed package can be loaded
* MD5 sums
packaged installation of 'singleCellTK' as singleCellTK_1.8.0.zip
* DONE (singleCellTK)