| Back to Multiple platform build/check report for BioC 3.11 |
|
This page was generated on 2020-10-14 11:56:02 -0400 (Wed, 14 Oct 2020).
| TO THE DEVELOPERS/MAINTAINERS OF THE simulatorZ PACKAGE: Please make sure to use the following settings in order to reproduce any error or warning you see on this page. |
| Package 1669/1905 | Hostname | OS / Arch | INSTALL | BUILD | CHECK | BUILD BIN | ||||||
| simulatorZ 1.22.0 Yuqing Zhang
| malbec2 | Linux (Ubuntu 18.04.4 LTS) / x86_64 | OK | ERROR | skipped | |||||||
| tokay2 | Windows Server 2012 R2 Standard / x64 | OK | OK | OK | [ OK ] | |||||||
| machv2 | macOS 10.14.6 Mojave / x86_64 | OK | OK | OK | OK |
| Package: simulatorZ |
| Version: 1.22.0 |
| Command: rm -rf simulatorZ.buildbin-libdir && mkdir simulatorZ.buildbin-libdir && C:\Users\biocbuild\bbs-3.11-bioc\R\bin\R.exe CMD INSTALL --merge-multiarch --build --library=simulatorZ.buildbin-libdir simulatorZ_1.22.0.tar.gz |
| StartedAt: 2020-10-14 11:24:53 -0400 (Wed, 14 Oct 2020) |
| EndedAt: 2020-10-14 11:25:32 -0400 (Wed, 14 Oct 2020) |
| EllapsedTime: 39.2 seconds |
| RetCode: 0 |
| Status: OK |
| PackageFile: simulatorZ_1.22.0.zip |
| PackageFileSize: 422.1 KiB |
##############################################################################
##############################################################################
###
### Running command:
###
### rm -rf simulatorZ.buildbin-libdir && mkdir simulatorZ.buildbin-libdir && C:\Users\biocbuild\bbs-3.11-bioc\R\bin\R.exe CMD INSTALL --merge-multiarch --build --library=simulatorZ.buildbin-libdir simulatorZ_1.22.0.tar.gz
###
##############################################################################
##############################################################################
install for i386
* installing *source* package 'simulatorZ' ...
** using staged installation
** libs
"C:/rtools40/mingw32/bin/"g++ -std=gnu++11 -I"C:/Users/BIOCBU~1/BBS-3~1.11-/R/include" -DNDEBUG -I"C:/extsoft/include" -O2 -Wall -mfpmath=sse -msse2 -mstackrealign -c coxformatrices.cpp -o coxformatrices.o
C:/rtools40/mingw32/bin/g++ -std=gnu++11 -shared -s -static-libgcc -o simulatorZ.dll tmp.def coxformatrices.o -LC:/extsoft/lib/i386 -LC:/extsoft/lib -LC:/Users/BIOCBU~1/BBS-3~1.11-/R/bin/i386 -lR
installing to C:/Users/biocbuild/bbs-3.11-bioc/meat/simulatorZ.buildbin-libdir/00LOCK-simulatorZ/00new/simulatorZ/libs/i386
** R
** inst
** byte-compile and prepare package for lazy loading
** help
*** installing help indices
converting help for package 'simulatorZ'
finding HTML links ... done
cvSubsets html
funCV html
geneFilter html
getTrueModel html
masomenos html
plusMinus html
rowCoxTests html
simBootstrap html
simData html
simTime html
zmatrix html
** building package indices
** installing vignettes
** testing if installed package can be loaded from temporary location
** testing if installed package can be loaded from final location
** testing if installed package keeps a record of temporary installation path
install for x64
* installing *source* package 'simulatorZ' ...
** libs
"C:/rtools40/mingw64/bin/"g++ -std=gnu++11 -I"C:/Users/BIOCBU~1/BBS-3~1.11-/R/include" -DNDEBUG -I"C:/extsoft/include" -O2 -Wall -mfpmath=sse -msse2 -mstackrealign -c coxformatrices.cpp -o coxformatrices.o
C:/rtools40/mingw64/bin/g++ -std=gnu++11 -shared -s -static-libgcc -o simulatorZ.dll tmp.def coxformatrices.o -LC:/extsoft/lib/x64 -LC:/extsoft/lib -LC:/Users/BIOCBU~1/BBS-3~1.11-/R/bin/x64 -lR
installing to C:/Users/biocbuild/bbs-3.11-bioc/meat/simulatorZ.buildbin-libdir/simulatorZ/libs/x64
** testing if installed package can be loaded
* MD5 sums
packaged installation of 'simulatorZ' as simulatorZ_1.22.0.zip
* DONE (simulatorZ)