| Back to Multiple platform build/check report for BioC 3.11 |
|
This page was generated on 2020-10-16 11:58:53 -0400 (Fri, 16 Oct 2020).
| TO THE DEVELOPERS/MAINTAINERS OF THE similaRpeak PACKAGE: Please make sure to use the following settings in order to reproduce any error or warning you see on this page. |
| Package 1666/1905 | Hostname | OS / Arch | INSTALL | BUILD | CHECK | BUILD BIN | ||||||
| similaRpeak 1.20.0 Astrid Deschenes
| malbec2 | Linux (Ubuntu 18.04.4 LTS) / x86_64 | OK | OK | OK | |||||||
| tokay2 | Windows Server 2012 R2 Standard / x64 | OK | OK | OK | [ OK ] | |||||||
| machv2 | macOS 10.14.6 Mojave / x86_64 | OK | OK | OK | OK |
| Package: similaRpeak |
| Version: 1.20.0 |
| Command: rm -rf similaRpeak.buildbin-libdir && mkdir similaRpeak.buildbin-libdir && C:\Users\biocbuild\bbs-3.11-bioc\R\bin\R.exe CMD INSTALL --merge-multiarch --build --library=similaRpeak.buildbin-libdir similaRpeak_1.20.0.tar.gz |
| StartedAt: 2020-10-16 11:20:40 -0400 (Fri, 16 Oct 2020) |
| EndedAt: 2020-10-16 11:21:27 -0400 (Fri, 16 Oct 2020) |
| EllapsedTime: 47.3 seconds |
| RetCode: 0 |
| Status: OK |
| PackageFile: similaRpeak_1.20.0.zip |
| PackageFileSize: 1.056 MiB |
##############################################################################
##############################################################################
###
### Running command:
###
### rm -rf similaRpeak.buildbin-libdir && mkdir similaRpeak.buildbin-libdir && C:\Users\biocbuild\bbs-3.11-bioc\R\bin\R.exe CMD INSTALL --merge-multiarch --build --library=similaRpeak.buildbin-libdir similaRpeak_1.20.0.tar.gz
###
##############################################################################
##############################################################################
install for i386
* installing *source* package 'similaRpeak' ...
** using staged installation
** R
** data
** inst
** byte-compile and prepare package for lazy loading
** help
*** installing help indices
converting help for package 'similaRpeak'
finding HTML links ... done
DiffPosMax html
Metric html
MetricFactory html
RatioArea html
RatioIntersect html
RatioMaxMax html
RatioNormalizedIntersect html
SpearmanCorrelation html
chr7Profiles html
demoProfiles html
diffPosMaxMethod html
ratioAreaMethod html
ratioIntersectMethod html
ratioMaxMaxMethod html
similaRpeak-package html
similarity html
spearmanCorrMethod html
** building package indices
** installing vignettes
** testing if installed package can be loaded from temporary location
** testing if installed package can be loaded from final location
** testing if installed package keeps a record of temporary installation path
install for x64
* installing *source* package 'similaRpeak' ...
** testing if installed package can be loaded
* MD5 sums
packaged installation of 'similaRpeak' as similaRpeak_1.20.0.zip
* DONE (similaRpeak)