| Back to Multiple platform build/check report for BioC 3.11 |
|
This page was generated on 2020-10-16 11:58:52 -0400 (Fri, 16 Oct 2020).
| TO THE DEVELOPERS/MAINTAINERS OF THE shinyMethyl PACKAGE: Please make sure to use the following settings in order to reproduce any error or warning you see on this page. |
| Package 1644/1905 | Hostname | OS / Arch | INSTALL | BUILD | CHECK | BUILD BIN | ||||||
| shinyMethyl 1.24.0 Jean-Philippe Fortin
| malbec2 | Linux (Ubuntu 18.04.4 LTS) / x86_64 | OK | OK | OK | |||||||
| tokay2 | Windows Server 2012 R2 Standard / x64 | OK | OK | OK | [ OK ] | |||||||
| machv2 | macOS 10.14.6 Mojave / x86_64 | OK | OK | OK | OK |
| Package: shinyMethyl |
| Version: 1.24.0 |
| Command: rm -rf shinyMethyl.buildbin-libdir && mkdir shinyMethyl.buildbin-libdir && C:\Users\biocbuild\bbs-3.11-bioc\R\bin\R.exe CMD INSTALL --merge-multiarch --build --library=shinyMethyl.buildbin-libdir shinyMethyl_1.24.0.tar.gz |
| StartedAt: 2020-10-16 11:19:16 -0400 (Fri, 16 Oct 2020) |
| EndedAt: 2020-10-16 11:20:48 -0400 (Fri, 16 Oct 2020) |
| EllapsedTime: 91.8 seconds |
| RetCode: 0 |
| Status: OK |
| PackageFile: shinyMethyl_1.24.0.zip |
| PackageFileSize: 4.826 MiB |
##############################################################################
##############################################################################
###
### Running command:
###
### rm -rf shinyMethyl.buildbin-libdir && mkdir shinyMethyl.buildbin-libdir && C:\Users\biocbuild\bbs-3.11-bioc\R\bin\R.exe CMD INSTALL --merge-multiarch --build --library=shinyMethyl.buildbin-libdir shinyMethyl_1.24.0.tar.gz
###
##############################################################################
##############################################################################
install for i386
* installing *source* package 'shinyMethyl' ...
** using staged installation
** R
** inst
** byte-compile and prepare package for lazy loading
** help
*** installing help indices
converting help for package 'shinyMethyl'
finding HTML links ... done
runShinyMethyl html
shinyMethyl-package html
shinyMethylSet-class html
finding level-2 HTML links ... done
shinySummarize-methods html
** building package indices
** installing vignettes
** testing if installed package can be loaded from temporary location
** testing if installed package can be loaded from final location
** testing if installed package keeps a record of temporary installation path
install for x64
* installing *source* package 'shinyMethyl' ...
** testing if installed package can be loaded
* MD5 sums
packaged installation of 'shinyMethyl' as shinyMethyl_1.24.0.zip
* DONE (shinyMethyl)