| Back to Multiple platform build/check report for BioC 3.11 |
|
This page was generated on 2020-10-17 11:57:48 -0400 (Sat, 17 Oct 2020).
| TO THE DEVELOPERS/MAINTAINERS OF THE sesame PACKAGE: Please make sure to use the following settings in order to reproduce any error or warning you see on this page. |
| Package 1638/1905 | Hostname | OS / Arch | INSTALL | BUILD | CHECK | BUILD BIN | ||||||
| sesame 1.6.0 Wanding Zhou
| malbec2 | Linux (Ubuntu 18.04.4 LTS) / x86_64 | OK | OK | OK | |||||||
| tokay2 | Windows Server 2012 R2 Standard / x64 | OK | OK | [ OK ] | NA | |||||||
| machv2 | macOS 10.14.6 Mojave / x86_64 | OK | OK | OK | OK |
| Package: sesame |
| Version: 1.6.0 |
| Command: C:\Users\biocbuild\bbs-3.11-bioc\R\bin\R.exe CMD check --force-multiarch --install=check:sesame.install-out.txt --library=C:\Users\biocbuild\bbs-3.11-bioc\R\library --no-vignettes --timings sesame_1.6.0.tar.gz |
| StartedAt: 2020-10-17 08:13:57 -0400 (Sat, 17 Oct 2020) |
| EndedAt: 2020-10-17 08:38:28 -0400 (Sat, 17 Oct 2020) |
| EllapsedTime: 1471.2 seconds |
| RetCode: 0 |
| Status: OK |
| CheckDir: sesame.Rcheck |
| Warnings: 0 |
##############################################################################
##############################################################################
###
### Running command:
###
### C:\Users\biocbuild\bbs-3.11-bioc\R\bin\R.exe CMD check --force-multiarch --install=check:sesame.install-out.txt --library=C:\Users\biocbuild\bbs-3.11-bioc\R\library --no-vignettes --timings sesame_1.6.0.tar.gz
###
##############################################################################
##############################################################################
* using log directory 'C:/Users/biocbuild/bbs-3.11-bioc/meat/sesame.Rcheck'
* using R version 4.0.3 (2020-10-10)
* using platform: x86_64-w64-mingw32 (64-bit)
* using session charset: ISO8859-1
* using option '--no-vignettes'
* checking for file 'sesame/DESCRIPTION' ... OK
* checking extension type ... Package
* this is package 'sesame' version '1.6.0'
* package encoding: UTF-8
* checking package namespace information ... OK
* checking package dependencies ... OK
* checking if this is a source package ... OK
* checking if there is a namespace ... OK
* checking for hidden files and directories ... OK
* checking for portable file names ... OK
* checking whether package 'sesame' can be installed ... OK
* checking installed package size ... OK
* checking package directory ... OK
* checking 'build' directory ... OK
* checking DESCRIPTION meta-information ... OK
* checking top-level files ... OK
* checking for left-over files ... OK
* checking index information ... OK
* checking package subdirectories ... OK
* checking R files for non-ASCII characters ... OK
* checking R files for syntax errors ... OK
* loading checks for arch 'i386'
** checking whether the package can be loaded ... OK
** checking whether the package can be loaded with stated dependencies ... OK
** checking whether the package can be unloaded cleanly ... OK
** checking whether the namespace can be loaded with stated dependencies ... OK
** checking whether the namespace can be unloaded cleanly ... OK
* loading checks for arch 'x64'
** checking whether the package can be loaded ... OK
** checking whether the package can be loaded with stated dependencies ... OK
** checking whether the package can be unloaded cleanly ... OK
** checking whether the namespace can be loaded with stated dependencies ... OK
** checking whether the namespace can be unloaded cleanly ... OK
* checking dependencies in R code ... OK
* checking S3 generic/method consistency ... OK
* checking replacement functions ... OK
* checking foreign function calls ... OK
* checking R code for possible problems ... OK
* checking Rd files ... OK
* checking Rd metadata ... OK
* checking Rd cross-references ... OK
* checking for missing documentation entries ... OK
* checking for code/documentation mismatches ... OK
* checking Rd \usage sections ... OK
* checking Rd contents ... OK
* checking for unstated dependencies in examples ... OK
* checking files in 'vignettes' ... OK
* checking examples ...
** running examples for arch 'i386' ... OK
Examples with CPU (user + system) or elapsed time > 5s
user system elapsed
cnSegmentation 50.61 8.51 65.23
RGChannelSetToSigSets 30.00 3.37 36.84
dyeBiasCorrMostBalanced 18.52 0.09 24.24
as.data.frame.sesameQC 17.56 0.78 18.67
SigSetsToRGChannelSet 14.45 0.53 15.72
diffRefSet 11.67 0.10 55.47
DMR 11.33 0.31 12.50
print.sesameQC 10.58 0.18 10.75
SigSetToRatioSet 9.86 0.17 10.45
sesameQC 9.58 0.38 9.96
DML 7.39 1.38 9.50
SNPcheck 7.94 0.19 11.28
openSesame 4.23 0.99 5.25
topSegments 5.08 0.09 5.17
IG-methods 4.12 0.31 5.83
estimateLeukocyte 4.28 0.13 6.70
** running examples for arch 'x64' ... OK
Examples with CPU (user + system) or elapsed time > 5s
user system elapsed
cnSegmentation 52.76 1.32 54.15
RGChannelSetToSigSets 31.08 2.22 37.00
as.data.frame.sesameQC 16.80 0.51 17.32
dyeBiasCorrMostBalanced 14.75 0.44 15.18
diffRefSet 13.36 0.17 13.55
SigSetsToRGChannelSet 12.92 0.35 13.26
DMR 10.74 0.10 10.83
SigSetToRatioSet 10.21 0.26 10.47
sesameQC 8.50 0.34 8.86
SNPcheck 7.25 0.25 7.50
print.sesameQC 6.79 0.28 7.07
DML 5.32 0.86 6.19
getBetas 5.52 0.03 5.55
noobsb 4.81 0.31 5.12
* checking for unstated dependencies in 'tests' ... OK
* checking tests ...
** running tests for arch 'i386' ...
Running 'testthat.R'
OK
** running tests for arch 'x64' ...
Running 'testthat.R'
OK
* checking for unstated dependencies in vignettes ... OK
* checking package vignettes in 'inst/doc' ... OK
* checking running R code from vignettes ... SKIPPED
* checking re-building of vignette outputs ... SKIPPED
* checking PDF version of manual ... OK
* DONE
Status: OK
sesame.Rcheck/00install.out
##############################################################################
##############################################################################
###
### Running command:
###
### C:\cygwin\bin\curl.exe -O https://malbec2.bioconductor.org/BBS/3.11/bioc/src/contrib/sesame_1.6.0.tar.gz && rm -rf sesame.buildbin-libdir && mkdir sesame.buildbin-libdir && C:\Users\biocbuild\bbs-3.11-bioc\R\bin\R.exe CMD INSTALL --merge-multiarch --build --library=sesame.buildbin-libdir sesame_1.6.0.tar.gz && C:\Users\biocbuild\bbs-3.11-bioc\R\bin\R.exe CMD INSTALL sesame_1.6.0.zip && rm sesame_1.6.0.tar.gz sesame_1.6.0.zip
###
##############################################################################
##############################################################################
% Total % Received % Xferd Average Speed Time Time Time Current
Dload Upload Total Spent Left Speed
0 0 0 0 0 0 0 0 --:--:-- --:--:-- --:--:-- 0
100 104k 100 104k 0 0 1242k 0 --:--:-- --:--:-- --:--:-- 1343k
install for i386
* installing *source* package 'sesame' ...
** using staged installation
** R
** inst
** byte-compile and prepare package for lazy loading
** help
*** installing help indices
converting help for package 'sesame'
finding HTML links ... done
BetaValueToMValue html
DML html
DMR html
IG-methods html
IG-replace-methods html
II-methods html
II-replace-methods html
IR-methods html
IR-replace-methods html
MValueToBetaValue html
RGChannelSetToSigSets html
SNPcheck html
SigSet-class html
SigSetList-class html
SigSetList-methods html
SigSetList html
SigSetListFromIDATs html
SigSetListFromPath html
SigSetToRatioSet html
SigSetsToRGChannelSet html
as.data.frame.sesameQC html
binSignals html
bisConversionControl html
buildControlMatrix450k html
chipAddressToSignal html
cnSegmentation html
ctl-methods html
ctl-replace-methods html
detectionPfixedNorm html
detectionPnegEcdf html
detectionPnegNorm html
detectionPnegNormGS html
detectionPnegNormTotal html
detectionPoobEcdf html
detectionZero html
diffRefSet html
dyeBiasCorr html
dyeBiasCorrMostBalanced html
dyeBiasCorrTypeINorm html
estimateCellComposition html
estimateLeukocyte html
getAFTypeIbySumAlleles html
getBetas html
getBinCoordinates html
getNormCtls html
getProbesByGene html
getProbesByRegion html
getProbesByTSS html
getRefSet html
getSegment html
getSexInfo html
inferEthnicity html
inferSex html
inferSexKaryotypes html
inferTypeIChannel html
initFileSet html
makeExampleSeSAMeDataSet html
makeExampleTinyEPICDataSet html
mapFileSet html
meanIntensity html
noob html
noobsb html
oobG-methods html
oobG-replace-methods html
oobR-methods html
oobR-replace-methods html
openSesame html
openSesameToFile html
parseGEOSignalABFile html
predictAgeHorvath353 html
predictAgePheno html
predictAgeSkinBlood html
print.fileSet html
print.sesameQC html
probeNames-methods html
pval-methods html
pval-replace-methods html
readFileSet html
readIDATpair html
reopenSesame html
searchIDATprefixes html
segmentBins html
sesame-package html
sesameQC html
sesamize html
show-methods html
sliceFileSet html
subsetSignal html
topLoci html
topSegments html
totalIntensities html
totalIntensityZscore html
twoCompsEst2 html
visualizeGene html
visualizeProbes html
visualizeRegion html
visualizeSegments html
** building package indices
** installing vignettes
** testing if installed package can be loaded from temporary location
** testing if installed package can be loaded from final location
** testing if installed package keeps a record of temporary installation path
install for x64
* installing *source* package 'sesame' ...
** testing if installed package can be loaded
* MD5 sums
packaged installation of 'sesame' as sesame_1.6.0.zip
* DONE (sesame)
* installing to library 'C:/Users/biocbuild/bbs-3.11-bioc/R/library'
package 'sesame' successfully unpacked and MD5 sums checked
|
sesame.Rcheck/tests_i386/testthat.Rout
R version 4.0.3 (2020-10-10) -- "Bunny-Wunnies Freak Out"
Copyright (C) 2020 The R Foundation for Statistical Computing
Platform: i386-w64-mingw32/i386 (32-bit)
R is free software and comes with ABSOLUTELY NO WARRANTY.
You are welcome to redistribute it under certain conditions.
Type 'license()' or 'licence()' for distribution details.
R is a collaborative project with many contributors.
Type 'contributors()' for more information and
'citation()' on how to cite R or R packages in publications.
Type 'demo()' for some demos, 'help()' for on-line help, or
'help.start()' for an HTML browser interface to help.
Type 'q()' to quit R.
> library(testthat)
> library(sesame)
Loading required package: sesameData
Loading required package: ExperimentHub
Loading required package: BiocGenerics
Loading required package: parallel
Attaching package: 'BiocGenerics'
The following objects are masked from 'package:parallel':
clusterApply, clusterApplyLB, clusterCall, clusterEvalQ,
clusterExport, clusterMap, parApply, parCapply, parLapply,
parLapplyLB, parRapply, parSapply, parSapplyLB
The following objects are masked from 'package:stats':
IQR, mad, sd, var, xtabs
The following objects are masked from 'package:base':
Filter, Find, Map, Position, Reduce, anyDuplicated, append,
as.data.frame, basename, cbind, colnames, dirname, do.call,
duplicated, eval, evalq, get, grep, grepl, intersect, is.unsorted,
lapply, mapply, match, mget, order, paste, pmax, pmax.int, pmin,
pmin.int, rank, rbind, rownames, sapply, setdiff, sort, table,
tapply, union, unique, unsplit, which, which.max, which.min
Loading required package: AnnotationHub
Loading required package: BiocFileCache
Loading required package: dbplyr
Loading sesameData.
>
> test_check("sesame")
== testthat results ===========================================================
[ OK: 19 | SKIPPED: 0 | WARNINGS: 1 | FAILED: 0 ]
>
> proc.time()
user system elapsed
84.10 7.78 96.65
|
sesame.Rcheck/tests_x64/testthat.Rout
R version 4.0.3 (2020-10-10) -- "Bunny-Wunnies Freak Out"
Copyright (C) 2020 The R Foundation for Statistical Computing
Platform: x86_64-w64-mingw32/x64 (64-bit)
R is free software and comes with ABSOLUTELY NO WARRANTY.
You are welcome to redistribute it under certain conditions.
Type 'license()' or 'licence()' for distribution details.
R is a collaborative project with many contributors.
Type 'contributors()' for more information and
'citation()' on how to cite R or R packages in publications.
Type 'demo()' for some demos, 'help()' for on-line help, or
'help.start()' for an HTML browser interface to help.
Type 'q()' to quit R.
> library(testthat)
> library(sesame)
Loading required package: sesameData
Loading required package: ExperimentHub
Loading required package: BiocGenerics
Loading required package: parallel
Attaching package: 'BiocGenerics'
The following objects are masked from 'package:parallel':
clusterApply, clusterApplyLB, clusterCall, clusterEvalQ,
clusterExport, clusterMap, parApply, parCapply, parLapply,
parLapplyLB, parRapply, parSapply, parSapplyLB
The following objects are masked from 'package:stats':
IQR, mad, sd, var, xtabs
The following objects are masked from 'package:base':
Filter, Find, Map, Position, Reduce, anyDuplicated, append,
as.data.frame, basename, cbind, colnames, dirname, do.call,
duplicated, eval, evalq, get, grep, grepl, intersect, is.unsorted,
lapply, mapply, match, mget, order, paste, pmax, pmax.int, pmin,
pmin.int, rank, rbind, rownames, sapply, setdiff, sort, table,
tapply, union, unique, unsplit, which, which.max, which.min
Loading required package: AnnotationHub
Loading required package: BiocFileCache
Loading required package: dbplyr
Loading sesameData.
>
> test_check("sesame")
== testthat results ===========================================================
[ OK: 19 | SKIPPED: 0 | WARNINGS: 1 | FAILED: 0 ]
>
> proc.time()
user system elapsed
78.82 5.04 89.75
|
|
sesame.Rcheck/examples_i386/sesame-Ex.timings
|
sesame.Rcheck/examples_x64/sesame-Ex.timings
|