| Back to Multiple platform build/check report for BioC 3.11 |
|
This page was generated on 2020-10-17 11:57:48 -0400 (Sat, 17 Oct 2020).
| TO THE DEVELOPERS/MAINTAINERS OF THE seqLogo PACKAGE: Please make sure to use the following settings in order to reproduce any error or warning you see on this page. |
| Package 1631/1905 | Hostname | OS / Arch | INSTALL | BUILD | CHECK | BUILD BIN | ||||||
| seqLogo 1.54.3 Robert Ivanek
| malbec2 | Linux (Ubuntu 18.04.4 LTS) / x86_64 | OK | OK | OK | |||||||
| tokay2 | Windows Server 2012 R2 Standard / x64 | OK | OK | OK | [ OK ] | |||||||
| machv2 | macOS 10.14.6 Mojave / x86_64 | OK | OK | OK | OK |
| Package: seqLogo |
| Version: 1.54.3 |
| Command: rm -rf seqLogo.buildbin-libdir && mkdir seqLogo.buildbin-libdir && C:\Users\biocbuild\bbs-3.11-bioc\R\bin\R.exe CMD INSTALL --merge-multiarch --build --library=seqLogo.buildbin-libdir seqLogo_1.54.3.tar.gz |
| StartedAt: 2020-10-17 11:38:46 -0400 (Sat, 17 Oct 2020) |
| EndedAt: 2020-10-17 11:39:18 -0400 (Sat, 17 Oct 2020) |
| EllapsedTime: 32.3 seconds |
| RetCode: 0 |
| Status: OK |
| PackageFile: seqLogo_1.54.3.zip |
| PackageFileSize: 401.4 KiB |
##############################################################################
##############################################################################
###
### Running command:
###
### rm -rf seqLogo.buildbin-libdir && mkdir seqLogo.buildbin-libdir && C:\Users\biocbuild\bbs-3.11-bioc\R\bin\R.exe CMD INSTALL --merge-multiarch --build --library=seqLogo.buildbin-libdir seqLogo_1.54.3.tar.gz
###
##############################################################################
##############################################################################
install for i386
* installing *source* package 'seqLogo' ...
** using staged installation
** R
** inst
** byte-compile and prepare package for lazy loading
** help
*** installing help indices
converting help for package 'seqLogo'
finding HTML links ... done
makePWM html
pwm-class html
seqLogo html
** building package indices
** installing vignettes
** testing if installed package can be loaded from temporary location
** testing if installed package can be loaded from final location
** testing if installed package keeps a record of temporary installation path
install for x64
* installing *source* package 'seqLogo' ...
** testing if installed package can be loaded
* MD5 sums
packaged installation of 'seqLogo' as seqLogo_1.54.3.zip
* DONE (seqLogo)