| Back to Multiple platform build/check report for BioC 3.11 |
|
This page was generated on 2020-10-17 11:59:34 -0400 (Sat, 17 Oct 2020).
| TO THE DEVELOPERS/MAINTAINERS OF THE seq2pathway PACKAGE: Please make sure to use the following settings in order to reproduce any error or warning you see on this page. |
| Package 1624/1905 | Hostname | OS / Arch | INSTALL | BUILD | CHECK | BUILD BIN | ||||||
| seq2pathway 1.20.0 Xinan Yang
| malbec2 | Linux (Ubuntu 18.04.4 LTS) / x86_64 | OK | OK | WARNINGS | |||||||
| tokay2 | Windows Server 2012 R2 Standard / x64 | OK | ERROR | skipped | skipped | |||||||
| machv2 | macOS 10.14.6 Mojave / x86_64 | OK | [ OK ] | WARNINGS | OK |
| Package: seq2pathway |
| Version: 1.20.0 |
| Command: /Library/Frameworks/R.framework/Versions/Current/Resources/bin/R CMD build --keep-empty-dirs --no-resave-data seq2pathway |
| StartedAt: 2020-10-16 21:12:17 -0400 (Fri, 16 Oct 2020) |
| EndedAt: 2020-10-16 21:14:24 -0400 (Fri, 16 Oct 2020) |
| EllapsedTime: 127.0 seconds |
| RetCode: 0 |
| Status: OK |
| PackageFile: seq2pathway_1.20.0.tar.gz |
| PackageFileSize: 6.078 MiB |
##############################################################################
##############################################################################
###
### Running command:
###
### /Library/Frameworks/R.framework/Versions/Current/Resources/bin/R CMD build --keep-empty-dirs --no-resave-data seq2pathway
###
##############################################################################
##############################################################################
* checking for file ‘seq2pathway/DESCRIPTION’ ... OK
* preparing ‘seq2pathway’:
* checking DESCRIPTION meta-information ... OK
* installing the package to build vignettes
* creating vignettes ... OK
Warning: ‘inst/doc’ files
‘seq2pathwaypackage.Rnw’, ‘seq2pathwaypackage.pdf’, ‘seq2pathwaypackage.R’
ignored as vignettes have been rebuilt.
Run R CMD build with --no-build-vignettes to prevent rebuilding.
* excluding invalid files
Subdirectory 'R' contains invalid file names:
‘seq2pathway’ ‘seq2pathway.rdb’ ‘seq2pathway.rdx’
* checking for LF line-endings in source and make files and shell scripts
* checking for empty or unneeded directories
WARNING: Removing directory ‘seq2pathway/Meta’ which should only occur
in an installed package
WARNING: Removing directory ‘seq2pathway/help’ which should only occur
in an installed package
WARNING: Removing directory ‘seq2pathway/html’ which should only occur
in an installed package
* looking to see if a ‘data/datalist’ file should be added
* building ‘seq2pathway_1.20.0.tar.gz’