| Back to Multiple platform build/check report for BioC 3.11 |
|
This page was generated on 2020-10-17 11:59:31 -0400 (Sat, 17 Oct 2020).
| TO THE DEVELOPERS/MAINTAINERS OF THE scde PACKAGE: Please make sure to use the following settings in order to reproduce any error or warning you see on this page. |
| Package 1590/1905 | Hostname | OS / Arch | INSTALL | BUILD | CHECK | BUILD BIN | ||||||
| scde 2.16.0 Jean Fan
| malbec2 | Linux (Ubuntu 18.04.4 LTS) / x86_64 | OK | OK | WARNINGS | |||||||
| tokay2 | Windows Server 2012 R2 Standard / x64 | OK | OK | WARNINGS | OK | |||||||
| machv2 | macOS 10.14.6 Mojave / x86_64 | OK | OK | WARNINGS | [ OK ] |
| Package: scde |
| Version: 2.16.0 |
| Command: rm -rf scde.buildbin-libdir && mkdir scde.buildbin-libdir && /Users/biocbuild/BBS/utils/build-universal.sh scde_2.16.0.tar.gz /Library/Frameworks/R.framework/Versions/Current/Resources/bin/R scde.buildbin-libdir |
| StartedAt: 2020-10-17 07:55:47 -0400 (Sat, 17 Oct 2020) |
| EndedAt: 2020-10-17 07:57:11 -0400 (Sat, 17 Oct 2020) |
| EllapsedTime: 84.0 seconds |
| RetCode: 0 |
| Status: OK |
| PackageFile: scde_2.16.0.tgz |
| PackageFileSize: 2.218 MiB |
##############################################################################
##############################################################################
###
### Running command:
###
### rm -rf scde.buildbin-libdir && mkdir scde.buildbin-libdir && /Users/biocbuild/BBS/utils/build-universal.sh scde_2.16.0.tar.gz /Library/Frameworks/R.framework/Versions/Current/Resources/bin/R scde.buildbin-libdir
###
##############################################################################
##############################################################################
>>>>>>>
>>>>>>> INSTALLATION WITH 'R CMD INSTALL --preclean --no-multiarch --library=scde.buildbin-libdir scde_2.16.0.tar.gz'
>>>>>>>
* installing *source* package ‘scde’ ...
** using staged installation
** libs
clang++ -mmacosx-version-min=10.13 -std=gnu++11 -I"/Library/Frameworks/R.framework/Resources/include" -DNDEBUG -I'/Library/Frameworks/R.framework/Versions/4.0/Resources/library/Rcpp/include' -I'/Library/Frameworks/R.framework/Versions/4.0/Resources/library/RcppArmadillo/include' -I/usr/local/include -fPIC -Wall -g -O2 -c bwpca.cpp -o bwpca.o
bwpca.cpp:105:11: warning: explicitly assigning value of variable of type 'arma::mat' (aka 'Mat<double>') to itself [-Wself-assign-overloaded]
totvm %=totvm;
~~~~~ ^ ~~~~~
bwpca.cpp:122:15: warning: explicitly assigning value of variable of type 'arma::mat' (aka 'Mat<double>') to itself [-Wself-assign-overloaded]
delta %=delta;
~~~~~ ^ ~~~~~
bwpca.cpp:147:19: warning: explicitly assigning value of variable of type 'arma::mat' (aka 'Mat<double>') to itself [-Wself-assign-overloaded]
delta %=delta;
~~~~~ ^ ~~~~~
bwpca.cpp:271:19: warning: explicitly assigning value of variable of type 'arma::mat' (aka 'Mat<double>') to itself [-Wself-assign-overloaded]
delta %=delta;
~~~~~ ^ ~~~~~
4 warnings generated.
clang++ -mmacosx-version-min=10.13 -std=gnu++11 -I"/Library/Frameworks/R.framework/Resources/include" -DNDEBUG -I'/Library/Frameworks/R.framework/Versions/4.0/Resources/library/Rcpp/include' -I'/Library/Frameworks/R.framework/Versions/4.0/Resources/library/RcppArmadillo/include' -I/usr/local/include -fPIC -Wall -g -O2 -c jpmatLogBoot.cpp -o jpmatLogBoot.o
jpmatLogBoot.cpp:200:24: warning: unused variable 'maxv' [-Wunused-variable]
double maxv=nbp.max(maxij);
^
jpmatLogBoot.cpp:443:10: warning: unused variable 'maxv' [-Wunused-variable]
double maxv=nbp.max(maxij);
^
2 warnings generated.
clang++ -mmacosx-version-min=10.13 -std=gnu++11 -I"/Library/Frameworks/R.framework/Resources/include" -DNDEBUG -I'/Library/Frameworks/R.framework/Versions/4.0/Resources/library/Rcpp/include' -I'/Library/Frameworks/R.framework/Versions/4.0/Resources/library/RcppArmadillo/include' -I/usr/local/include -fPIC -Wall -g -O2 -c matSlideMult.cpp -o matSlideMult.o
clang++ -mmacosx-version-min=10.13 -std=gnu++11 -I"/Library/Frameworks/R.framework/Resources/include" -DNDEBUG -I'/Library/Frameworks/R.framework/Versions/4.0/Resources/library/Rcpp/include' -I'/Library/Frameworks/R.framework/Versions/4.0/Resources/library/RcppArmadillo/include' -I/usr/local/include -fPIC -Wall -g -O2 -c pagoda.cpp -o pagoda.o
pagoda.cpp:56:15: warning: explicitly assigning value of variable of type 'arma::colvec' (aka 'Col<double>') to itself [-Wself-assign-overloaded]
ic%=ic; jc%=jc;
~~^ ~~
pagoda.cpp:56:23: warning: explicitly assigning value of variable of type 'arma::colvec' (aka 'Col<double>') to itself [-Wself-assign-overloaded]
ic%=ic; jc%=jc;
~~^ ~~
2 warnings generated.
clang++ -mmacosx-version-min=10.13 -std=gnu++11 -dynamiclib -Wl,-headerpad_max_install_names -undefined dynamic_lookup -single_module -multiply_defined suppress -L/Library/Frameworks/R.framework/Resources/lib -L/usr/local/lib -o scde.so bwpca.o jpmatLogBoot.o matSlideMult.o pagoda.o -L/Library/Frameworks/R.framework/Resources/lib -lRlapack -L/Library/Frameworks/R.framework/Resources/lib -lRblas -L/usr/local/gfortran/lib/gcc/x86_64-apple-darwin18/8.2.0 -L/usr/local/gfortran/lib -lgfortran -lquadmath -lm -F/Library/Frameworks/R.framework/.. -framework R -Wl,-framework -Wl,CoreFoundation
installing to /Users/biocbuild/bbs-3.11-bioc/meat/scde.buildbin-libdir/00LOCK-scde/00new/scde/libs
** R
** data
*** moving datasets to lazyload DB
** byte-compile and prepare package for lazy loading
** help
*** installing help indices
** building package indices
** installing vignettes
** testing if installed package can be loaded from temporary location
** checking absolute paths in shared objects and dynamic libraries
** testing if installed package can be loaded from final location
** testing if installed package keeps a record of temporary installation path
* DONE (scde)
>>>>>>>
>>>>>>> FIXING LINKS FOR scde.buildbin-libdir/scde/libs/scde.so
>>>>>>>
install_name_tool -change "/usr/local/lib/libgcc_s.1.dylib" "/Library/Frameworks/R.framework/Versions/4.0/Resources/lib/libgcc_s.1.dylib" "scde.buildbin-libdir/scde/libs/scde.so"
install_name_tool -change "/usr/local/lib/libgfortran.5.dylib" "/Library/Frameworks/R.framework/Versions/4.0/Resources/lib/libgfortran.5.dylib" "scde.buildbin-libdir/scde/libs/scde.so"
install_name_tool -change "/usr/local/lib/libquadmath.0.dylib" "/Library/Frameworks/R.framework/Versions/4.0/Resources/lib/libquadmath.0.dylib" "scde.buildbin-libdir/scde/libs/scde.so"
install_name_tool -change "/usr/local/gfortran/lib/libgfortran.5.dylib" "/Library/Frameworks/R.framework/Versions/4.0/Resources/lib/libgfortran.5.dylib" "scde.buildbin-libdir/scde/libs/scde.so"
install_name_tool -change "/usr/local/gfortran/lib/libquadmath.0.dylib" "/Library/Frameworks/R.framework/Versions/4.0/Resources/lib/libquadmath.0.dylib" "scde.buildbin-libdir/scde/libs/scde.so"