| Back to Multiple platform build/check report for BioC 3.11 |
|
This page was generated on 2020-10-17 11:55:40 -0400 (Sat, 17 Oct 2020).
| TO THE DEVELOPERS/MAINTAINERS OF THE scater PACKAGE: Please make sure to use the following settings in order to reproduce any error or warning you see on this page. |
| Package 1584/1905 | Hostname | OS / Arch | INSTALL | BUILD | CHECK | BUILD BIN | ||||||
| scater 1.16.2 Davis McCarthy
| malbec2 | Linux (Ubuntu 18.04.4 LTS) / x86_64 | OK | OK | [ OK ] | |||||||
| tokay2 | Windows Server 2012 R2 Standard / x64 | OK | OK | WARNINGS | OK | |||||||
| machv2 | macOS 10.14.6 Mojave / x86_64 | OK | OK | OK | OK |
| Package: scater |
| Version: 1.16.2 |
| Command: /home/biocbuild/bbs-3.11-bioc/R/bin/R CMD check --install=check:scater.install-out.txt --library=/home/biocbuild/bbs-3.11-bioc/R/library --no-vignettes --timings scater_1.16.2.tar.gz |
| StartedAt: 2020-10-17 05:10:18 -0400 (Sat, 17 Oct 2020) |
| EndedAt: 2020-10-17 05:20:39 -0400 (Sat, 17 Oct 2020) |
| EllapsedTime: 621.0 seconds |
| RetCode: 0 |
| Status: OK |
| CheckDir: scater.Rcheck |
| Warnings: 0 |
##############################################################################
##############################################################################
###
### Running command:
###
### /home/biocbuild/bbs-3.11-bioc/R/bin/R CMD check --install=check:scater.install-out.txt --library=/home/biocbuild/bbs-3.11-bioc/R/library --no-vignettes --timings scater_1.16.2.tar.gz
###
##############################################################################
##############################################################################
* using log directory ‘/home/biocbuild/bbs-3.11-bioc/meat/scater.Rcheck’
* using R version 4.0.3 (2020-10-10)
* using platform: x86_64-pc-linux-gnu (64-bit)
* using session charset: UTF-8
* using option ‘--no-vignettes’
* checking for file ‘scater/DESCRIPTION’ ... OK
* checking extension type ... Package
* this is package ‘scater’ version ‘1.16.2’
* checking package namespace information ... OK
* checking package dependencies ... OK
* checking if this is a source package ... OK
* checking if there is a namespace ... OK
* checking for hidden files and directories ... OK
* checking for portable file names ... OK
* checking for sufficient/correct file permissions ... OK
* checking whether package ‘scater’ can be installed ... OK
* checking installed package size ... NOTE
installed size is 7.6Mb
sub-directories of 1Mb or more:
libs 5.9Mb
* checking package directory ... OK
* checking ‘build’ directory ... OK
* checking DESCRIPTION meta-information ... OK
* checking top-level files ... OK
* checking for left-over files ... OK
* checking index information ... OK
* checking package subdirectories ... OK
* checking R files for non-ASCII characters ... OK
* checking R files for syntax errors ... OK
* checking whether the package can be loaded ... OK
* checking whether the package can be loaded with stated dependencies ... OK
* checking whether the package can be unloaded cleanly ... OK
* checking whether the namespace can be loaded with stated dependencies ... OK
* checking whether the namespace can be unloaded cleanly ... OK
* checking dependencies in R code ... NOTE
'library' or 'require' call to ‘NMF’ in package code.
Please use :: or requireNamespace() instead.
See section 'Suggested packages' in the 'Writing R Extensions' manual.
* checking S3 generic/method consistency ... OK
* checking replacement functions ... OK
* checking foreign function calls ... OK
* checking R code for possible problems ... OK
* checking Rd files ... OK
* checking Rd metadata ... OK
* checking Rd cross-references ... OK
* checking for missing documentation entries ... OK
* checking for code/documentation mismatches ... OK
* checking Rd \usage sections ... OK
* checking Rd contents ... OK
* checking for unstated dependencies in examples ... OK
* checking line endings in C/C++/Fortran sources/headers ... OK
* checking compiled code ... NOTE
Note: information on .o files is not available
* checking files in ‘vignettes’ ... OK
* checking examples ... OK
Examples with CPU (user + system) or elapsed time > 5s
user system elapsed
runNMF 14.374 0.368 15.066
plot_reddim 7.519 0.032 7.742
plotRLE 5.653 0.076 5.729
plotExpression 5.499 0.015 5.702
runMultiUMAP 4.793 0.000 5.008
* checking for unstated dependencies in ‘tests’ ... OK
* checking tests ...
Running ‘testthat.R’
OK
* checking for unstated dependencies in vignettes ... OK
* checking package vignettes in ‘inst/doc’ ... OK
* checking running R code from vignettes ... SKIPPED
* checking re-building of vignette outputs ... SKIPPED
* checking PDF version of manual ... OK
* DONE
Status: 3 NOTEs
See
‘/home/biocbuild/bbs-3.11-bioc/meat/scater.Rcheck/00check.log’
for details.
scater.Rcheck/00install.out
##############################################################################
##############################################################################
###
### Running command:
###
### /home/biocbuild/bbs-3.11-bioc/R/bin/R CMD INSTALL scater
###
##############################################################################
##############################################################################
* installing to library ‘/home/biocbuild/bbs-3.11-bioc/R/library’
* installing *source* package ‘scater’ ...
** using staged installation
** libs
g++ -std=gnu++11 -I"/home/biocbuild/bbs-3.11-bioc/R/include" -DNDEBUG -I'/home/biocbuild/bbs-3.11-bioc/R/library/Rcpp/include' -I'/home/biocbuild/bbs-3.11-bioc/R/library/beachmat/include' -I/usr/local/include -fpic -g -O2 -Wall -c RcppExports.cpp -o RcppExports.o
g++ -std=gnu++11 -I"/home/biocbuild/bbs-3.11-bioc/R/include" -DNDEBUG -I'/home/biocbuild/bbs-3.11-bioc/R/library/Rcpp/include' -I'/home/biocbuild/bbs-3.11-bioc/R/library/beachmat/include' -I/usr/local/include -fpic -g -O2 -Wall -c combined_qc.cpp -o combined_qc.o
combined_qc.cpp: In function ‘void check_topset(const IntegerVector&)’:
combined_qc.cpp:14:23: warning: comparison between signed and unsigned integer expressions [-Wsign-compare]
for (size_t t=1; t<top.size(); ++t) {
~^~~~~~~~~~~
g++ -std=gnu++11 -I"/home/biocbuild/bbs-3.11-bioc/R/include" -DNDEBUG -I'/home/biocbuild/bbs-3.11-bioc/R/library/Rcpp/include' -I'/home/biocbuild/bbs-3.11-bioc/R/library/beachmat/include' -I/usr/local/include -fpic -g -O2 -Wall -c sum_counts.cpp -o sum_counts.o
g++ -std=gnu++11 -I"/home/biocbuild/bbs-3.11-bioc/R/include" -DNDEBUG -I'/home/biocbuild/bbs-3.11-bioc/R/library/Rcpp/include' -I'/home/biocbuild/bbs-3.11-bioc/R/library/beachmat/include' -I/usr/local/include -fpic -g -O2 -Wall -c utils.cpp -o utils.o
g++ -std=gnu++11 -shared -L/home/biocbuild/bbs-3.11-bioc/R/lib -L/usr/local/lib -o scater.so RcppExports.o combined_qc.o sum_counts.o utils.o -L/home/biocbuild/bbs-3.11-bioc/R/lib -lR
installing to /home/biocbuild/bbs-3.11-bioc/R/library/00LOCK-scater/00new/scater/libs
** R
** inst
** byte-compile and prepare package for lazy loading
** help
*** installing help indices
** building package indices
** installing vignettes
** testing if installed package can be loaded from temporary location
** checking absolute paths in shared objects and dynamic libraries
** testing if installed package can be loaded from final location
** testing if installed package keeps a record of temporary installation path
* DONE (scater)
scater.Rcheck/tests/testthat.Rout
R version 4.0.3 (2020-10-10) -- "Bunny-Wunnies Freak Out"
Copyright (C) 2020 The R Foundation for Statistical Computing
Platform: x86_64-pc-linux-gnu (64-bit)
R is free software and comes with ABSOLUTELY NO WARRANTY.
You are welcome to redistribute it under certain conditions.
Type 'license()' or 'licence()' for distribution details.
R is a collaborative project with many contributors.
Type 'contributors()' for more information and
'citation()' on how to cite R or R packages in publications.
Type 'demo()' for some demos, 'help()' for on-line help, or
'help.start()' for an HTML browser interface to help.
Type 'q()' to quit R.
> Sys.setenv("R_TESTS" = "")
> library(testthat)
> library(scater)
Loading required package: SingleCellExperiment
Loading required package: SummarizedExperiment
Loading required package: GenomicRanges
Loading required package: stats4
Loading required package: BiocGenerics
Loading required package: parallel
Attaching package: 'BiocGenerics'
The following objects are masked from 'package:parallel':
clusterApply, clusterApplyLB, clusterCall, clusterEvalQ,
clusterExport, clusterMap, parApply, parCapply, parLapply,
parLapplyLB, parRapply, parSapply, parSapplyLB
The following objects are masked from 'package:stats':
IQR, mad, sd, var, xtabs
The following objects are masked from 'package:base':
Filter, Find, Map, Position, Reduce, anyDuplicated, append,
as.data.frame, basename, cbind, colnames, dirname, do.call,
duplicated, eval, evalq, get, grep, grepl, intersect, is.unsorted,
lapply, mapply, match, mget, order, paste, pmax, pmax.int, pmin,
pmin.int, rank, rbind, rownames, sapply, setdiff, sort, table,
tapply, union, unique, unsplit, which, which.max, which.min
Loading required package: S4Vectors
Attaching package: 'S4Vectors'
The following object is masked from 'package:base':
expand.grid
Loading required package: IRanges
Loading required package: GenomeInfoDb
Loading required package: Biobase
Welcome to Bioconductor
Vignettes contain introductory material; view with
'browseVignettes()'. To cite Bioconductor, see
'citation("Biobase")', and for packages 'citation("pkgname")'.
Loading required package: DelayedArray
Loading required package: matrixStats
Attaching package: 'matrixStats'
The following objects are masked from 'package:Biobase':
anyMissing, rowMedians
Attaching package: 'DelayedArray'
The following objects are masked from 'package:matrixStats':
colMaxs, colMins, colRanges, rowMaxs, rowMins, rowRanges
The following objects are masked from 'package:base':
aperm, apply, rowsum
Loading required package: ggplot2
>
> test_check("scater")
══ testthat results ═══════════════════════════════════════════════════════════
[ OK: 1815 | SKIPPED: 0 | WARNINGS: 11 | FAILED: 0 ]
>
> proc.time()
user system elapsed
326.088 4.454 333.766
scater.Rcheck/scater-Ex.timings
| name | user | system | elapsed | |
| accessors | 1.675 | 0.064 | 1.740 | |
| addPerCellQC | 1.215 | 0.016 | 1.277 | |
| annotateBMFeatures | 0.001 | 0.001 | 0.000 | |
| bootstraps | 0.242 | 0.023 | 0.266 | |
| calculateAverage | 0.280 | 0.016 | 0.297 | |
| calculateCPM | 0.317 | 0.011 | 0.330 | |
| calculateFPKM | 0.264 | 0.000 | 0.264 | |
| calculateTPM | 0.249 | 0.001 | 0.249 | |
| defunct | 0.001 | 0.000 | 0.000 | |
| getExplanatoryPCs | 0.651 | 0.000 | 0.651 | |
| getVarianceExplained | 0.400 | 0.003 | 0.405 | |
| ggsce | 3.320 | 0.016 | 3.429 | |
| isOutlier | 0.504 | 0.004 | 0.509 | |
| librarySizeFactors | 0.266 | 0.008 | 0.274 | |
| logNormCounts | 0.325 | 0.008 | 0.333 | |
| makePerCellDF | 0.666 | 0.004 | 0.671 | |
| makePerFeatureDF | 0.497 | 0.000 | 0.498 | |
| medianSizeFactors | 0.369 | 0.000 | 0.446 | |
| mockSCE | 0.326 | 0.000 | 0.392 | |
| multiplot | 1.762 | 0.000 | 1.841 | |
| nexprs | 0.36 | 0.00 | 0.36 | |
| normalizeCounts | 0.345 | 0.000 | 0.345 | |
| numDetectedAcrossCells | 1.327 | 0.004 | 1.331 | |
| numDetectedAcrossFeatures | 0.262 | 0.000 | 0.277 | |
| perCellQCMetrics | 1.217 | 0.000 | 1.216 | |
| perFeatureQCMetrics | 0.407 | 0.004 | 0.411 | |
| plotColData | 1.654 | 0.000 | 1.654 | |
| plotDots | 0.626 | 0.000 | 0.627 | |
| plotExplanatoryPCs | 1.133 | 0.000 | 1.133 | |
| plotExplanatoryVariables | 0.993 | 0.008 | 1.010 | |
| plotExpression | 5.499 | 0.015 | 5.702 | |
| plotHeatmap | 0.914 | 0.012 | 0.926 | |
| plotHighestExprs | 1.065 | 0.020 | 1.084 | |
| plotPlatePosition | 1.312 | 0.000 | 1.312 | |
| plotRLE | 5.653 | 0.076 | 5.729 | |
| plotReducedDim | 3.269 | 0.004 | 3.286 | |
| plotRowData | 0.836 | 0.000 | 0.859 | |
| plotScater | 4.836 | 0.007 | 4.911 | |
| plot_reddim | 7.519 | 0.032 | 7.742 | |
| quickPerCellQC | 0.853 | 0.000 | 1.022 | |
| readSparseCounts | 0.025 | 0.000 | 0.025 | |
| retrieveCellInfo | 0.530 | 0.005 | 0.536 | |
| retrieveFeatureInfo | 0.608 | 0.017 | 0.624 | |
| runColDataPCA | 0.951 | 0.000 | 0.995 | |
| runDiffusionMap | 0.866 | 0.007 | 0.946 | |
| runMDS | 0.698 | 0.000 | 0.699 | |
| runMultiUMAP | 4.793 | 0.000 | 5.008 | |
| runNMF | 14.374 | 0.368 | 15.066 | |
| runPCA | 1.302 | 0.000 | 1.302 | |
| runTSNE | 1.258 | 0.004 | 1.430 | |
| runUMAP | 4.009 | 0.016 | 4.092 | |
| sumCountsAcrossCells | 1.244 | 0.000 | 1.244 | |
| sumCountsAcrossFeatures | 0.369 | 0.004 | 0.373 | |
| toSingleCellExperiment | 0 | 0 | 0 | |
| uniquifyFeatureNames | 0 | 0 | 0 | |