| Back to Multiple platform build/check report for BioC 3.11 |
|
This page was generated on 2020-10-16 11:58:49 -0400 (Fri, 16 Oct 2020).
| TO THE DEVELOPERS/MAINTAINERS OF THE scTensor PACKAGE: Please make sure to use the following settings in order to reproduce any error or warning you see on this page. |
| Package 1614/1905 | Hostname | OS / Arch | INSTALL | BUILD | CHECK | BUILD BIN | ||||||
| scTensor 1.4.3 Koki Tsuyuzaki
| malbec2 | Linux (Ubuntu 18.04.4 LTS) / x86_64 | OK | OK | OK | |||||||
| tokay2 | Windows Server 2012 R2 Standard / x64 | OK | OK | OK | [ OK ] | |||||||
| machv2 | macOS 10.14.6 Mojave / x86_64 | OK | OK | OK | OK |
| Package: scTensor |
| Version: 1.4.3 |
| Command: rm -rf scTensor.buildbin-libdir && mkdir scTensor.buildbin-libdir && C:\Users\biocbuild\bbs-3.11-bioc\R\bin\R.exe CMD INSTALL --merge-multiarch --build --library=scTensor.buildbin-libdir scTensor_1.4.3.tar.gz |
| StartedAt: 2020-10-16 11:17:09 -0400 (Fri, 16 Oct 2020) |
| EndedAt: 2020-10-16 11:20:20 -0400 (Fri, 16 Oct 2020) |
| EllapsedTime: 190.5 seconds |
| RetCode: 0 |
| Status: OK |
| PackageFile: scTensor_1.4.3.zip |
| PackageFileSize: 5.764 MiB |
##############################################################################
##############################################################################
###
### Running command:
###
### rm -rf scTensor.buildbin-libdir && mkdir scTensor.buildbin-libdir && C:\Users\biocbuild\bbs-3.11-bioc\R\bin\R.exe CMD INSTALL --merge-multiarch --build --library=scTensor.buildbin-libdir scTensor_1.4.3.tar.gz
###
##############################################################################
##############################################################################
install for i386
* installing *source* package 'scTensor' ...
** using staged installation
** R
** data
** inst
** byte-compile and prepare package for lazy loading
Creating a new generic function for 'show' in package 'scTensor'
** help
*** installing help indices
converting help for package 'scTensor'
finding HTML links ... done
CCSParams-class html
GermMale html
cellCellDecomp html
cellCellRanks html
cellCellReport html
cellCellSetting html
cellCellSimulate html
convertToNCBIGeneID html
getParam html
labelGermMale html
m html
newCCSParams html
scTensor-package html
setParam html
tsneGermMale html
v html
** building package indices
** installing vignettes
** testing if installed package can be loaded from temporary location
** testing if installed package can be loaded from final location
** testing if installed package keeps a record of temporary installation path
install for x64
* installing *source* package 'scTensor' ...
** testing if installed package can be loaded
* MD5 sums
packaged installation of 'scTensor' as scTensor_1.4.3.zip
* DONE (scTensor)