| Back to Multiple platform build/check report for BioC 3.11 |
|
This page was generated on 2020-10-17 11:59:32 -0400 (Sat, 17 Oct 2020).
| TO THE DEVELOPERS/MAINTAINERS OF THE scGPS PACKAGE: Please make sure to use the following settings in order to reproduce any error or warning you see on this page. |
| Package 1594/1905 | Hostname | OS / Arch | INSTALL | BUILD | CHECK | BUILD BIN | ||||||
| scGPS 1.2.0 Quan Nguyen
| malbec2 | Linux (Ubuntu 18.04.4 LTS) / x86_64 | OK | OK | OK | |||||||
| tokay2 | Windows Server 2012 R2 Standard / x64 | OK | OK | OK | OK | |||||||
| machv2 | macOS 10.14.6 Mojave / x86_64 | OK | OK | [ OK ] | OK |
| Package: scGPS |
| Version: 1.2.0 |
| Command: /Library/Frameworks/R.framework/Versions/Current/Resources/bin/R CMD check --install=check:scGPS.install-out.txt --library=/Library/Frameworks/R.framework/Versions/Current/Resources/library --no-vignettes --timings scGPS_1.2.0.tar.gz |
| StartedAt: 2020-10-17 05:03:18 -0400 (Sat, 17 Oct 2020) |
| EndedAt: 2020-10-17 05:11:13 -0400 (Sat, 17 Oct 2020) |
| EllapsedTime: 475.2 seconds |
| RetCode: 0 |
| Status: OK |
| CheckDir: scGPS.Rcheck |
| Warnings: 0 |
##############################################################################
##############################################################################
###
### Running command:
###
### /Library/Frameworks/R.framework/Versions/Current/Resources/bin/R CMD check --install=check:scGPS.install-out.txt --library=/Library/Frameworks/R.framework/Versions/Current/Resources/library --no-vignettes --timings scGPS_1.2.0.tar.gz
###
##############################################################################
##############################################################################
* using log directory ‘/Users/biocbuild/bbs-3.11-bioc/meat/scGPS.Rcheck’
* using R version 4.0.3 (2020-10-10)
* using platform: x86_64-apple-darwin17.0 (64-bit)
* using session charset: UTF-8
* using option ‘--no-vignettes’
* checking for file ‘scGPS/DESCRIPTION’ ... OK
* checking extension type ... Package
* this is package ‘scGPS’ version ‘1.2.0’
* package encoding: UTF-8
* checking package namespace information ... OK
* checking package dependencies ... OK
* checking if this is a source package ... OK
* checking if there is a namespace ... OK
* checking for hidden files and directories ... OK
* checking for portable file names ... OK
* checking for sufficient/correct file permissions ... OK
* checking whether package ‘scGPS’ can be installed ... OK
* checking installed package size ... OK
* checking package directory ... OK
* checking ‘build’ directory ... OK
* checking DESCRIPTION meta-information ... OK
* checking top-level files ... OK
* checking for left-over files ... OK
* checking index information ... OK
* checking package subdirectories ... OK
* checking R files for non-ASCII characters ... OK
* checking R files for syntax errors ... OK
* checking whether the package can be loaded ... OK
* checking whether the package can be loaded with stated dependencies ... OK
* checking whether the package can be unloaded cleanly ... OK
* checking whether the namespace can be loaded with stated dependencies ... OK
* checking whether the namespace can be unloaded cleanly ... OK
* checking dependencies in R code ... OK
* checking S3 generic/method consistency ... OK
* checking replacement functions ... OK
* checking foreign function calls ... OK
* checking R code for possible problems ... NOTE
plot_reduced: no visible binding for global variable ‘..count..’
Undefined global functions or variables:
..count..
* checking Rd files ... OK
* checking Rd metadata ... OK
* checking Rd cross-references ... OK
* checking for missing documentation entries ... OK
* checking for code/documentation mismatches ... OK
* checking Rd \usage sections ... OK
* checking Rd contents ... OK
* checking for unstated dependencies in examples ... OK
* checking contents of ‘data’ directory ... OK
* checking data for non-ASCII characters ... OK
* checking data for ASCII and uncompressed saves ... OK
* checking line endings in C/C++/Fortran sources/headers ... OK
* checking line endings in Makefiles ... OK
* checking compilation flags in Makevars ... OK
* checking for GNU extensions in Makefiles ... OK
* checking for portable use of $(BLAS_LIBS) and $(LAPACK_LIBS) ... OK
* checking use of PKG_*FLAGS in Makefiles ... OK
* checking compiled code ... NOTE
Note: information on .o files is not available
* checking files in ‘vignettes’ ... OK
* checking examples ... OK
Examples with CPU (user + system) or elapsed time > 5s
user system elapsed
CORE_bagging 19.461 0.205 15.126
annotate_clusters 17.904 1.119 19.335
clustering_bagging 18.796 0.113 13.462
clustering 12.290 0.226 6.601
plot_optimal_CORE 12.209 0.101 7.250
CORE_clustering 11.220 0.125 6.265
CORE_subcluster 11.203 0.069 5.823
rand_index 11.110 0.089 5.904
plot_CORE 11.053 0.133 5.741
find_stability 10.895 0.059 5.532
find_optimal_stability 10.487 0.080 5.065
plot_reduced 8.906 0.049 8.963
tSNE 8.589 0.038 9.031
summary_deviance 7.763 0.092 8.267
reformat_LASSO 6.845 0.110 7.194
find_markers 5.677 0.276 5.967
PCA 5.735 0.142 5.898
* checking for unstated dependencies in ‘tests’ ... OK
* checking tests ...
Running ‘testthat.R’
OK
* checking for unstated dependencies in vignettes ... OK
* checking package vignettes in ‘inst/doc’ ... OK
* checking running R code from vignettes ... SKIPPED
* checking re-building of vignette outputs ... SKIPPED
* checking PDF version of manual ... OK
* DONE
Status: 2 NOTEs
See
‘/Users/biocbuild/bbs-3.11-bioc/meat/scGPS.Rcheck/00check.log’
for details.
scGPS.Rcheck/00install.out
############################################################################## ############################################################################## ### ### Running command: ### ### /Library/Frameworks/R.framework/Versions/Current/Resources/bin/R CMD INSTALL scGPS ### ############################################################################## ############################################################################## * installing to library ‘/Library/Frameworks/R.framework/Versions/4.0/Resources/library’ * installing *source* package ‘scGPS’ ... ** using staged installation ** libs clang++ -mmacosx-version-min=10.13 -std=gnu++11 -I"/Library/Frameworks/R.framework/Resources/include" -DNDEBUG -I'/Library/Frameworks/R.framework/Versions/4.0/Resources/library/Rcpp/include' -I'/Library/Frameworks/R.framework/Versions/4.0/Resources/library/RcppArmadillo/include' -I'/Library/Frameworks/R.framework/Versions/4.0/Resources/library/RcppParallel/include' -I/usr/local/include -fPIC -Wall -g -O2 -c RcppExports.cpp -o RcppExports.o clang++ -mmacosx-version-min=10.13 -std=gnu++11 -I"/Library/Frameworks/R.framework/Resources/include" -DNDEBUG -I'/Library/Frameworks/R.framework/Versions/4.0/Resources/library/Rcpp/include' -I'/Library/Frameworks/R.framework/Versions/4.0/Resources/library/RcppArmadillo/include' -I'/Library/Frameworks/R.framework/Versions/4.0/Resources/library/RcppParallel/include' -I/usr/local/include -fPIC -Wall -g -O2 -c dist_mat_cpp.cpp -o dist_mat_cpp.o clang++ -mmacosx-version-min=10.13 -std=gnu++11 -I"/Library/Frameworks/R.framework/Resources/include" -DNDEBUG -I'/Library/Frameworks/R.framework/Versions/4.0/Resources/library/Rcpp/include' -I'/Library/Frameworks/R.framework/Versions/4.0/Resources/library/RcppArmadillo/include' -I'/Library/Frameworks/R.framework/Versions/4.0/Resources/library/RcppParallel/include' -I/usr/local/include -fPIC -Wall -g -O2 -c dist_parallel_cpp.cpp -o dist_parallel_cpp.o clang++ -mmacosx-version-min=10.13 -std=gnu++11 -I"/Library/Frameworks/R.framework/Resources/include" -DNDEBUG -I'/Library/Frameworks/R.framework/Versions/4.0/Resources/library/Rcpp/include' -I'/Library/Frameworks/R.framework/Versions/4.0/Resources/library/RcppArmadillo/include' -I'/Library/Frameworks/R.framework/Versions/4.0/Resources/library/RcppParallel/include' -I/usr/local/include -fPIC -Wall -g -O2 -c utils_rcpp.cpp -o utils_rcpp.o clang++ -mmacosx-version-min=10.13 -std=gnu++11 -dynamiclib -Wl,-headerpad_max_install_names -undefined dynamic_lookup -single_module -multiply_defined suppress -L/Library/Frameworks/R.framework/Resources/lib -L/usr/local/lib -o scGPS.so RcppExports.o dist_mat_cpp.o dist_parallel_cpp.o utils_rcpp.o -L/Library/Frameworks/R.framework/Resources/lib -lRlapack -L/Library/Frameworks/R.framework/Resources/lib -lRblas -L/usr/local/gfortran/lib/gcc/x86_64-apple-darwin18/8.2.0 -L/usr/local/gfortran/lib -lgfortran -lquadmath -lm -F/Library/Frameworks/R.framework/.. -framework R -Wl,-framework -Wl,CoreFoundation installing to /Library/Frameworks/R.framework/Versions/4.0/Resources/library/00LOCK-scGPS/00new/scGPS/libs ** R ** data *** moving datasets to lazyload DB ** byte-compile and prepare package for lazy loading ** help *** installing help indices *** copying figures ** building package indices ** installing vignettes ** testing if installed package can be loaded from temporary location ** checking absolute paths in shared objects and dynamic libraries ** testing if installed package can be loaded from final location ** testing if installed package keeps a record of temporary installation path * DONE (scGPS)
scGPS.Rcheck/tests/testthat.Rout
R version 4.0.3 (2020-10-10) -- "Bunny-Wunnies Freak Out"
Copyright (C) 2020 The R Foundation for Statistical Computing
Platform: x86_64-apple-darwin17.0 (64-bit)
R is free software and comes with ABSOLUTELY NO WARRANTY.
You are welcome to redistribute it under certain conditions.
Type 'license()' or 'licence()' for distribution details.
R is a collaborative project with many contributors.
Type 'contributors()' for more information and
'citation()' on how to cite R or R packages in publications.
Type 'demo()' for some demos, 'help()' for on-line help, or
'help.start()' for an HTML browser interface to help.
Type 'q()' to quit R.
> library(testthat)
> library(scGPS)
Loading required package: SummarizedExperiment
Loading required package: GenomicRanges
Loading required package: stats4
Loading required package: BiocGenerics
Loading required package: parallel
Attaching package: 'BiocGenerics'
The following objects are masked from 'package:parallel':
clusterApply, clusterApplyLB, clusterCall, clusterEvalQ,
clusterExport, clusterMap, parApply, parCapply, parLapply,
parLapplyLB, parRapply, parSapply, parSapplyLB
The following objects are masked from 'package:stats':
IQR, mad, sd, var, xtabs
The following objects are masked from 'package:base':
Filter, Find, Map, Position, Reduce, anyDuplicated, append,
as.data.frame, basename, cbind, colnames, dirname, do.call,
duplicated, eval, evalq, get, grep, grepl, intersect, is.unsorted,
lapply, mapply, match, mget, order, paste, pmax, pmax.int, pmin,
pmin.int, rank, rbind, rownames, sapply, setdiff, sort, table,
tapply, union, unique, unsplit, which, which.max, which.min
Loading required package: S4Vectors
Attaching package: 'S4Vectors'
The following object is masked from 'package:base':
expand.grid
Loading required package: IRanges
Loading required package: GenomeInfoDb
Loading required package: Biobase
Welcome to Bioconductor
Vignettes contain introductory material; view with
'browseVignettes()'. To cite Bioconductor, see
'citation("Biobase")', and for packages 'citation("pkgname")'.
Loading required package: DelayedArray
Loading required package: matrixStats
Attaching package: 'matrixStats'
The following objects are masked from 'package:Biobase':
anyMissing, rowMedians
Attaching package: 'DelayedArray'
The following objects are masked from 'package:matrixStats':
colMaxs, colMins, colRanges, rowMaxs, rowMins, rowRanges
The following objects are masked from 'package:base':
aperm, apply, rowsum
Loading required package: dynamicTreeCut
Loading required package: SingleCellExperiment
>
> test_check("scGPS")
══ testthat results ═══════════════════════════════════════════════════════════
[ OK: 2 | SKIPPED: 0 | WARNINGS: 0 | FAILED: 0 ]
>
> proc.time()
user system elapsed
17.511 0.785 18.790
scGPS.Rcheck/scGPS-Ex.timings
| name | user | system | elapsed | |
| CORE_bagging | 19.461 | 0.205 | 15.126 | |
| CORE_clustering | 11.220 | 0.125 | 6.265 | |
| CORE_subcluster | 11.203 | 0.069 | 5.823 | |
| PCA | 5.735 | 0.142 | 5.898 | |
| PrinComp_cpp | 0.21 | 0.01 | 0.22 | |
| annotate_clusters | 17.904 | 1.119 | 19.335 | |
| bootstrap_parallel | 0.148 | 0.001 | 0.150 | |
| bootstrap_prediction | 4.491 | 0.069 | 4.565 | |
| calcDist | 0.583 | 0.867 | 1.502 | |
| calcDistArma | 0.001 | 0.001 | 0.000 | |
| clustering | 12.290 | 0.226 | 6.601 | |
| clustering_bagging | 18.796 | 0.113 | 13.462 | |
| distvec | 0.001 | 0.000 | 0.001 | |
| find_markers | 5.677 | 0.276 | 5.967 | |
| find_optimal_stability | 10.487 | 0.080 | 5.065 | |
| find_stability | 10.895 | 0.059 | 5.532 | |
| mean_cpp | 0.004 | 0.004 | 0.009 | |
| new_scGPS_object | 0.190 | 0.009 | 0.200 | |
| new_summarized_scGPS_object | 0.039 | 0.006 | 0.045 | |
| plot_CORE | 11.053 | 0.133 | 5.741 | |
| plot_optimal_CORE | 12.209 | 0.101 | 7.250 | |
| plot_reduced | 8.906 | 0.049 | 8.963 | |
| predicting | 1.645 | 0.090 | 1.740 | |
| rand_index | 11.110 | 0.089 | 5.904 | |
| rcpp_Eucl_distance_NotPar | 0.022 | 0.001 | 0.023 | |
| rcpp_parallel_distance | 0.219 | 0.000 | 0.220 | |
| reformat_LASSO | 6.845 | 0.110 | 7.194 | |
| sub_clustering | 0.222 | 0.032 | 0.178 | |
| subset_cpp | 0.198 | 0.002 | 0.202 | |
| summary_accuracy | 3.424 | 0.031 | 3.457 | |
| summary_deviance | 7.763 | 0.092 | 8.267 | |
| summary_prediction_lasso | 3.564 | 0.035 | 3.733 | |
| summary_prediction_lda | 3.489 | 0.073 | 3.797 | |
| tSNE | 8.589 | 0.038 | 9.031 | |
| top_var | 0.181 | 0.000 | 0.182 | |
| tp_cpp | 0.250 | 0.050 | 0.301 | |
| training | 0.655 | 0.003 | 0.659 | |
| var_cpp | 0.004 | 0.000 | 0.005 | |