| Back to Multiple platform build/check report for BioC 3.11 |
|
This page was generated on 2020-10-17 11:57:45 -0400 (Sat, 17 Oct 2020).
| TO THE DEVELOPERS/MAINTAINERS OF THE scClassify PACKAGE: Please make sure to use the following settings in order to reproduce any error or warning you see on this page. |
| Package 1587/1905 | Hostname | OS / Arch | INSTALL | BUILD | CHECK | BUILD BIN | ||||||
| scClassify 1.0.0 Yingxin Lin
| malbec2 | Linux (Ubuntu 18.04.4 LTS) / x86_64 | OK | OK | OK | |||||||
| tokay2 | Windows Server 2012 R2 Standard / x64 | [ OK ] | OK | OK | OK | |||||||
| machv2 | macOS 10.14.6 Mojave / x86_64 | OK | OK | OK | OK |
| Package: scClassify |
| Version: 1.0.0 |
| Command: C:\cygwin\bin\curl.exe -O https://malbec2.bioconductor.org/BBS/3.11/bioc/src/contrib/scClassify_1.0.0.tar.gz && rm -rf scClassify.buildbin-libdir && mkdir scClassify.buildbin-libdir && C:\Users\biocbuild\bbs-3.11-bioc\R\bin\R.exe CMD INSTALL --merge-multiarch --build --library=scClassify.buildbin-libdir scClassify_1.0.0.tar.gz && C:\Users\biocbuild\bbs-3.11-bioc\R\bin\R.exe CMD INSTALL scClassify_1.0.0.zip && rm scClassify_1.0.0.tar.gz scClassify_1.0.0.zip |
| StartedAt: 2020-10-16 18:30:57 -0400 (Fri, 16 Oct 2020) |
| EndedAt: 2020-10-16 18:31:49 -0400 (Fri, 16 Oct 2020) |
| EllapsedTime: 51.2 seconds |
| RetCode: 0 |
| Status: OK |
##############################################################################
##############################################################################
###
### Running command:
###
### C:\cygwin\bin\curl.exe -O https://malbec2.bioconductor.org/BBS/3.11/bioc/src/contrib/scClassify_1.0.0.tar.gz && rm -rf scClassify.buildbin-libdir && mkdir scClassify.buildbin-libdir && C:\Users\biocbuild\bbs-3.11-bioc\R\bin\R.exe CMD INSTALL --merge-multiarch --build --library=scClassify.buildbin-libdir scClassify_1.0.0.tar.gz && C:\Users\biocbuild\bbs-3.11-bioc\R\bin\R.exe CMD INSTALL scClassify_1.0.0.zip && rm scClassify_1.0.0.tar.gz scClassify_1.0.0.zip
###
##############################################################################
##############################################################################
% Total % Received % Xferd Average Speed Time Time Time Current
Dload Upload Total Spent Left Speed
0 0 0 0 0 0 0 0 --:--:-- --:--:-- --:--:-- 0
100 2343k 100 2343k 0 0 25.2M 0 --:--:-- --:--:-- --:--:-- 27.5M
install for i386
* installing *source* package 'scClassify' ...
** using staged installation
** R
** data
** byte-compile and prepare package for lazy loading
** help
*** installing help indices
converting help for package 'scClassify'
finding HTML links ... done
cellTypeTrain html
cellTypeTree html
dot-scClassifyTrainModel html
features html
getN html
learningCurve html
model html
modelweights html
name html
plotCellTypeTree html
predict_scClassify html
predict_scClassifyJoint html
runHOPACH html
runSampleCal html
scClassify html
scClassifyTrainModel-class html
scClassifyTrainModelList-class html
scClassifyTrainModelList html
scClassify_example html
trainClassExample_wang html
trainClassExample_xin html
train_scClassify html
*** copying figures
** building package indices
** installing vignettes
** testing if installed package can be loaded from temporary location
** testing if installed package can be loaded from final location
** testing if installed package keeps a record of temporary installation path
install for x64
* installing *source* package 'scClassify' ...
** testing if installed package can be loaded
* MD5 sums
packaged installation of 'scClassify' as scClassify_1.0.0.zip
* DONE (scClassify)
* installing to library 'C:/Users/biocbuild/bbs-3.11-bioc/R/library'
package 'scClassify' successfully unpacked and MD5 sums checked