| Back to Multiple platform build/check report for BioC 3.11 |
|
This page was generated on 2019-12-18 12:39:30 -0500 (Wed, 18 Dec 2019).
| Package 1507/1808 | Hostname | OS / Arch | INSTALL | BUILD | CHECK | BUILD BIN | ||||||
| scAlign 1.1.6 Nelson Johansen
| malbec2 | Linux (Ubuntu 18.04.3 LTS) / x86_64 | OK | ERROR | skipped | |||||||
| tokay2 | Windows Server 2012 R2 Standard / x64 | OK | ERROR | skipped | skipped | |||||||
| celaya2 | OS X 10.11.6 El Capitan / x86_64 | ERROR | [ ERROR ] | skipped | skipped |
| Package: scAlign |
| Version: 1.1.6 |
| Command: /Library/Frameworks/R.framework/Versions/Current/Resources/bin/R CMD build --keep-empty-dirs --no-resave-data scAlign |
| StartedAt: 2019-12-18 00:26:23 -0500 (Wed, 18 Dec 2019) |
| EndedAt: 2019-12-18 00:26:41 -0500 (Wed, 18 Dec 2019) |
| EllapsedTime: 18.0 seconds |
| RetCode: 1 |
| Status: ERROR |
| PackageFile: None |
| PackageFileSize: NA |
##############################################################################
##############################################################################
###
### Running command:
###
### /Library/Frameworks/R.framework/Versions/Current/Resources/bin/R CMD build --keep-empty-dirs --no-resave-data scAlign
###
##############################################################################
##############################################################################
* checking for file ‘scAlign/DESCRIPTION’ ... OK
* preparing ‘scAlign’:
* checking DESCRIPTION meta-information ... OK
* installing the package to build vignettes
-----------------------------------
* installing *source* package ‘scAlign’ ...
** using staged installation
** R
** data
** byte-compile and prepare package for lazy loading
Error: package or namespace load failed for ‘tensorflow’:
.onLoad failed in loadNamespace() for 'tensorflow', details:
call: py_module_import(module, convert = convert)
error: ModuleNotFoundError: No module named 'tensorflow'
Error: package ‘tensorflow’ could not be loaded
Execution halted
ERROR: lazy loading failed for package ‘scAlign’
* removing ‘/private/tmp/RtmpXIom4v/Rinst576d4cbc4911/scAlign’
-----------------------------------
ERROR: package installation failed