| Back to Multiple platform build/check report for BioC 3.11 | 
  | 
This page was generated on 2020-10-17 11:57:44 -0400 (Sat, 17 Oct 2020).
| TO THE DEVELOPERS/MAINTAINERS OF THE sapFinder PACKAGE: Please make sure to use the following settings in order to reproduce any error or warning you see on this page. | 
| Package 1574/1905 | Hostname | OS / Arch | INSTALL | BUILD | CHECK | BUILD BIN | ||||||
| sapFinder 1.26.0 Shaohang Xu 
  | malbec2 | Linux (Ubuntu 18.04.4 LTS) / x86_64 | OK | OK | OK | |||||||
| tokay2 | Windows Server 2012 R2 Standard / x64 | OK | OK | OK | [ OK ] | |||||||
| machv2 | macOS 10.14.6 Mojave / x86_64 | OK | OK | OK | OK | 
| Package: sapFinder | 
| Version: 1.26.0 | 
| Command: rm -rf sapFinder.buildbin-libdir && mkdir sapFinder.buildbin-libdir && C:\Users\biocbuild\bbs-3.11-bioc\R\bin\R.exe CMD INSTALL --merge-multiarch --build --library=sapFinder.buildbin-libdir sapFinder_1.26.0.tar.gz | 
| StartedAt: 2020-10-17 11:34:37 -0400 (Sat, 17 Oct 2020) | 
| EndedAt: 2020-10-17 11:35:38 -0400 (Sat, 17 Oct 2020) | 
| EllapsedTime: 61.0 seconds | 
| RetCode: 0 | 
| Status: OK | 
| PackageFile: sapFinder_1.26.0.zip | 
| PackageFileSize: 5.084 MiB | 
##############################################################################
##############################################################################
###
### Running command:
###
###   rm -rf sapFinder.buildbin-libdir && mkdir sapFinder.buildbin-libdir && C:\Users\biocbuild\bbs-3.11-bioc\R\bin\R.exe CMD INSTALL --merge-multiarch --build --library=sapFinder.buildbin-libdir sapFinder_1.26.0.tar.gz
###
##############################################################################
##############################################################################
install for i386
* installing *source* package 'sapFinder' ...
** using staged installation
** libs
"C:/rtools40/mingw32/bin/"g++ -std=gnu++11  -I"C:/Users/BIOCBU~1/BBS-3~1.11-/R/include" -DNDEBUG  -I'C:/Users/biocbuild/bbs-3.11-bioc/R/library/Rcpp/include'   -I"C:/extsoft/include"     -O2 -Wall  -mfpmath=sse -msse2 -mstackrealign -c dataHandle.cpp -o dataHandle.o
C:/rtools40/mingw32/bin/g++ -std=gnu++11 -shared -s -static-libgcc -o sapFinder.dll tmp.def dataHandle.o -LC:/extsoft/lib/i386 -LC:/extsoft/lib -LC:/Users/BIOCBU~1/BBS-3~1.11-/R/bin/i386 -lR
installing to C:/Users/biocbuild/bbs-3.11-bioc/meat/sapFinder.buildbin-libdir/00LOCK-sapFinder/00new/sapFinder/libs/i386
** R
** inst
** byte-compile and prepare package for lazy loading
** help
*** installing help indices
  converting help for package 'sapFinder'
    finding HTML links ... done
    dbCreator                               html  
    easyRun                                 html  
    parserGear                              html  
    reportCreator                           html  
    runTandem                               html  
** building package indices
** installing vignettes
** testing if installed package can be loaded from temporary location
** testing if installed package can be loaded from final location
** testing if installed package keeps a record of temporary installation path
install for x64
* installing *source* package 'sapFinder' ...
** libs
"C:/rtools40/mingw64/bin/"g++ -std=gnu++11  -I"C:/Users/BIOCBU~1/BBS-3~1.11-/R/include" -DNDEBUG  -I'C:/Users/biocbuild/bbs-3.11-bioc/R/library/Rcpp/include'   -I"C:/extsoft/include"     -O2 -Wall  -mfpmath=sse -msse2 -mstackrealign -c dataHandle.cpp -o dataHandle.o
C:/rtools40/mingw64/bin/g++ -std=gnu++11 -shared -s -static-libgcc -o sapFinder.dll tmp.def dataHandle.o -LC:/extsoft/lib/x64 -LC:/extsoft/lib -LC:/Users/BIOCBU~1/BBS-3~1.11-/R/bin/x64 -lR
installing to C:/Users/biocbuild/bbs-3.11-bioc/meat/sapFinder.buildbin-libdir/sapFinder/libs/x64
** testing if installed package can be loaded
* MD5 sums
packaged installation of 'sapFinder' as sapFinder_1.26.0.zip
* DONE (sapFinder)