| Back to Multiple platform build/check report for BioC 3.11 |
|
This page was generated on 2020-10-17 11:59:29 -0400 (Sat, 17 Oct 2020).
| TO THE DEVELOPERS/MAINTAINERS OF THE runibic PACKAGE: Please make sure to use the following settings in order to reproduce any error or warning you see on this page. |
| Package 1558/1905 | Hostname | OS / Arch | INSTALL | BUILD | CHECK | BUILD BIN | ||||||
| runibic 1.10.0 Patryk Orzechowski
| malbec2 | Linux (Ubuntu 18.04.4 LTS) / x86_64 | OK | OK | OK | |||||||
| tokay2 | Windows Server 2012 R2 Standard / x64 | OK | OK | WARNINGS | OK | |||||||
| machv2 | macOS 10.14.6 Mojave / x86_64 | ERROR | [ ERROR ] | skipped | skipped |
| Package: runibic |
| Version: 1.10.0 |
| Command: /Library/Frameworks/R.framework/Versions/Current/Resources/bin/R CMD build --keep-empty-dirs --no-resave-data runibic |
| StartedAt: 2020-10-16 21:01:15 -0400 (Fri, 16 Oct 2020) |
| EndedAt: 2020-10-16 21:01:20 -0400 (Fri, 16 Oct 2020) |
| EllapsedTime: 4.9 seconds |
| RetCode: 1 |
| Status: ERROR |
| PackageFile: None |
| PackageFileSize: NA |
##############################################################################
##############################################################################
###
### Running command:
###
### /Library/Frameworks/R.framework/Versions/Current/Resources/bin/R CMD build --keep-empty-dirs --no-resave-data runibic
###
##############################################################################
##############################################################################
* checking for file ‘runibic/DESCRIPTION’ ... OK
* preparing ‘runibic’:
* checking DESCRIPTION meta-information ... OK
* cleaning src
* installing the package to build vignettes
-----------------------------------
* installing *source* package ‘runibic’ ...
** using staged installation
** libs
clang++ -mmacosx-version-min=10.13 -std=gnu++11 -I"/Library/Frameworks/R.framework/Resources/include" -DNDEBUG -I'/Library/Frameworks/R.framework/Versions/4.0/Resources/library/Rcpp/include' -I/usr/local/include -fPIC -Wall -g -O2 -c GlobalDefs.cpp -o GlobalDefs.o
GlobalDefs.cpp:26:10: fatal error: 'omp.h' file not found
#include <omp.h>
^~~~~~~
1 error generated.
make: *** [GlobalDefs.o] Error 1
ERROR: compilation failed for package ‘runibic’
* removing ‘/private/tmp/RtmpNbvl0k/Rinst75725fdc51c9/runibic’
-----------------------------------
ERROR: package installation failed