| Back to Multiple platform build/check report for BioC 3.11 |
|
This page was generated on 2020-10-17 11:59:24 -0400 (Sat, 17 Oct 2020).
| TO THE DEVELOPERS/MAINTAINERS OF THE rhdf5 PACKAGE: Please make sure to use the following settings in order to reproduce any error or warning you see on this page. |
| Package 1481/1905 | Hostname | OS / Arch | INSTALL | BUILD | CHECK | BUILD BIN | ||||||
| rhdf5 2.32.4 Mike Smith
| malbec2 | Linux (Ubuntu 18.04.4 LTS) / x86_64 | OK | OK | OK | |||||||
| tokay2 | Windows Server 2012 R2 Standard / x64 | OK | OK | OK | OK | |||||||
| machv2 | macOS 10.14.6 Mojave / x86_64 | OK | [ OK ] | OK | OK |
| Package: rhdf5 |
| Version: 2.32.4 |
| Command: /Library/Frameworks/R.framework/Versions/Current/Resources/bin/R CMD build --keep-empty-dirs --no-resave-data rhdf5 |
| StartedAt: 2020-10-16 20:51:13 -0400 (Fri, 16 Oct 2020) |
| EndedAt: 2020-10-16 20:57:58 -0400 (Fri, 16 Oct 2020) |
| EllapsedTime: 404.5 seconds |
| RetCode: 0 |
| Status: OK |
| PackageFile: rhdf5_2.32.4.tar.gz |
| PackageFileSize: 801.8 KiB |
############################################################################## ############################################################################## ### ### Running command: ### ### /Library/Frameworks/R.framework/Versions/Current/Resources/bin/R CMD build --keep-empty-dirs --no-resave-data rhdf5 ### ############################################################################## ############################################################################## * checking for file ‘rhdf5/DESCRIPTION’ ... OK * preparing ‘rhdf5’: * checking DESCRIPTION meta-information ... OK * cleaning src * installing the package to build vignettes * creating vignettes ... OK * cleaning src * checking for LF line-endings in source and make files and shell scripts * checking for empty or unneeded directories * building ‘rhdf5_2.32.4.tar.gz’