| Back to Multiple platform build/check report for BioC 3.11 |
|
This page was generated on 2020-10-17 11:55:34 -0400 (Sat, 17 Oct 2020).
| TO THE DEVELOPERS/MAINTAINERS OF THE rfaRm PACKAGE: Please make sure to use the following settings in order to reproduce any error or warning you see on this page. |
| Package 1470/1905 | Hostname | OS / Arch | INSTALL | BUILD | CHECK | BUILD BIN | ||||||
| rfaRm 1.0.0 Lara Selles Vidal
| malbec2 | Linux (Ubuntu 18.04.4 LTS) / x86_64 | OK | OK | [ OK ] | |||||||
| tokay2 | Windows Server 2012 R2 Standard / x64 | OK | OK | OK | OK | |||||||
| machv2 | macOS 10.14.6 Mojave / x86_64 | OK | OK | OK | OK |
| Package: rfaRm |
| Version: 1.0.0 |
| Command: /home/biocbuild/bbs-3.11-bioc/R/bin/R CMD check --install=check:rfaRm.install-out.txt --library=/home/biocbuild/bbs-3.11-bioc/R/library --no-vignettes --timings rfaRm_1.0.0.tar.gz |
| StartedAt: 2020-10-17 04:44:07 -0400 (Sat, 17 Oct 2020) |
| EndedAt: 2020-10-17 04:46:41 -0400 (Sat, 17 Oct 2020) |
| EllapsedTime: 154.1 seconds |
| RetCode: 0 |
| Status: OK |
| CheckDir: rfaRm.Rcheck |
| Warnings: 0 |
##############################################################################
##############################################################################
###
### Running command:
###
### /home/biocbuild/bbs-3.11-bioc/R/bin/R CMD check --install=check:rfaRm.install-out.txt --library=/home/biocbuild/bbs-3.11-bioc/R/library --no-vignettes --timings rfaRm_1.0.0.tar.gz
###
##############################################################################
##############################################################################
* using log directory ‘/home/biocbuild/bbs-3.11-bioc/meat/rfaRm.Rcheck’
* using R version 4.0.3 (2020-10-10)
* using platform: x86_64-pc-linux-gnu (64-bit)
* using session charset: UTF-8
* using option ‘--no-vignettes’
* checking for file ‘rfaRm/DESCRIPTION’ ... OK
* checking extension type ... Package
* this is package ‘rfaRm’ version ‘1.0.0’
* package encoding: UTF-8
* checking package namespace information ... OK
* checking package dependencies ... OK
* checking if this is a source package ... OK
* checking if there is a namespace ... OK
* checking for hidden files and directories ... OK
* checking for portable file names ... OK
* checking for sufficient/correct file permissions ... OK
* checking whether package ‘rfaRm’ can be installed ... OK
* checking installed package size ... OK
* checking package directory ... OK
* checking ‘build’ directory ... OK
* checking DESCRIPTION meta-information ... OK
* checking top-level files ... OK
* checking for left-over files ... OK
* checking index information ... OK
* checking package subdirectories ... OK
* checking R files for non-ASCII characters ... OK
* checking R files for syntax errors ... OK
* checking whether the package can be loaded ... OK
* checking whether the package can be loaded with stated dependencies ... OK
* checking whether the package can be unloaded cleanly ... OK
* checking whether the namespace can be loaded with stated dependencies ... OK
* checking whether the namespace can be unloaded cleanly ... OK
* checking dependencies in R code ... OK
* checking S3 generic/method consistency ... OK
* checking replacement functions ... OK
* checking foreign function calls ... OK
* checking R code for possible problems ... OK
* checking Rd files ... OK
* checking Rd metadata ... OK
* checking Rd cross-references ... OK
* checking for missing documentation entries ... OK
* checking for code/documentation mismatches ... OK
* checking Rd \usage sections ... OK
* checking Rd contents ... OK
* checking for unstated dependencies in examples ... OK
* checking files in ‘vignettes’ ... OK
* checking examples ... OK
Examples with CPU (user + system) or elapsed time > 5s
user system elapsed
rfamSequenceSearch 0.041 0.001 20.665
* checking for unstated dependencies in ‘tests’ ... OK
* checking tests ...
Running ‘runTests.R’
OK
* checking for unstated dependencies in vignettes ... OK
* checking package vignettes in ‘inst/doc’ ... OK
* checking running R code from vignettes ... SKIPPED
* checking re-building of vignette outputs ... SKIPPED
* checking PDF version of manual ... OK
* DONE
Status: OK
rfaRm.Rcheck/00install.out
############################################################################## ############################################################################## ### ### Running command: ### ### /home/biocbuild/bbs-3.11-bioc/R/bin/R CMD INSTALL rfaRm ### ############################################################################## ############################################################################## * installing to library ‘/home/biocbuild/bbs-3.11-bioc/R/library’ * installing *source* package ‘rfaRm’ ... ** using staged installation ** R ** inst ** byte-compile and prepare package for lazy loading ** help *** installing help indices ** building package indices ** installing vignettes ** testing if installed package can be loaded from temporary location ** testing if installed package can be loaded from final location ** testing if installed package keeps a record of temporary installation path * DONE (rfaRm)
rfaRm.Rcheck/tests/runTests.Rout
R version 4.0.3 (2020-10-10) -- "Bunny-Wunnies Freak Out"
Copyright (C) 2020 The R Foundation for Statistical Computing
Platform: x86_64-pc-linux-gnu (64-bit)
R is free software and comes with ABSOLUTELY NO WARRANTY.
You are welcome to redistribute it under certain conditions.
Type 'license()' or 'licence()' for distribution details.
R is a collaborative project with many contributors.
Type 'contributors()' for more information and
'citation()' on how to cite R or R packages in publications.
Type 'demo()' for some demos, 'help()' for on-line help, or
'help.start()' for an HTML browser interface to help.
Type 'q()' to quit R.
> BiocGenerics:::testPackage("rfaRm")
No encoding supplied: defaulting to UTF-8.
format width height colorspace matte filesize density
1 SVG 700 550 sRGB TRUE 20057 72x72
format width height colorspace matte filesize density
1 GIF 600 2056 sRGB FALSE 62234 72x72
Running sequence search query. This might take a long time.
Sequence search is running, please wait.
Sequence search completed successfully.
RUNIT TEST PROTOCOL -- Sat Oct 17 04:46:38 2020
***********************************************
Number of test functions: 0
Number of errors: 0
Number of failures: 0
1 Test Suite :
rfaRm RUnit Tests - 0 test functions, 0 errors, 0 failures
Number of test functions: 0
Number of errors: 0
Number of failures: 0
>
> proc.time()
user system elapsed
6.086 0.263 36.166
rfaRm.Rcheck/rfaRm-Ex.timings
| name | user | system | elapsed | |
| rfamConsensusSecondaryStructure | 0.534 | 0.016 | 3.679 | |
| rfamCovarianceModel | 0.247 | 0.004 | 1.909 | |
| rfamFamilyAccessionToID | 0.044 | 0.000 | 0.221 | |
| rfamFamilyIDToAccession | 0.021 | 0.000 | 0.195 | |
| rfamFamilySummary | 0.194 | 0.012 | 1.256 | |
| rfamPDBMapping | 0.163 | 0.004 | 0.886 | |
| rfamSecondaryStructurePlot | 2.406 | 0.124 | 4.399 | |
| rfamSecondaryStructureXMLSVG | 0.090 | 0.008 | 0.956 | |
| rfamSeedAlignment | 0.689 | 0.025 | 3.012 | |
| rfamSeedTree | 0.134 | 0.008 | 0.937 | |
| rfamSeedTreeImage | 0.161 | 0.012 | 0.948 | |
| rfamSequenceRegions | 0.220 | 0.023 | 2.441 | |
| rfamSequenceSearch | 0.041 | 0.001 | 20.665 | |
| rfamTextSearchFamilyAccession | 0.205 | 0.003 | 0.588 | |