| Back to Multiple platform build/check report for BioC 3.11 |
|
This page was generated on 2020-10-17 11:57:36 -0400 (Sat, 17 Oct 2020).
| TO THE DEVELOPERS/MAINTAINERS OF THE restfulSE PACKAGE: Please make sure to use the following settings in order to reproduce any error or warning you see on this page. |
| Package 1468/1905 | Hostname | OS / Arch | INSTALL | BUILD | CHECK | BUILD BIN | ||||||
| restfulSE 1.10.0 Shweta Gopaulakrishnan
| malbec2 | Linux (Ubuntu 18.04.4 LTS) / x86_64 | OK | OK | WARNINGS | |||||||
| tokay2 | Windows Server 2012 R2 Standard / x64 | OK | OK | WARNINGS | [ OK ] | |||||||
| machv2 | macOS 10.14.6 Mojave / x86_64 | OK | OK | WARNINGS | OK |
| Package: restfulSE |
| Version: 1.10.0 |
| Command: rm -rf restfulSE.buildbin-libdir && mkdir restfulSE.buildbin-libdir && C:\Users\biocbuild\bbs-3.11-bioc\R\bin\R.exe CMD INSTALL --merge-multiarch --build --library=restfulSE.buildbin-libdir restfulSE_1.10.0.tar.gz |
| StartedAt: 2020-10-17 11:27:05 -0400 (Sat, 17 Oct 2020) |
| EndedAt: 2020-10-17 11:27:51 -0400 (Sat, 17 Oct 2020) |
| EllapsedTime: 46.0 seconds |
| RetCode: 0 |
| Status: OK |
| PackageFile: restfulSE_1.10.0.zip |
| PackageFileSize: 887.3 KiB |
##############################################################################
##############################################################################
###
### Running command:
###
### rm -rf restfulSE.buildbin-libdir && mkdir restfulSE.buildbin-libdir && C:\Users\biocbuild\bbs-3.11-bioc\R\bin\R.exe CMD INSTALL --merge-multiarch --build --library=restfulSE.buildbin-libdir restfulSE_1.10.0.tar.gz
###
##############################################################################
##############################################################################
install for i386
* installing *source* package 'restfulSE' ...
** using staged installation
** R
** inst
** byte-compile and prepare package for lazy loading
** help
*** installing help indices
converting help for package 'restfulSE'
finding HTML links ... done
BQ3_Array-class html
BQ3_Array html
BQ3_ArraySeed-class html
BQ3_Matrix-class html
BQ3_Source-class html
BQ3_Source html
BQM_Array-class html
BQM_Array html
BQM_ArraySeed-class html
BQM_Matrix-class html
BQM_Source-class html
BQM_Source html
BQSummarizedExperiment html
RESTfulSummarizedExperiment-class html
RESTfulSummarizedExperiment html
assay-BQSummarizedExperiment-missing-method
html
assayNames-BQSummarizedExperiment-method
html
assays-RESTfulSummarizedExperiment-method
html
basic_clinvars html
bqConn html
cgcConn html
dim-BQ3_ArraySeed-method html
dim-BQM_ArraySeed-method html
dim-RESTfulSummarizedExperiment-method
html
dimnames-BQ3_ArraySeed-method html
dimnames-BQM_ArraySeed-method html
goPatt html
gtexTiss html
isbCgcDatasets html
isbCgcTables html
newDA html
pancan_SE html
se100k html
seByTumor html
seByTumor_2016 html
tasicCortex html
** building package indices
** installing vignettes
** testing if installed package can be loaded from temporary location
** testing if installed package can be loaded from final location
** testing if installed package keeps a record of temporary installation path
install for x64
* installing *source* package 'restfulSE' ...
** testing if installed package can be loaded
* MD5 sums
packaged installation of 'restfulSE' as restfulSE_1.10.0.zip
* DONE (restfulSE)