| Back to Multiple platform build/check report for BioC 3.11 |
|
This page was generated on 2020-10-17 11:59:21 -0400 (Sat, 17 Oct 2020).
| TO THE DEVELOPERS/MAINTAINERS OF THE rcellminer PACKAGE: Please make sure to use the following settings in order to reproduce any error or warning you see on this page. |
| Package 1431/1905 | Hostname | OS / Arch | INSTALL | BUILD | CHECK | BUILD BIN | ||||||
| rcellminer 2.10.2 Augustin Luna
| malbec2 | Linux (Ubuntu 18.04.4 LTS) / x86_64 | OK | OK | OK | |||||||
| tokay2 | Windows Server 2012 R2 Standard / x64 | OK | OK | OK | OK | |||||||
| machv2 | macOS 10.14.6 Mojave / x86_64 | OK | OK | [ OK ] | OK |
| Package: rcellminer |
| Version: 2.10.2 |
| Command: /Library/Frameworks/R.framework/Versions/Current/Resources/bin/R CMD check --install=check:rcellminer.install-out.txt --library=/Library/Frameworks/R.framework/Versions/Current/Resources/library --no-vignettes --timings rcellminer_2.10.2.tar.gz |
| StartedAt: 2020-10-17 04:23:13 -0400 (Sat, 17 Oct 2020) |
| EndedAt: 2020-10-17 04:25:17 -0400 (Sat, 17 Oct 2020) |
| EllapsedTime: 124.2 seconds |
| RetCode: 0 |
| Status: OK |
| CheckDir: rcellminer.Rcheck |
| Warnings: 0 |
##############################################################################
##############################################################################
###
### Running command:
###
### /Library/Frameworks/R.framework/Versions/Current/Resources/bin/R CMD check --install=check:rcellminer.install-out.txt --library=/Library/Frameworks/R.framework/Versions/Current/Resources/library --no-vignettes --timings rcellminer_2.10.2.tar.gz
###
##############################################################################
##############################################################################
* using log directory ‘/Users/biocbuild/bbs-3.11-bioc/meat/rcellminer.Rcheck’
* using R version 4.0.3 (2020-10-10)
* using platform: x86_64-apple-darwin17.0 (64-bit)
* using session charset: UTF-8
* using option ‘--no-vignettes’
* checking for file ‘rcellminer/DESCRIPTION’ ... OK
* checking extension type ... Package
* this is package ‘rcellminer’ version ‘2.10.2’
* package encoding: UTF-8
* checking package namespace information ... OK
* checking package dependencies ... OK
* checking if this is a source package ... OK
* checking if there is a namespace ... OK
* checking for hidden files and directories ... OK
* checking for portable file names ... OK
* checking for sufficient/correct file permissions ... OK
* checking whether package ‘rcellminer’ can be installed ... OK
* checking installed package size ... OK
* checking package directory ... OK
* checking ‘build’ directory ... OK
* checking DESCRIPTION meta-information ... OK
* checking top-level files ... OK
* checking for left-over files ... OK
* checking index information ... OK
* checking package subdirectories ... OK
* checking R files for non-ASCII characters ... OK
* checking R files for syntax errors ... OK
* checking whether the package can be loaded ... OK
* checking whether the package can be loaded with stated dependencies ... OK
* checking whether the package can be unloaded cleanly ... OK
* checking whether the namespace can be loaded with stated dependencies ... OK
* checking whether the namespace can be unloaded cleanly ... OK
* checking dependencies in R code ... NOTE
Namespace in Imports field not imported from: ‘shiny’
All declared Imports should be used.
* checking S3 generic/method consistency ... OK
* checking replacement functions ... OK
* checking foreign function calls ... OK
* checking R code for possible problems ... NOTE
plotCellMiner: no visible global function definition for ‘par’
plotCellMiner: no visible global function definition for ‘layout’
plotCellMiner: no visible global function definition for ‘lcm’
plotCellMiner: no visible global function definition for ‘axis’
plotDrugSets: no visible global function definition for ‘par’
plotDrugSets: no visible global function definition for ‘axis’
plotDrugSets: no visible global function definition for ‘segments’
Undefined global functions or variables:
axis layout lcm par segments
Consider adding
importFrom("graphics", "axis", "layout", "lcm", "par", "segments")
to your NAMESPACE file.
* checking Rd files ... OK
* checking Rd metadata ... OK
* checking Rd cross-references ... OK
* checking for missing documentation entries ... OK
* checking for code/documentation mismatches ... OK
* checking Rd \usage sections ... OK
* checking Rd contents ... OK
* checking for unstated dependencies in examples ... OK
* checking contents of ‘data’ directory ... OK
* checking data for non-ASCII characters ... OK
* checking data for ASCII and uncompressed saves ... OK
* checking files in ‘vignettes’ ... OK
* checking examples ... OK
* checking for unstated dependencies in ‘tests’ ... OK
* checking tests ...
Running ‘testthat.R’
OK
* checking for unstated dependencies in vignettes ... OK
* checking package vignettes in ‘inst/doc’ ... OK
* checking running R code from vignettes ... SKIPPED
* checking re-building of vignette outputs ... SKIPPED
* checking PDF version of manual ... OK
* DONE
Status: 2 NOTEs
See
‘/Users/biocbuild/bbs-3.11-bioc/meat/rcellminer.Rcheck/00check.log’
for details.
rcellminer.Rcheck/00install.out
############################################################################## ############################################################################## ### ### Running command: ### ### /Library/Frameworks/R.framework/Versions/Current/Resources/bin/R CMD INSTALL rcellminer ### ############################################################################## ############################################################################## * installing to library ‘/Library/Frameworks/R.framework/Versions/4.0/Resources/library’ * installing *source* package ‘rcellminer’ ... ** using staged installation ** R ** data *** moving datasets to lazyload DB ** inst ** byte-compile and prepare package for lazy loading ** help *** installing help indices ** building package indices ** installing vignettes ** testing if installed package can be loaded from temporary location ** testing if installed package can be loaded from final location ** testing if installed package keeps a record of temporary installation path * DONE (rcellminer)
rcellminer.Rcheck/tests/testthat.Rout
R version 4.0.3 (2020-10-10) -- "Bunny-Wunnies Freak Out"
Copyright (C) 2020 The R Foundation for Statistical Computing
Platform: x86_64-apple-darwin17.0 (64-bit)
R is free software and comes with ABSOLUTELY NO WARRANTY.
You are welcome to redistribute it under certain conditions.
Type 'license()' or 'licence()' for distribution details.
R is a collaborative project with many contributors.
Type 'contributors()' for more information and
'citation()' on how to cite R or R packages in publications.
Type 'demo()' for some demos, 'help()' for on-line help, or
'help.start()' for an HTML browser interface to help.
Type 'q()' to quit R.
> library(testthat)
> library(rcellminer)
Loading required package: Biobase
Loading required package: BiocGenerics
Loading required package: parallel
Attaching package: 'BiocGenerics'
The following objects are masked from 'package:parallel':
clusterApply, clusterApplyLB, clusterCall, clusterEvalQ,
clusterExport, clusterMap, parApply, parCapply, parLapply,
parLapplyLB, parRapply, parSapply, parSapplyLB
The following objects are masked from 'package:stats':
IQR, mad, sd, var, xtabs
The following objects are masked from 'package:base':
Filter, Find, Map, Position, Reduce, anyDuplicated, append,
as.data.frame, basename, cbind, colnames, dirname, do.call,
duplicated, eval, evalq, get, grep, grepl, intersect, is.unsorted,
lapply, mapply, match, mget, order, paste, pmax, pmax.int, pmin,
pmin.int, rank, rbind, rownames, sapply, setdiff, sort, table,
tapply, union, unique, unsplit, which, which.max, which.min
Welcome to Bioconductor
Vignettes contain introductory material; view with
'browseVignettes()'. To cite Bioconductor, see
'citation("Biobase")', and for packages 'citation("pkgname")'.
Loading required package: rcellminerData
Consider citing this package: Luna A, et al. rcellminer: exploring molecular profiles and drug response of the NCI-60 cell lines in R. PMID: 26635141; citation("rcellminer")
>
> #test_package("rcellminer")
> test_check("rcellminer")
══ testthat results ═══════════════════════════════════════════════════════════
[ OK: 226 | SKIPPED: 1 | WARNINGS: 2 | FAILED: 0 ]
>
> proc.time()
user system elapsed
35.835 5.931 41.775
rcellminer.Rcheck/rcellminer-Ex.timings
| name | user | system | elapsed | |
| crossCors | 0.578 | 0.057 | 0.638 | |
| crossCorsSpearman | 0.000 | 0.001 | 0.000 | |
| getActivityRangeStats | 0.022 | 0.002 | 0.024 | |
| getColumnQuantiles | 0.005 | 0.000 | 0.004 | |
| getDrugActivityData | 0.003 | 0.001 | 0.003 | |
| getDrugActivityRange | 0.004 | 0.001 | 0.005 | |
| getDrugActivityRepeatData | 0.003 | 0.000 | 0.002 | |
| getDrugMoaList | 0.037 | 0.002 | 0.039 | |
| getDrugName | 0.020 | 0.002 | 0.021 | |
| getFeatureDataFromMatList | 3.344 | 0.257 | 3.604 | |
| getMedSenLineActivity | 0.003 | 0.001 | 0.003 | |
| getMinDrugActivityRepeatCor | 0.005 | 0.001 | 0.005 | |
| getMoaStr | 0.068 | 0.002 | 0.070 | |
| getMoaToCompounds | 0.026 | 0.001 | 0.028 | |
| getMolDataMatrices | 0.571 | 0.023 | 0.593 | |
| getNumDrugActivityRepeats | 0.002 | 0.000 | 0.002 | |
| getNumMissingLines | 0.000 | 0.000 | 0.001 | |
| getRsd | 0.005 | 0.001 | 0.005 | |
| getSmiles | 0.002 | 0.001 | 0.003 | |
| hasMoa | 0.027 | 0.001 | 0.028 | |
| isPublic | 0.002 | 0.000 | 0.002 | |
| loadCellminerPlotInfo | 0.002 | 0.001 | 0.002 | |
| loadNciColorSet | 0.002 | 0.001 | 0.003 | |
| parCorPatternComparison | 0.636 | 0.033 | 0.670 | |
| patternComparison | 0.675 | 0.009 | 0.685 | |
| plotCellMiner | 0.631 | 0.017 | 0.649 | |
| plotCellMiner2D | 0.000 | 0.001 | 0.000 | |
| plotDrugActivityRepeats | 1.454 | 0.025 | 1.481 | |
| plotDrugSets | 0.500 | 0.019 | 0.521 | |
| removeMolDataType | 0.001 | 0.000 | 0.001 | |
| rowCors | 0.002 | 0.000 | 0.002 | |
| searchForNscs | 0.050 | 0.001 | 0.051 | |
| selectCorrelatedRows | 0.002 | 0.001 | 0.003 | |
| selectCorrelatedRowsFromMatrices | 0.006 | 0.004 | 0.009 | |