| Back to Multiple platform build/check report for BioC 3.11 |
|
This page was generated on 2020-10-17 11:59:30 -0400 (Sat, 17 Oct 2020).
| TO THE DEVELOPERS/MAINTAINERS OF THE rWikiPathways PACKAGE: Please make sure to use the following settings in order to reproduce any error or warning you see on this page. |
| Package 1563/1905 | Hostname | OS / Arch | INSTALL | BUILD | CHECK | BUILD BIN | ||||||
| rWikiPathways 1.8.5 Egon Willighagen
| malbec2 | Linux (Ubuntu 18.04.4 LTS) / x86_64 | OK | OK | OK | |||||||
| tokay2 | Windows Server 2012 R2 Standard / x64 | OK | OK | OK | OK | |||||||
| machv2 | macOS 10.14.6 Mojave / x86_64 | OK | OK | [ OK ] | OK |
| Package: rWikiPathways |
| Version: 1.8.5 |
| Command: /Library/Frameworks/R.framework/Versions/Current/Resources/bin/R CMD check --install=check:rWikiPathways.install-out.txt --library=/Library/Frameworks/R.framework/Versions/Current/Resources/library --no-vignettes --timings rWikiPathways_1.8.5.tar.gz |
| StartedAt: 2020-10-17 04:57:35 -0400 (Sat, 17 Oct 2020) |
| EndedAt: 2020-10-17 04:59:39 -0400 (Sat, 17 Oct 2020) |
| EllapsedTime: 124.4 seconds |
| RetCode: 0 |
| Status: OK |
| CheckDir: rWikiPathways.Rcheck |
| Warnings: 0 |
##############################################################################
##############################################################################
###
### Running command:
###
### /Library/Frameworks/R.framework/Versions/Current/Resources/bin/R CMD check --install=check:rWikiPathways.install-out.txt --library=/Library/Frameworks/R.framework/Versions/Current/Resources/library --no-vignettes --timings rWikiPathways_1.8.5.tar.gz
###
##############################################################################
##############################################################################
* using log directory ‘/Users/biocbuild/bbs-3.11-bioc/meat/rWikiPathways.Rcheck’
* using R version 4.0.3 (2020-10-10)
* using platform: x86_64-apple-darwin17.0 (64-bit)
* using session charset: UTF-8
* using option ‘--no-vignettes’
* checking for file ‘rWikiPathways/DESCRIPTION’ ... OK
* checking extension type ... Package
* this is package ‘rWikiPathways’ version ‘1.8.5’
* checking package namespace information ... OK
* checking package dependencies ... OK
* checking if this is a source package ... OK
* checking if there is a namespace ... OK
* checking for hidden files and directories ... NOTE
Found the following hidden files and directories:
.travis.yml
These were most likely included in error. See section ‘Package
structure’ in the ‘Writing R Extensions’ manual.
* checking for portable file names ... OK
* checking for sufficient/correct file permissions ... OK
* checking whether package ‘rWikiPathways’ can be installed ... OK
* checking installed package size ... OK
* checking package directory ... OK
* checking ‘build’ directory ... OK
* checking DESCRIPTION meta-information ... OK
* checking top-level files ... OK
* checking for left-over files ... OK
* checking index information ... OK
* checking package subdirectories ... OK
* checking R files for non-ASCII characters ... OK
* checking R files for syntax errors ... OK
* checking whether the package can be loaded ... OK
* checking whether the package can be loaded with stated dependencies ... OK
* checking whether the package can be unloaded cleanly ... OK
* checking whether the namespace can be loaded with stated dependencies ... OK
* checking whether the namespace can be unloaded cleanly ... OK
* checking dependencies in R code ... OK
* checking S3 generic/method consistency ... OK
* checking replacement functions ... OK
* checking foreign function calls ... OK
* checking R code for possible problems ... NOTE
readPathwayGMT: no visible global function definition for ‘stack’
readPathwayGMT: no visible binding for global variable ‘pathway’
Undefined global functions or variables:
pathway stack
Consider adding
importFrom("utils", "stack")
to your NAMESPACE file.
* checking Rd files ... OK
* checking Rd metadata ... OK
* checking Rd cross-references ... OK
* checking for missing documentation entries ... OK
* checking for code/documentation mismatches ... OK
* checking Rd \usage sections ... OK
* checking Rd contents ... OK
* checking for unstated dependencies in examples ... OK
* checking files in ‘vignettes’ ... OK
* checking examples ... OK
Examples with CPU (user + system) or elapsed time > 5s
user system elapsed
findPathwayIdsByLiterature 0.348 0.027 5.173
* checking for unstated dependencies in ‘tests’ ... OK
* checking tests ...
Running ‘testthat.R’
OK
* checking for unstated dependencies in vignettes ... OK
* checking package vignettes in ‘inst/doc’ ... OK
* checking running R code from vignettes ... SKIPPED
* checking re-building of vignette outputs ... SKIPPED
* checking PDF version of manual ... OK
* DONE
Status: 2 NOTEs
See
‘/Users/biocbuild/bbs-3.11-bioc/meat/rWikiPathways.Rcheck/00check.log’
for details.
rWikiPathways.Rcheck/00install.out
############################################################################## ############################################################################## ### ### Running command: ### ### /Library/Frameworks/R.framework/Versions/Current/Resources/bin/R CMD INSTALL rWikiPathways ### ############################################################################## ############################################################################## * installing to library ‘/Library/Frameworks/R.framework/Versions/4.0/Resources/library’ * installing *source* package ‘rWikiPathways’ ... ** using staged installation ** R ** inst ** byte-compile and prepare package for lazy loading ** help *** installing help indices ** building package indices ** installing vignettes ** testing if installed package can be loaded from temporary location ** testing if installed package can be loaded from final location ** testing if installed package keeps a record of temporary installation path * DONE (rWikiPathways)
rWikiPathways.Rcheck/tests/testthat.Rout
R version 4.0.3 (2020-10-10) -- "Bunny-Wunnies Freak Out"
Copyright (C) 2020 The R Foundation for Statistical Computing
Platform: x86_64-apple-darwin17.0 (64-bit)
R is free software and comes with ABSOLUTELY NO WARRANTY.
You are welcome to redistribute it under certain conditions.
Type 'license()' or 'licence()' for distribution details.
R is a collaborative project with many contributors.
Type 'contributors()' for more information and
'citation()' on how to cite R or R packages in publications.
Type 'demo()' for some demos, 'help()' for on-line help, or
'help.start()' for an HTML browser interface to help.
Type 'q()' to quit R.
> library(testthat)
> library(rWikiPathways)
>
> test_check("rWikiPathways")
══ testthat results ═══════════════════════════════════════════════════════════
[ OK: 27 | SKIPPED: 0 | WARNINGS: 0 | FAILED: 0 ]
>
> proc.time()
user system elapsed
3.363 0.209 24.117
rWikiPathways.Rcheck/rWikiPathways-Ex.timings
| name | user | system | elapsed | |
| downloadPathwayArchive | 0.000 | 0.001 | 0.000 | |
| findPathwayIdsByLiterature | 0.348 | 0.027 | 5.173 | |
| findPathwayIdsByText | 0.014 | 0.002 | 0.719 | |
| findPathwayIdsByXref | 0.027 | 0.001 | 0.537 | |
| findPathwayNamesByLiterature | 0.246 | 0.009 | 4.882 | |
| findPathwayNamesByText | 0.017 | 0.003 | 0.711 | |
| findPathwayNamesByXref | 0.029 | 0.002 | 0.519 | |
| findPathwayUrlsByLiterature | 0.251 | 0.010 | 4.664 | |
| findPathwayUrlsByText | 0.018 | 0.003 | 0.694 | |
| findPathwayUrlsByXref | 0.025 | 0.003 | 0.512 | |
| findPathwaysByLiterature | 0.244 | 0.006 | 4.666 | |
| findPathwaysByText | 0.016 | 0.001 | 0.695 | |
| findPathwaysByXref | 0.048 | 0.007 | 0.548 | |
| getColoredPathway | 0.002 | 0.000 | 0.001 | |
| getCurationTagNames | 0.008 | 0.001 | 0.057 | |
| getCurationTags | 0.010 | 0.002 | 0.059 | |
| getEveryCurationTag | 0.129 | 0.137 | 1.080 | |
| getOntologyTermIds | 0.008 | 0.000 | 0.047 | |
| getOntologyTermNames | 0.009 | 0.001 | 0.043 | |
| getOntologyTerms | 0.008 | 0.001 | 0.043 | |
| getPathway | 0.040 | 0.001 | 0.082 | |
| getPathwayHistory | 0.010 | 0.002 | 0.055 | |
| getPathwayIdsByCurationTag | 0.021 | 0.004 | 0.635 | |
| getPathwayIdsByOntologyTerm | 0.009 | 0.001 | 0.072 | |
| getPathwayIdsByParentOntologyTerm | 0.01 | 0.00 | 0.06 | |
| getPathwayInfo | 0.020 | 0.001 | 0.055 | |
| getPathwaysByCurationTag | 0.058 | 0.045 | 0.709 | |
| getPathwaysByOntologyTerm | 0.011 | 0.003 | 0.060 | |
| getPathwaysByParentOntologyTerm | 0.011 | 0.003 | 0.062 | |
| getRecentChanges | 0.119 | 0.125 | 1.155 | |
| getRecentChangesIds | 0.024 | 0.008 | 0.660 | |
| getRecentChangesNames | 0.039 | 0.016 | 0.695 | |
| getXrefList | 0.008 | 0.000 | 0.189 | |
| listOrganisms | 0.009 | 0.001 | 0.042 | |
| listPathwayIds | 0.014 | 0.006 | 4.390 | |
| listPathwayNames | 0.021 | 0.009 | 4.435 | |
| listPathwayUrls | 0.028 | 0.006 | 4.543 | |
| listPathways | 0.019 | 0.001 | 4.437 | |
| readPathwayGMT | 0.000 | 0.000 | 0.001 | |
| wikipathwaysAPI | 0.003 | 0.002 | 0.006 | |
| wikipathwaysGET | 0.008 | 0.001 | 0.041 | |