| Back to Multiple platform build/check report for BioC 3.11 | 
 | 
This page was generated on 2020-10-17 11:57:42 -0400 (Sat, 17 Oct 2020).
| TO THE DEVELOPERS/MAINTAINERS OF THE rSWeeP PACKAGE: Please make sure to use the following settings in order to reproduce any error or warning you see on this page. | 
| Package 1545/1905 | Hostname | OS / Arch | INSTALL | BUILD | CHECK | BUILD BIN | ||||||
| rSWeeP 1.0.0 Danrley R. Fernandes 
 | malbec2 | Linux (Ubuntu 18.04.4 LTS) / x86_64 | OK | OK | OK |  | ||||||
| tokay2 | Windows Server 2012 R2 Standard / x64 | OK | [ OK ] | OK | OK |  | ||||||
| machv2 | macOS 10.14.6 Mojave / x86_64 | OK | OK | OK | OK |  | 
| Package: rSWeeP | 
| Version: 1.0.0 | 
| Command: chmod a+r rSWeeP -R && C:\Users\biocbuild\bbs-3.11-bioc\R\bin\R.exe CMD build --keep-empty-dirs --no-resave-data rSWeeP | 
| StartedAt: 2020-10-17 00:20:50 -0400 (Sat, 17 Oct 2020) | 
| EndedAt: 2020-10-17 00:21:12 -0400 (Sat, 17 Oct 2020) | 
| EllapsedTime: 22.0 seconds | 
| RetCode: 0 | 
| Status: OK | 
| PackageFile: rSWeeP_1.0.0.tar.gz | 
| PackageFileSize: 1.828 MiB | 
############################################################################## ############################################################################## ### ### Running command: ### ### chmod a+r rSWeeP -R && C:\Users\biocbuild\bbs-3.11-bioc\R\bin\R.exe CMD build --keep-empty-dirs --no-resave-data rSWeeP ### ############################################################################## ############################################################################## * checking for file 'rSWeeP/DESCRIPTION' ... OK * preparing 'rSWeeP': * checking DESCRIPTION meta-information ... OK * installing the package to build vignettes * creating vignettes ... OK * checking for LF line-endings in source and make files and shell scripts * checking for empty or unneeded directories * building 'rSWeeP_1.0.0.tar.gz'