| Back to Multiple platform build/check report for BioC 3.11 |
|
This page was generated on 2020-10-17 11:57:32 -0400 (Sat, 17 Oct 2020).
| TO THE DEVELOPERS/MAINTAINERS OF THE r3Cseq PACKAGE: Please make sure to use the following settings in order to reproduce any error or warning you see on this page. |
| Package 1407/1905 | Hostname | OS / Arch | INSTALL | BUILD | CHECK | BUILD BIN | ||||||
| r3Cseq 1.34.0 Supat Thongjuea
| malbec2 | Linux (Ubuntu 18.04.4 LTS) / x86_64 | OK | OK | OK | |||||||
| tokay2 | Windows Server 2012 R2 Standard / x64 | [ OK ] | OK | OK | OK | |||||||
| machv2 | macOS 10.14.6 Mojave / x86_64 | OK | OK | OK | OK |
| Package: r3Cseq |
| Version: 1.34.0 |
| Command: C:\cygwin\bin\curl.exe -O https://malbec2.bioconductor.org/BBS/3.11/bioc/src/contrib/r3Cseq_1.34.0.tar.gz && rm -rf r3Cseq.buildbin-libdir && mkdir r3Cseq.buildbin-libdir && C:\Users\biocbuild\bbs-3.11-bioc\R\bin\R.exe CMD INSTALL --merge-multiarch --build --library=r3Cseq.buildbin-libdir r3Cseq_1.34.0.tar.gz && C:\Users\biocbuild\bbs-3.11-bioc\R\bin\R.exe CMD INSTALL r3Cseq_1.34.0.zip && rm r3Cseq_1.34.0.tar.gz r3Cseq_1.34.0.zip |
| StartedAt: 2020-10-16 19:00:40 -0400 (Fri, 16 Oct 2020) |
| EndedAt: 2020-10-16 19:02:24 -0400 (Fri, 16 Oct 2020) |
| EllapsedTime: 104.3 seconds |
| RetCode: 0 |
| Status: OK |
##############################################################################
##############################################################################
###
### Running command:
###
### C:\cygwin\bin\curl.exe -O https://malbec2.bioconductor.org/BBS/3.11/bioc/src/contrib/r3Cseq_1.34.0.tar.gz && rm -rf r3Cseq.buildbin-libdir && mkdir r3Cseq.buildbin-libdir && C:\Users\biocbuild\bbs-3.11-bioc\R\bin\R.exe CMD INSTALL --merge-multiarch --build --library=r3Cseq.buildbin-libdir r3Cseq_1.34.0.tar.gz && C:\Users\biocbuild\bbs-3.11-bioc\R\bin\R.exe CMD INSTALL r3Cseq_1.34.0.zip && rm r3Cseq_1.34.0.tar.gz r3Cseq_1.34.0.zip
###
##############################################################################
##############################################################################
% Total % Received % Xferd Average Speed Time Time Time Current
Dload Upload Total Spent Left Speed
0 0 0 0 0 0 0 0 --:--:-- --:--:-- --:--:-- 0
100 3404k 100 3404k 0 0 17.2M 0 --:--:-- --:--:-- --:--:-- 17.8M
install for i386
* installing *source* package 'r3Cseq' ...
** using staged installation
** R
** data
** byte-compile and prepare package for lazy loading
No methods found in package 'Biostrings' for request: 'DNAString' when loading 'r3Cseq'
** help
*** installing help indices
converting help for package 'r3Cseq'
finding HTML links ... done
Myb_prom_FB html
Myb_prom_FL html
calculateBatchRPM html
calculateRPM html
contrCoverage html
contrInteractionRegions html
contrRPM html
contrRawData html
contrReadCount html
enzymeDb html
expCoverage html
expInteractionRegions html
expRPM html
expRawData html
expReadCount html
export3Cseq2bedGraph html
export3CseqRawReads2bedGraph html
exportBatchInteractions2text html
exportInteractions2text html
generate3CseqReport html
getBatchInteractions html
finding level-2 HTML links ... done
getBatchRawReads html
getBatchReadCountPerRestrictionFragment
html
getBatchReadCountPerWindow html
getContrInteractionsInRefseq html
getCoverage html
getExpInteractionsInRefseq html
getInteractions html
getRawReads html
getReadCountPerRestrictionFragment html
getReadCountPerWindow html
getViewpoint html
hg18refGene html
hg19refGene html
mm10refGene html
mm9refGene html
plot3Cecdf html
plotDomainogramNearViewpoint html
plotInteractionsNearViewpoint html
plotInteractionsPerChromosome html
plotOverviewInteractions html
r3Cseq-class html
r3CseqCommon-class html
r3CseqInBatch-class html
rn5refGene html
** building package indices
** installing vignettes
** testing if installed package can be loaded from temporary location
No methods found in package 'Biostrings' for request: 'DNAString' when loading 'r3Cseq'
** testing if installed package can be loaded from final location
No methods found in package 'Biostrings' for request: 'DNAString' when loading 'r3Cseq'
** testing if installed package keeps a record of temporary installation path
install for x64
* installing *source* package 'r3Cseq' ...
** testing if installed package can be loaded
No methods found in package 'Biostrings' for request: 'DNAString' when loading 'r3Cseq'
* MD5 sums
packaged installation of 'r3Cseq' as r3Cseq_1.34.0.zip
* DONE (r3Cseq)
* installing to library 'C:/Users/biocbuild/bbs-3.11-bioc/R/library'
package 'r3Cseq' successfully unpacked and MD5 sums checked