| Back to Multiple platform build/check report for BioC 3.11 |
|
This page was generated on 2020-10-17 11:59:18 -0400 (Sat, 17 Oct 2020).
| TO THE DEVELOPERS/MAINTAINERS OF THE qckitfastq PACKAGE: Please make sure to use the following settings in order to reproduce any error or warning you see on this page. |
| Package 1386/1905 | Hostname | OS / Arch | INSTALL | BUILD | CHECK | BUILD BIN | ||||||
| qckitfastq 1.4.0 August Guang
| malbec2 | Linux (Ubuntu 18.04.4 LTS) / x86_64 | OK | OK | OK | |||||||
| tokay2 | Windows Server 2012 R2 Standard / x64 | OK | OK | OK | OK | |||||||
| machv2 | macOS 10.14.6 Mojave / x86_64 | OK | OK | [ OK ] | OK |
| Package: qckitfastq |
| Version: 1.4.0 |
| Command: /Library/Frameworks/R.framework/Versions/Current/Resources/bin/R CMD check --install=check:qckitfastq.install-out.txt --library=/Library/Frameworks/R.framework/Versions/Current/Resources/library --no-vignettes --timings qckitfastq_1.4.0.tar.gz |
| StartedAt: 2020-10-17 04:14:04 -0400 (Sat, 17 Oct 2020) |
| EndedAt: 2020-10-17 04:15:54 -0400 (Sat, 17 Oct 2020) |
| EllapsedTime: 110.2 seconds |
| RetCode: 0 |
| Status: OK |
| CheckDir: qckitfastq.Rcheck |
| Warnings: 0 |
##############################################################################
##############################################################################
###
### Running command:
###
### /Library/Frameworks/R.framework/Versions/Current/Resources/bin/R CMD check --install=check:qckitfastq.install-out.txt --library=/Library/Frameworks/R.framework/Versions/Current/Resources/library --no-vignettes --timings qckitfastq_1.4.0.tar.gz
###
##############################################################################
##############################################################################
* using log directory ‘/Users/biocbuild/bbs-3.11-bioc/meat/qckitfastq.Rcheck’
* using R version 4.0.3 (2020-10-10)
* using platform: x86_64-apple-darwin17.0 (64-bit)
* using session charset: UTF-8
* using option ‘--no-vignettes’
* checking for file ‘qckitfastq/DESCRIPTION’ ... OK
* checking extension type ... Package
* this is package ‘qckitfastq’ version ‘1.4.0’
* package encoding: UTF-8
* checking package namespace information ... OK
* checking package dependencies ... OK
* checking if this is a source package ... OK
* checking if there is a namespace ... OK
* checking for hidden files and directories ... OK
* checking for portable file names ... OK
* checking for sufficient/correct file permissions ... OK
* checking whether package ‘qckitfastq’ can be installed ... OK
* checking installed package size ... OK
* checking package directory ... OK
* checking ‘build’ directory ... OK
* checking DESCRIPTION meta-information ... OK
* checking top-level files ... OK
* checking for left-over files ... OK
* checking index information ... OK
* checking package subdirectories ... OK
* checking R files for non-ASCII characters ... OK
* checking R files for syntax errors ... OK
* checking whether the package can be loaded ... OK
* checking whether the package can be loaded with stated dependencies ... OK
* checking whether the package can be unloaded cleanly ... OK
* checking whether the namespace can be loaded with stated dependencies ... OK
* checking whether the namespace can be unloaded cleanly ... OK
* checking dependencies in R code ... OK
* checking S3 generic/method consistency ... OK
* checking replacement functions ... OK
* checking foreign function calls ... OK
* checking R code for possible problems ... OK
* checking Rd files ... OK
* checking Rd metadata ... OK
* checking Rd cross-references ... OK
* checking for missing documentation entries ... OK
* checking for code/documentation mismatches ... OK
* checking Rd \usage sections ... OK
* checking Rd contents ... OK
* checking for unstated dependencies in examples ... OK
* checking line endings in C/C++/Fortran sources/headers ... OK
* checking line endings in Makefiles ... OK
* checking compilation flags in Makevars ... OK
* checking for GNU extensions in Makefiles ... OK
* checking for portable use of $(BLAS_LIBS) and $(LAPACK_LIBS) ... OK
* checking use of PKG_*FLAGS in Makefiles ... OK
* checking compiled code ... NOTE
Note: information on .o files is not available
* checking sizes of PDF files under ‘inst/doc’ ... OK
* checking files in ‘vignettes’ ... OK
* checking examples ... OK
Examples with CPU (user + system) or elapsed time > 5s
user system elapsed
run_all 14.241 3.742 18.696
* checking for unstated dependencies in ‘tests’ ... OK
* checking tests ...
Running ‘testthat.R’
OK
* checking for unstated dependencies in vignettes ... OK
* checking package vignettes in ‘inst/doc’ ... OK
* checking running R code from vignettes ... SKIPPED
* checking re-building of vignette outputs ... SKIPPED
* checking PDF version of manual ... OK
* DONE
Status: 1 NOTE
See
‘/Users/biocbuild/bbs-3.11-bioc/meat/qckitfastq.Rcheck/00check.log’
for details.
qckitfastq.Rcheck/00install.out
##############################################################################
##############################################################################
###
### Running command:
###
### /Library/Frameworks/R.framework/Versions/Current/Resources/bin/R CMD INSTALL qckitfastq
###
##############################################################################
##############################################################################
* installing to library ‘/Library/Frameworks/R.framework/Versions/4.0/Resources/library’
* installing *source* package ‘qckitfastq’ ...
** using staged installation
** libs
clang++ -mmacosx-version-min=10.13 -std=gnu++14 -I"/Library/Frameworks/R.framework/Resources/include" -DNDEBUG -I'/Library/Frameworks/R.framework/Versions/4.0/Resources/library/Rcpp/include' -I'/Library/Frameworks/R.framework/Versions/4.0/Resources/library/RSeqAn/include' -I/usr/local/include -fPIC -Wall -g -O2 -c RcppExports.cpp -o RcppExports.o
clang++ -mmacosx-version-min=10.13 -std=gnu++14 -I"/Library/Frameworks/R.framework/Resources/include" -DNDEBUG -I'/Library/Frameworks/R.framework/Versions/4.0/Resources/library/Rcpp/include' -I'/Library/Frameworks/R.framework/Versions/4.0/Resources/library/RSeqAn/include' -I/usr/local/include -fPIC -Wall -g -O2 -c calc_adapter_content.cpp -o calc_adapter_content.o
clang++ -mmacosx-version-min=10.13 -std=gnu++14 -I"/Library/Frameworks/R.framework/Resources/include" -DNDEBUG -I'/Library/Frameworks/R.framework/Versions/4.0/Resources/library/Rcpp/include' -I'/Library/Frameworks/R.framework/Versions/4.0/Resources/library/RSeqAn/include' -I/usr/local/include -fPIC -Wall -g -O2 -c gzstream.cpp -o gzstream.o
clang++ -mmacosx-version-min=10.13 -std=gnu++14 -I"/Library/Frameworks/R.framework/Resources/include" -DNDEBUG -I'/Library/Frameworks/R.framework/Versions/4.0/Resources/library/Rcpp/include' -I'/Library/Frameworks/R.framework/Versions/4.0/Resources/library/RSeqAn/include' -I/usr/local/include -fPIC -Wall -g -O2 -c read_fastq.cpp -o read_fastq.o
read_fastq.cpp:30:32: warning: unused variable 'it' [-Wunused-variable]
std::vector<int>::iterator it;
^
read_fastq.cpp:158:36: warning: unused variable 'qual_by_col_it' [-Wunused-variable]
std::vector<uint8_t>::iterator qual_by_col_it;
^
2 warnings generated.
clang++ -mmacosx-version-min=10.13 -std=gnu++14 -dynamiclib -Wl,-headerpad_max_install_names -undefined dynamic_lookup -single_module -multiply_defined suppress -L/Library/Frameworks/R.framework/Resources/lib -L/usr/local/lib -o qckitfastq.so RcppExports.o calc_adapter_content.o gzstream.o read_fastq.o -lz -F/Library/Frameworks/R.framework/.. -framework R -Wl,-framework -Wl,CoreFoundation
installing to /Library/Frameworks/R.framework/Versions/4.0/Resources/library/00LOCK-qckitfastq/00new/qckitfastq/libs
** R
** inst
** byte-compile and prepare package for lazy loading
** help
*** installing help indices
** building package indices
** installing vignettes
** testing if installed package can be loaded from temporary location
** checking absolute paths in shared objects and dynamic libraries
** testing if installed package can be loaded from final location
** testing if installed package keeps a record of temporary installation path
* DONE (qckitfastq)
qckitfastq.Rcheck/tests/testthat.Rout
R version 4.0.3 (2020-10-10) -- "Bunny-Wunnies Freak Out"
Copyright (C) 2020 The R Foundation for Statistical Computing
Platform: x86_64-apple-darwin17.0 (64-bit)
R is free software and comes with ABSOLUTELY NO WARRANTY.
You are welcome to redistribute it under certain conditions.
Type 'license()' or 'licence()' for distribution details.
R is a collaborative project with many contributors.
Type 'contributors()' for more information and
'citation()' on how to cite R or R packages in publications.
Type 'demo()' for some demos, 'help()' for on-line help, or
'help.start()' for an HTML browser interface to help.
Type 'q()' to quit R.
> library(testthat)
> library(qckitfastq)
>
> test_check("qckitfastq")
[fastqq] File ( 1/1) '/Library/Frameworks/R.framework/Versions/4.0/Resources/library/qckitfastq/extdata/10^5_reads_test.fq.gz' done.
[fastq_Klocs] File ( 1/1) '/Library/Frameworks/R.framework/Versions/4.0/Resources/library/qckitfastq/extdata/10^5_reads_test.fq.gz' done.
[fastqq] File ( 1/1) '/Library/Frameworks/R.framework/Versions/4.0/Resources/library/qckitfastq/extdata/10^5_reads_test.fq.gz' done.
[fastqq] File ( 1/1) '/Library/Frameworks/R.framework/Versions/4.0/Resources/library/qckitfastq/extdata/10^5_reads_test.fq.gz' done.
[fastq_Klocs] File ( 1/1) '/Library/Frameworks/R.framework/Versions/4.0/Resources/library/qckitfastq/extdata/10^5_reads_test.fq.gz' done.
[fastqq] File ( 1/1) '/Library/Frameworks/R.framework/Versions/4.0/Resources/library/qckitfastq/extdata/10^5_reads_test.fq.gz' done.
[fastq_Klocs] File ( 1/1) '/Library/Frameworks/R.framework/Versions/4.0/Resources/library/qckitfastq/extdata/10^5_reads_test.fq.gz' done.
══ testthat results ═══════════════════════════════════════════════════════════
[ OK: 37 | SKIPPED: 0 | WARNINGS: 3 | FAILED: 0 ]
>
> proc.time()
user system elapsed
25.500 3.608 29.656
qckitfastq.Rcheck/qckitfastq-Ex.timings
| name | user | system | elapsed | |
| GC_content | 0.292 | 0.006 | 0.298 | |
| adapter_content | 0.003 | 0.002 | 0.005 | |
| calc_adapter_content | 0.003 | 0.001 | 0.005 | |
| calc_format_score | 0.001 | 0.000 | 0.000 | |
| calc_over_rep_seq | 0.156 | 0.005 | 0.161 | |
| dimensions | 0.181 | 0.010 | 0.193 | |
| find_format | 0.001 | 0.001 | 0.002 | |
| gc_per_read | 0.253 | 0.002 | 0.255 | |
| kmer_count | 0.079 | 0.003 | 0.082 | |
| overrep_kmer | 0.633 | 0.029 | 0.663 | |
| overrep_reads | 0.146 | 0.003 | 0.149 | |
| per_base_quality | 0.339 | 0.013 | 0.353 | |
| per_read_quality | 0.346 | 0.008 | 0.355 | |
| plot_GC_content | 0.709 | 0.017 | 0.729 | |
| plot_adapter_content | 0.195 | 0.003 | 0.198 | |
| plot_overrep_kmer | 0.825 | 0.009 | 0.834 | |
| plot_overrep_reads | 0.367 | 0.004 | 0.371 | |
| plot_per_base_quality | 1.763 | 0.011 | 1.775 | |
| plot_per_read_quality | 0.660 | 0.012 | 0.672 | |
| plot_read_content | 0.420 | 0.016 | 0.436 | |
| plot_read_length | 0.386 | 0.003 | 0.389 | |
| qual_score_per_read | 0.328 | 0.009 | 0.338 | |
| read_base_content | 0.093 | 0.002 | 0.096 | |
| read_content | 0.102 | 0.007 | 0.110 | |
| read_length | 0.003 | 0.001 | 0.004 | |
| run_all | 14.241 | 3.742 | 18.696 | |