| Back to Multiple platform build/check report for BioC 3.11 |
|
This page was generated on 2020-10-17 11:57:29 -0400 (Sat, 17 Oct 2020).
| TO THE DEVELOPERS/MAINTAINERS OF THE projectR PACKAGE: Please make sure to use the following settings in order to reproduce any error or warning you see on this page. |
| Package 1360/1905 | Hostname | OS / Arch | INSTALL | BUILD | CHECK | BUILD BIN | ||||||
| projectR 1.4.0 Genevieve Stein-O'Brien
| malbec2 | Linux (Ubuntu 18.04.4 LTS) / x86_64 | OK | OK | OK | |||||||
| tokay2 | Windows Server 2012 R2 Standard / x64 | [ OK ] | OK | OK | OK | |||||||
| machv2 | macOS 10.14.6 Mojave / x86_64 | OK | OK | OK | OK |
| Package: projectR |
| Version: 1.4.0 |
| Command: C:\cygwin\bin\curl.exe -O https://malbec2.bioconductor.org/BBS/3.11/bioc/src/contrib/projectR_1.4.0.tar.gz && rm -rf projectR.buildbin-libdir && mkdir projectR.buildbin-libdir && C:\Users\biocbuild\bbs-3.11-bioc\R\bin\R.exe CMD INSTALL --merge-multiarch --build --library=projectR.buildbin-libdir projectR_1.4.0.tar.gz && C:\Users\biocbuild\bbs-3.11-bioc\R\bin\R.exe CMD INSTALL projectR_1.4.0.zip && rm projectR_1.4.0.tar.gz projectR_1.4.0.zip |
| StartedAt: 2020-10-16 18:31:36 -0400 (Fri, 16 Oct 2020) |
| EndedAt: 2020-10-16 18:32:19 -0400 (Fri, 16 Oct 2020) |
| EllapsedTime: 43.8 seconds |
| RetCode: 0 |
| Status: OK |
##############################################################################
##############################################################################
###
### Running command:
###
### C:\cygwin\bin\curl.exe -O https://malbec2.bioconductor.org/BBS/3.11/bioc/src/contrib/projectR_1.4.0.tar.gz && rm -rf projectR.buildbin-libdir && mkdir projectR.buildbin-libdir && C:\Users\biocbuild\bbs-3.11-bioc\R\bin\R.exe CMD INSTALL --merge-multiarch --build --library=projectR.buildbin-libdir projectR_1.4.0.tar.gz && C:\Users\biocbuild\bbs-3.11-bioc\R\bin\R.exe CMD INSTALL projectR_1.4.0.zip && rm projectR_1.4.0.tar.gz projectR_1.4.0.zip
###
##############################################################################
##############################################################################
% Total % Received % Xferd Average Speed Time Time Time Current
Dload Upload Total Spent Left Speed
0 0 0 0 0 0 0 0 --:--:-- --:--:-- --:--:-- 0
100 870k 100 870k 0 0 11.8M 0 --:--:-- --:--:-- --:--:-- 13.0M
install for i386
* installing *source* package 'projectR' ...
** using staged installation
** R
** data
*** moving datasets to lazyload DB
** byte-compile and prepare package for lazy loading
** help
*** installing help indices
converting help for package 'projectR'
finding HTML links ... done
AP.RNAseq6l3c3t html
alluvialMat html
aucMat html
cluster2pattern-methods html
clusterPlotR-methods html
correlateR-class html
correlateR html
geneMatchR html
initialize-correlateR-method html
initialize-rotatoR-method html
intersectoR-methods html
map.ESepiGen4c1l html
map.RNAseq6l3c3t html
p.ESepiGen4c1l html
p.RNAseq6l3c3t html
pd.ESepiGen4c1l html
pd.RNAseq6l3c3t html
projectR-methods html
rotatoR-class html
rotatoR html
** building package indices
** installing vignettes
** testing if installed package can be loaded from temporary location
** testing if installed package can be loaded from final location
** testing if installed package keeps a record of temporary installation path
install for x64
* installing *source* package 'projectR' ...
** testing if installed package can be loaded
* MD5 sums
packaged installation of 'projectR' as projectR_1.4.0.zip
* DONE (projectR)
* installing to library 'C:/Users/biocbuild/bbs-3.11-bioc/R/library'
package 'projectR' successfully unpacked and MD5 sums checked