| Back to Multiple platform build/check report for BioC 3.11 |
|
This page was generated on 2020-10-17 11:57:28 -0400 (Sat, 17 Oct 2020).
| TO THE DEVELOPERS/MAINTAINERS OF THE procoil PACKAGE: Please make sure to use the following settings in order to reproduce any error or warning you see on this page. |
| Package 1354/1905 | Hostname | OS / Arch | INSTALL | BUILD | CHECK | BUILD BIN | ||||||
| procoil 2.16.0 Ulrich Bodenhofer
| malbec2 | Linux (Ubuntu 18.04.4 LTS) / x86_64 | OK | OK | OK | |||||||
| tokay2 | Windows Server 2012 R2 Standard / x64 | OK | OK | WARNINGS | [ OK ] | |||||||
| machv2 | macOS 10.14.6 Mojave / x86_64 | OK | OK | OK | OK |
| Package: procoil |
| Version: 2.16.0 |
| Command: rm -rf procoil.buildbin-libdir && mkdir procoil.buildbin-libdir && C:\Users\biocbuild\bbs-3.11-bioc\R\bin\R.exe CMD INSTALL --merge-multiarch --build --library=procoil.buildbin-libdir procoil_2.16.0.tar.gz |
| StartedAt: 2020-10-17 11:19:08 -0400 (Sat, 17 Oct 2020) |
| EndedAt: 2020-10-17 11:20:09 -0400 (Sat, 17 Oct 2020) |
| EllapsedTime: 60.7 seconds |
| RetCode: 0 |
| Status: OK |
| PackageFile: procoil_2.16.0.zip |
| PackageFileSize: 1.61 MiB |
##############################################################################
##############################################################################
###
### Running command:
###
### rm -rf procoil.buildbin-libdir && mkdir procoil.buildbin-libdir && C:\Users\biocbuild\bbs-3.11-bioc\R\bin\R.exe CMD INSTALL --merge-multiarch --build --library=procoil.buildbin-libdir procoil_2.16.0.tar.gz
###
##############################################################################
##############################################################################
install for i386
* installing *source* package 'procoil' ...
** using staged installation
** R
** data
*** moving datasets to lazyload DB
** inst
** byte-compile and prepare package for lazy loading
** help
*** installing help indices
converting help for package 'procoil'
finding HTML links ... done
CCModel-FileOps html
CCModel-class html
CCProfile-class html
finding level-2 HTML links ... done
plot-methods html
Rd warning: C:/Users/biocbuild/bbs-3.11-bioc/tmpdir/Rtmpw5ikRf/R.INSTALL1cc41a147646/procoil/man/plot-methods.Rd:58: file link 'plot' in package 'graphics' does not exist and so has been treated as a topic
predict-methods html
procoil-package html
** building package indices
** installing vignettes
** testing if installed package can be loaded from temporary location
** testing if installed package can be loaded from final location
** testing if installed package keeps a record of temporary installation path
install for x64
* installing *source* package 'procoil' ...
** testing if installed package can be loaded
* MD5 sums
packaged installation of 'procoil' as procoil_2.16.0.zip
* DONE (procoil)