| Back to Multiple platform build/check report for BioC 3.11 | 
 | 
This page was generated on 2020-10-17 11:57:26 -0400 (Sat, 17 Oct 2020).
| TO THE DEVELOPERS/MAINTAINERS OF THE ppiStats PACKAGE: Please make sure to use the following settings in order to reproduce any error or warning you see on this page. | 
| Package 1339/1905 | Hostname | OS / Arch | INSTALL | BUILD | CHECK | BUILD BIN | ||||||
| ppiStats 1.54.0 Bioconductor Package Maintainer 
 | malbec2 | Linux (Ubuntu 18.04.4 LTS) / x86_64 | OK | OK | OK |  | ||||||
| tokay2 | Windows Server 2012 R2 Standard / x64 | OK | OK | OK | [ OK ] |  | ||||||
| machv2 | macOS 10.14.6 Mojave / x86_64 | OK | OK | OK | OK |  | 
| Package: ppiStats | 
| Version: 1.54.0 | 
| Command: rm -rf ppiStats.buildbin-libdir && mkdir ppiStats.buildbin-libdir && C:\Users\biocbuild\bbs-3.11-bioc\R\bin\R.exe CMD INSTALL --merge-multiarch --build --library=ppiStats.buildbin-libdir ppiStats_1.54.0.tar.gz | 
| StartedAt: 2020-10-17 11:18:02 -0400 (Sat, 17 Oct 2020) | 
| EndedAt: 2020-10-17 11:18:46 -0400 (Sat, 17 Oct 2020) | 
| EllapsedTime: 44.7 seconds | 
| RetCode: 0 | 
| Status: OK | 
| PackageFile: ppiStats_1.54.0.zip | 
| PackageFileSize: 1.386 MiB | 
##############################################################################
##############################################################################
###
### Running command:
###
###   rm -rf ppiStats.buildbin-libdir && mkdir ppiStats.buildbin-libdir && C:\Users\biocbuild\bbs-3.11-bioc\R\bin\R.exe CMD INSTALL --merge-multiarch --build --library=ppiStats.buildbin-libdir ppiStats_1.54.0.tar.gz
###
##############################################################################
##############################################################################
install for i386
* installing *source* package 'ppiStats' ...
** using staged installation
** R
** inst
** byte-compile and prepare package for lazy loading
No methods found in package 'Biobase' for request: 'listlen' when loading 'RpsiXML'
No methods found in package 'annotate' for requests: 'pubmed', 'buildPubMedAbst' when loading 'RpsiXML'
** help
*** installing help indices
  converting help for package 'ppiStats'
    finding HTML links ... done
    assessSymmetry                          html  
    bpMatrix                                html  
    calcInOutDegStats                       html  
    createSummaryTables                     html  
    degreeEstimates                         html  
    estErrProbMethodOfMoments               html  
    estimateCCMErrorRates                   html  
    estimatePPIErrorRates                   html  
    findAdjacent                            html  
    genBPGraph                              html  
    hgParams                                html  
    hgTests                                 html  
    idProteinErrorType                      html  
    idProteinType                           html  
    inOutScatterCharts                      html  
    nullDistDoublyTestedEdges               html  
    separateExptBySize                      html  
    twPERM                                  html  
    viabilityCharts                         html  
** building package indices
** installing vignettes
** testing if installed package can be loaded from temporary location
No methods found in package 'Biobase' for request: 'listlen' when loading 'RpsiXML'
No methods found in package 'annotate' for requests: 'pubmed', 'buildPubMedAbst' when loading 'RpsiXML'
** testing if installed package can be loaded from final location
No methods found in package 'Biobase' for request: 'listlen' when loading 'RpsiXML'
No methods found in package 'annotate' for requests: 'pubmed', 'buildPubMedAbst' when loading 'RpsiXML'
** testing if installed package keeps a record of temporary installation path
install for x64
* installing *source* package 'ppiStats' ...
** testing if installed package can be loaded
No methods found in package 'Biobase' for request: 'listlen' when loading 'RpsiXML'
No methods found in package 'annotate' for requests: 'pubmed', 'buildPubMedAbst' when loading 'RpsiXML'
* MD5 sums
packaged installation of 'ppiStats' as ppiStats_1.54.0.zip
* DONE (ppiStats)