| Back to Multiple platform build/check report for BioC 3.11 |
|
This page was generated on 2020-10-17 11:57:25 -0400 (Sat, 17 Oct 2020).
| TO THE DEVELOPERS/MAINTAINERS OF THE plw PACKAGE: Please make sure to use the following settings in order to reproduce any error or warning you see on this page. |
| Package 1326/1905 | Hostname | OS / Arch | INSTALL | BUILD | CHECK | BUILD BIN | ||||||
Magnus Astrand
| malbec2 | Linux (Ubuntu 18.04.4 LTS) / x86_64 | OK | OK | ERROR | |||||||
| tokay2 | Windows Server 2012 R2 Standard / x64 | OK | OK | ERROR | [ OK ] | |||||||
| machv2 | macOS 10.14.6 Mojave / x86_64 | OK | OK | ERROR | OK |
| Package: plw |
| Version: 1.48.0 |
| Command: rm -rf plw.buildbin-libdir && mkdir plw.buildbin-libdir && C:\Users\biocbuild\bbs-3.11-bioc\R\bin\R.exe CMD INSTALL --merge-multiarch --build --library=plw.buildbin-libdir plw_1.48.0.tar.gz |
| StartedAt: 2020-10-17 11:17:14 -0400 (Sat, 17 Oct 2020) |
| EndedAt: 2020-10-17 11:17:54 -0400 (Sat, 17 Oct 2020) |
| EllapsedTime: 39.5 seconds |
| RetCode: 0 |
| Status: OK |
| PackageFile: plw_1.48.0.zip |
| PackageFileSize: 895.8 KiB |
##############################################################################
##############################################################################
###
### Running command:
###
### rm -rf plw.buildbin-libdir && mkdir plw.buildbin-libdir && C:\Users\biocbuild\bbs-3.11-bioc\R\bin\R.exe CMD INSTALL --merge-multiarch --build --library=plw.buildbin-libdir plw_1.48.0.tar.gz
###
##############################################################################
##############################################################################
install for i386
* installing *source* package 'plw' ...
** using staged installation
** libs
"C:/rtools40/mingw32/bin/"gcc -I"C:/Users/BIOCBU~1/BBS-3~1.11-/R/include" -DNDEBUG -I"C:/extsoft/include" -O2 -Wall -std=gnu99 -mfpmath=sse -msse2 -mstackrealign -c SpecialFunctions.c -o SpecialFunctions.o
SpecialFunctions.c: In function 'getPosteriorProbsAndSigmaHatStrata0':
SpecialFunctions.c:154:20: warning: variable 's2' set but not used [-Wunused-but-set-variable]
double kk,C,s0,s1,s2,temp0,aa;
^~
SpecialFunctions.c:154:17: warning: variable 's1' set but not used [-Wunused-but-set-variable]
double kk,C,s0,s1,s2,temp0,aa;
^~
SpecialFunctions.c:154:14: warning: variable 's0' set but not used [-Wunused-but-set-variable]
double kk,C,s0,s1,s2,temp0,aa;
^~
"C:/rtools40/mingw32/bin/"gcc -I"C:/Users/BIOCBU~1/BBS-3~1.11-/R/include" -DNDEBUG -I"C:/extsoft/include" -O2 -Wall -std=gnu99 -mfpmath=sse -msse2 -mstackrealign -c SpecialOptim.c -o SpecialOptim.o
C:/rtools40/mingw32/bin/gcc -shared -s -static-libgcc -o plw.dll tmp.def SpecialFunctions.o SpecialOptim.o -LC:/extsoft/lib/i386 -LC:/extsoft/lib -LC:/Users/BIOCBU~1/BBS-3~1.11-/R/bin/i386 -lR
installing to C:/Users/biocbuild/bbs-3.11-bioc/meat/plw.buildbin-libdir/00LOCK-plw/00new/plw/libs/i386
** R
** data
** inst
** byte-compile and prepare package for lazy loading
** help
*** installing help indices
converting help for package 'plw'
finding HTML links ... done
AffySpikeU95Subset html
HowToPLW html
estimateMVbeta html
estimateSigma html
estimateSigmaMV html
estimateSigmaMVbeta html
getKnots html
lmw html
logitT html
plw-package html
plw html
scaleParameterPlot html
statByIndex html
topRankSummary html
varHistPlot html
** building package indices
** installing vignettes
** testing if installed package can be loaded from temporary location
Warning: Package 'plw' is deprecated and will be removed from Bioconductor
version 3.12
** testing if installed package can be loaded from final location
Warning: Package 'plw' is deprecated and will be removed from Bioconductor
version 3.12
** testing if installed package keeps a record of temporary installation path
install for x64
* installing *source* package 'plw' ...
** libs
"C:/rtools40/mingw64/bin/"gcc -I"C:/Users/BIOCBU~1/BBS-3~1.11-/R/include" -DNDEBUG -I"C:/extsoft/include" -O2 -Wall -std=gnu99 -mfpmath=sse -msse2 -mstackrealign -c SpecialFunctions.c -o SpecialFunctions.o
SpecialFunctions.c: In function 'getPosteriorProbsAndSigmaHatStrata0':
SpecialFunctions.c:154:20: warning: variable 's2' set but not used [-Wunused-but-set-variable]
double kk,C,s0,s1,s2,temp0,aa;
^~
SpecialFunctions.c:154:17: warning: variable 's1' set but not used [-Wunused-but-set-variable]
double kk,C,s0,s1,s2,temp0,aa;
^~
SpecialFunctions.c:154:14: warning: variable 's0' set but not used [-Wunused-but-set-variable]
double kk,C,s0,s1,s2,temp0,aa;
^~
"C:/rtools40/mingw64/bin/"gcc -I"C:/Users/BIOCBU~1/BBS-3~1.11-/R/include" -DNDEBUG -I"C:/extsoft/include" -O2 -Wall -std=gnu99 -mfpmath=sse -msse2 -mstackrealign -c SpecialOptim.c -o SpecialOptim.o
C:/rtools40/mingw64/bin/gcc -shared -s -static-libgcc -o plw.dll tmp.def SpecialFunctions.o SpecialOptim.o -LC:/extsoft/lib/x64 -LC:/extsoft/lib -LC:/Users/BIOCBU~1/BBS-3~1.11-/R/bin/x64 -lR
installing to C:/Users/biocbuild/bbs-3.11-bioc/meat/plw.buildbin-libdir/plw/libs/x64
** testing if installed package can be loaded
Warning: Package 'plw' is deprecated and will be removed from Bioconductor
version 3.12
* MD5 sums
packaged installation of 'plw' as plw_1.48.0.zip
* DONE (plw)