| Back to Multiple platform build/check report for BioC 3.11 |
|
This page was generated on 2020-10-17 11:57:25 -0400 (Sat, 17 Oct 2020).
| TO THE DEVELOPERS/MAINTAINERS OF THE plgem PACKAGE: Please make sure to use the following settings in order to reproduce any error or warning you see on this page. |
| Package 1320/1905 | Hostname | OS / Arch | INSTALL | BUILD | CHECK | BUILD BIN | ||||||
| plgem 1.60.0 Norman Pavelka
| malbec2 | Linux (Ubuntu 18.04.4 LTS) / x86_64 | OK | OK | OK | |||||||
| tokay2 | Windows Server 2012 R2 Standard / x64 | OK | OK | OK | [ OK ] | |||||||
| machv2 | macOS 10.14.6 Mojave / x86_64 | OK | OK | OK | OK |
| Package: plgem |
| Version: 1.60.0 |
| Command: rm -rf plgem.buildbin-libdir && mkdir plgem.buildbin-libdir && C:\Users\biocbuild\bbs-3.11-bioc\R\bin\R.exe CMD INSTALL --merge-multiarch --build --library=plgem.buildbin-libdir plgem_1.60.0.tar.gz |
| StartedAt: 2020-10-17 11:16:50 -0400 (Sat, 17 Oct 2020) |
| EndedAt: 2020-10-17 11:17:18 -0400 (Sat, 17 Oct 2020) |
| EllapsedTime: 28.0 seconds |
| RetCode: 0 |
| Status: OK |
| PackageFile: plgem_1.60.0.zip |
| PackageFileSize: 1.057 MiB |
##############################################################################
##############################################################################
###
### Running command:
###
### rm -rf plgem.buildbin-libdir && mkdir plgem.buildbin-libdir && C:\Users\biocbuild\bbs-3.11-bioc\R\bin\R.exe CMD INSTALL --merge-multiarch --build --library=plgem.buildbin-libdir plgem_1.60.0.tar.gz
###
##############################################################################
##############################################################################
install for i386
* installing *source* package 'plgem' ...
** using staged installation
** R
** data
** inst
** byte-compile and prepare package for lazy loading
** help
*** installing help indices
converting help for package 'plgem'
finding HTML links ... done
LPSeset html
plgem.deg html
plgem.fit html
plgem.obsStn html
plgem.pValue html
plgem.resampledStn html
plgem.write.summary html
run.plgem html
setGpar html
** building package indices
** installing vignettes
** testing if installed package can be loaded from temporary location
** testing if installed package can be loaded from final location
** testing if installed package keeps a record of temporary installation path
install for x64
* installing *source* package 'plgem' ...
** testing if installed package can be loaded
* MD5 sums
packaged installation of 'plgem' as plgem_1.60.0.zip
* DONE (plgem)