| Back to Multiple platform build/check report for BioC 3.11 | 
 | 
This page was generated on 2020-10-17 11:57:23 -0400 (Sat, 17 Oct 2020).
| TO THE DEVELOPERS/MAINTAINERS OF THE phenoTest PACKAGE: Please make sure to use the following settings in order to reproduce any error or warning you see on this page. | 
| Package 1304/1905 | Hostname | OS / Arch | INSTALL | BUILD | CHECK | BUILD BIN | ||||||
| phenoTest 1.36.0 Evarist Planet 
 | malbec2 | Linux (Ubuntu 18.04.4 LTS) / x86_64 | OK | OK | OK |  | ||||||
| tokay2 | Windows Server 2012 R2 Standard / x64 | OK | OK | OK | [ OK ] |  | ||||||
| machv2 | macOS 10.14.6 Mojave / x86_64 | OK | OK | OK | OK |  | 
| Package: phenoTest | 
| Version: 1.36.0 | 
| Command: rm -rf phenoTest.buildbin-libdir && mkdir phenoTest.buildbin-libdir && C:\Users\biocbuild\bbs-3.11-bioc\R\bin\R.exe CMD INSTALL --merge-multiarch --build --library=phenoTest.buildbin-libdir phenoTest_1.36.0.tar.gz | 
| StartedAt: 2020-10-17 11:15:54 -0400 (Sat, 17 Oct 2020) | 
| EndedAt: 2020-10-17 11:17:06 -0400 (Sat, 17 Oct 2020) | 
| EllapsedTime: 72.6 seconds | 
| RetCode: 0 | 
| Status: OK | 
| PackageFile: phenoTest_1.36.0.zip | 
| PackageFileSize: 1.831 MiB | 
##############################################################################
##############################################################################
###
### Running command:
###
###   rm -rf phenoTest.buildbin-libdir && mkdir phenoTest.buildbin-libdir && C:\Users\biocbuild\bbs-3.11-bioc\R\bin\R.exe CMD INSTALL --merge-multiarch --build --library=phenoTest.buildbin-libdir phenoTest_1.36.0.tar.gz
###
##############################################################################
##############################################################################
install for i386
* installing *source* package 'phenoTest' ...
** using staged installation
** R
** data
** inst
** byte-compile and prepare package for lazy loading
** help
*** installing help indices
  converting help for package 'phenoTest'
    finding HTML links ... done
    ClusterPhenoTest                        html  
    ExpressionPhenoTest                     html  
    barplotSignatures-methods               html  
    barplotSignifSignatures-methods         html  
    epheno-class                            html  
    finding level-2 HTML links ... done
    epheno                                  html  
    epheno2html                             html  
    ephenoGetters                           html  
    eset                                    html  
    eset.genelevel                          html  
    eset2genelevel                          html  
    export2CSV-methods                      html  
    export2CSV                              html  
    findCopyNumber                          html  
    genesInArea                             html  
    getEsPositions                          html  
    getGseaSignatures                       html  
    getVars2test-methods                    html  
    getVars2test                            html  
    gsea                                    html  
    gsea.subset                             html  
    gsea2html                               html  
    gseaData-class                          html  
    gseaSignatures-class                    html  
    gseaSignatures-methods                  html  
    gseaSignatures                          html  
    gseaSignaturesSign-class                html  
    gseaSignaturesVar-class                 html  
    gseaSignificance                        html  
    gseaSignificanceSign-class              html  
    gseaSignificanceVar-class               html  
    heatmapPhenoTest-methods                html  
    heatmapPhenoTest                        html  
    pAdjust-methods                         html  
    pAdjust                                 html  
    pca                                     html  
    phenoTest-package                       html  
    plot.gsea                               html  
    plot.gseaSignatures                     html  
    plots4epheno                            html  
    show-methods                            html  
    smoothCoxph                             html  
    summary.gsea                            html  
    summary.gseaSignificance                html  
    write.html                              html  
** building package indices
** installing vignettes
** testing if installed package can be loaded from temporary location
** testing if installed package can be loaded from final location
** testing if installed package keeps a record of temporary installation path
install for x64
* installing *source* package 'phenoTest' ...
** testing if installed package can be loaded
* MD5 sums
packaged installation of 'phenoTest' as phenoTest_1.36.0.zip
* DONE (phenoTest)