| Back to Multiple platform build/check report for BioC 3.11 |
|
This page was generated on 2020-10-17 11:57:22 -0400 (Sat, 17 Oct 2020).
| TO THE DEVELOPERS/MAINTAINERS OF THE peco PACKAGE: Please make sure to use the following settings in order to reproduce any error or warning you see on this page. |
| Package 1291/1905 | Hostname | OS / Arch | INSTALL | BUILD | CHECK | BUILD BIN | ||||||
| peco 1.0.0 Chiaowen Joyce Hsiao
| malbec2 | Linux (Ubuntu 18.04.4 LTS) / x86_64 | OK | OK | OK | |||||||
| tokay2 | Windows Server 2012 R2 Standard / x64 | OK | OK | OK | [ OK ] | |||||||
| machv2 | macOS 10.14.6 Mojave / x86_64 | OK | OK | OK | OK |
| Package: peco |
| Version: 1.0.0 |
| Command: rm -rf peco.buildbin-libdir && mkdir peco.buildbin-libdir && C:\Users\biocbuild\bbs-3.11-bioc\R\bin\R.exe CMD INSTALL --merge-multiarch --build --library=peco.buildbin-libdir peco_1.0.0.tar.gz |
| StartedAt: 2020-10-17 11:15:01 -0400 (Sat, 17 Oct 2020) |
| EndedAt: 2020-10-17 11:15:45 -0400 (Sat, 17 Oct 2020) |
| EllapsedTime: 44.0 seconds |
| RetCode: 0 |
| Status: OK |
| PackageFile: peco_1.0.0.zip |
| PackageFileSize: 1.138 MiB |
##############################################################################
##############################################################################
###
### Running command:
###
### rm -rf peco.buildbin-libdir && mkdir peco.buildbin-libdir && C:\Users\biocbuild\bbs-3.11-bioc\R\bin\R.exe CMD INSTALL --merge-multiarch --build --library=peco.buildbin-libdir peco_1.0.0.tar.gz
###
##############################################################################
##############################################################################
install for i386
* installing *source* package 'peco' ...
** using staged installation
** R
** data
** inst
** byte-compile and prepare package for lazy loading
** help
*** installing help indices
converting help for package 'peco'
finding HTML links ... done
cellcyclegenes_whitfield2002 html
circ_dist html
cycle_npreg_insample html
cycle_npreg_loglik html
cycle_npreg_mstep html
cycle_npreg_outsample html
data_transform_quantile html
fit_bspline html
fit_cyclical_many html
fit_loess html
fit_trendfilter html
initialize_grids html
intensity2circle html
model_5genes_predict html
model_5genes_train html
rotation html
sce_top101genes html
shift_origin html
training_human html
** building package indices
** installing vignettes
** testing if installed package can be loaded from temporary location
** testing if installed package can be loaded from final location
** testing if installed package keeps a record of temporary installation path
install for x64
* installing *source* package 'peco' ...
** testing if installed package can be loaded
* MD5 sums
packaged installation of 'peco' as peco_1.0.0.zip
* DONE (peco)