| Back to Multiple platform build/check report for BioC 3.11 |
|
This page was generated on 2020-10-17 11:59:10 -0400 (Sat, 17 Oct 2020).
| TO THE DEVELOPERS/MAINTAINERS OF THE peakPantheR PACKAGE: Please make sure to use the following settings in order to reproduce any error or warning you see on this page. |
| Package 1289/1905 | Hostname | OS / Arch | INSTALL | BUILD | CHECK | BUILD BIN | ||||||
| peakPantheR 1.2.0 Arnaud Wolfer
| malbec2 | Linux (Ubuntu 18.04.4 LTS) / x86_64 | OK | OK | OK | |||||||
| tokay2 | Windows Server 2012 R2 Standard / x64 | OK | OK | OK | OK | |||||||
| machv2 | macOS 10.14.6 Mojave / x86_64 | OK | OK | [ OK ] | OK |
| Package: peakPantheR |
| Version: 1.2.0 |
| Command: /Library/Frameworks/R.framework/Versions/Current/Resources/bin/R CMD check --install=check:peakPantheR.install-out.txt --library=/Library/Frameworks/R.framework/Versions/Current/Resources/library --no-vignettes --timings peakPantheR_1.2.0.tar.gz |
| StartedAt: 2020-10-17 03:50:39 -0400 (Sat, 17 Oct 2020) |
| EndedAt: 2020-10-17 04:06:21 -0400 (Sat, 17 Oct 2020) |
| EllapsedTime: 942.1 seconds |
| RetCode: 0 |
| Status: OK |
| CheckDir: peakPantheR.Rcheck |
| Warnings: 0 |
##############################################################################
##############################################################################
###
### Running command:
###
### /Library/Frameworks/R.framework/Versions/Current/Resources/bin/R CMD check --install=check:peakPantheR.install-out.txt --library=/Library/Frameworks/R.framework/Versions/Current/Resources/library --no-vignettes --timings peakPantheR_1.2.0.tar.gz
###
##############################################################################
##############################################################################
* using log directory ‘/Users/biocbuild/bbs-3.11-bioc/meat/peakPantheR.Rcheck’
* using R version 4.0.3 (2020-10-10)
* using platform: x86_64-apple-darwin17.0 (64-bit)
* using session charset: UTF-8
* using option ‘--no-vignettes’
* checking for file ‘peakPantheR/DESCRIPTION’ ... OK
* this is package ‘peakPantheR’ version ‘1.2.0’
* package encoding: UTF-8
* checking package namespace information ... OK
* checking package dependencies ... OK
* checking if this is a source package ... OK
* checking if there is a namespace ... OK
* checking for hidden files and directories ... OK
* checking for portable file names ... OK
* checking for sufficient/correct file permissions ... OK
* checking whether package ‘peakPantheR’ can be installed ... OK
* checking installed package size ... OK
* checking package directory ... OK
* checking ‘build’ directory ... OK
* checking DESCRIPTION meta-information ... OK
* checking top-level files ... OK
* checking for left-over files ... OK
* checking index information ... OK
* checking package subdirectories ... OK
* checking R files for non-ASCII characters ... OK
* checking R files for syntax errors ... OK
* checking whether the package can be loaded ... OK
* checking whether the package can be loaded with stated dependencies ... OK
* checking whether the package can be unloaded cleanly ... OK
* checking whether the namespace can be loaded with stated dependencies ... OK
* checking whether the namespace can be unloaded cleanly ... OK
* checking dependencies in R code ... OK
* checking S3 generic/method consistency ... OK
* checking replacement functions ... OK
* checking foreign function calls ... OK
* checking R code for possible problems ... OK
* checking Rd files ... OK
* checking Rd metadata ... OK
* checking Rd cross-references ... OK
* checking for missing documentation entries ... OK
* checking for code/documentation mismatches ... OK
* checking Rd \usage sections ... OK
* checking Rd contents ... OK
* checking for unstated dependencies in examples ... OK
* checking files in ‘vignettes’ ... OK
* checking examples ... OK
Examples with CPU (user + system) or elapsed time > 5s
user system elapsed
peakPantheR_ROIStatistics 17.322 0.244 17.645
EICs-peakPantheRAnnotation-method 12.811 0.482 13.315
peakPantheR_parallelAnnotation 12.869 0.093 12.977
outputAnnotationResult-peakPantheRAnnotation-method 11.687 0.090 11.791
outputAnnotationDiagnostic-peakPantheRAnnotation-method 11.654 0.081 11.748
* checking for unstated dependencies in ‘tests’ ... OK
* checking tests ...
Running ‘testthat.R’
OK
* checking for unstated dependencies in vignettes ... OK
* checking package vignettes in ‘inst/doc’ ... OK
* checking running R code from vignettes ... SKIPPED
* checking re-building of vignette outputs ... SKIPPED
* checking PDF version of manual ... OK
* DONE
Status: OK
peakPantheR.Rcheck/00install.out
############################################################################## ############################################################################## ### ### Running command: ### ### /Library/Frameworks/R.framework/Versions/Current/Resources/bin/R CMD INSTALL peakPantheR ### ############################################################################## ############################################################################## * installing to library ‘/Library/Frameworks/R.framework/Versions/4.0/Resources/library’ * installing *source* package ‘peakPantheR’ ... ** using staged installation ** R ** inst ** byte-compile and prepare package for lazy loading ** help *** installing help indices *** copying figures ** building package indices ** installing vignettes ** testing if installed package can be loaded from temporary location ** testing if installed package can be loaded from final location ** testing if installed package keeps a record of temporary installation path * DONE (peakPantheR)
peakPantheR.Rcheck/tests/testthat.Rout
R version 4.0.3 (2020-10-10) -- "Bunny-Wunnies Freak Out"
Copyright (C) 2020 The R Foundation for Statistical Computing
Platform: x86_64-apple-darwin17.0 (64-bit)
R is free software and comes with ABSOLUTELY NO WARRANTY.
You are welcome to redistribute it under certain conditions.
Type 'license()' or 'licence()' for distribution details.
R is a collaborative project with many contributors.
Type 'contributors()' for more information and
'citation()' on how to cite R or R packages in publications.
Type 'demo()' for some demos, 'help()' for on-line help, or
'help.start()' for an HTML browser interface to help.
Type 'q()' to quit R.
> library(testthat)
> library(peakPantheR)
This is peakPantheR version 1.2.0
>
> test_check("peakPantheR")
══ testthat results ═══════════════════════════════════════════════════════════
[ OK: 1245 | SKIPPED: 0 | WARNINGS: 0 | FAILED: 0 ]
>
> proc.time()
user system elapsed
567.184 3.926 774.325
peakPantheR.Rcheck/peakPantheR-Ex.timings
| name | user | system | elapsed | |
| EICs-peakPantheRAnnotation-method | 12.811 | 0.482 | 13.315 | |
| FIR-peakPantheRAnnotation-method | 0.23 | 0.02 | 0.25 | |
| ROI-peakPantheRAnnotation-method | 0.276 | 0.022 | 0.298 | |
| TIC-peakPantheRAnnotation-method | 0.281 | 0.021 | 0.303 | |
| acquisitionTime-peakPantheRAnnotation-method | 0.301 | 0.021 | 0.322 | |
| annotationDiagnosticPlots-peakPantheRAnnotation-method | 0.279 | 0.012 | 0.292 | |
| annotationParamsDiagnostic-peakPantheRAnnotation-method | 0.252 | 0.015 | 0.267 | |
| annotationTable-peakPantheRAnnotation-method | 0.175 | 0.011 | 0.185 | |
| cpdID-peakPantheRAnnotation-method | 0.235 | 0.013 | 0.249 | |
| cpdMetadata-peakPantheRAnnotation-method | 0.270 | 0.014 | 0.284 | |
| cpdName-peakPantheRAnnotation-method | 0.301 | 0.016 | 0.318 | |
| dataPoints-peakPantheRAnnotation-method | 0.294 | 0.014 | 0.309 | |
| filename-peakPantheRAnnotation-method | 0.273 | 0.021 | 0.319 | |
| filepath-peakPantheRAnnotation-method | 0.271 | 0.015 | 0.285 | |
| isAnnotated-peakPantheRAnnotation-method | 0.265 | 0.013 | 0.279 | |
| nbCompounds-peakPantheRAnnotation-method | 0.261 | 0.015 | 0.275 | |
| nbSamples-peakPantheRAnnotation-method | 0.324 | 0.014 | 0.338 | |
| outputAnnotationDiagnostic-peakPantheRAnnotation-method | 11.654 | 0.081 | 11.748 | |
| outputAnnotationResult-peakPantheRAnnotation-method | 11.687 | 0.090 | 11.791 | |
| peakFit-peakPantheRAnnotation-method | 0.285 | 0.014 | 0.299 | |
| peakPantheRAnnotation | 0.304 | 0.015 | 0.319 | |
| peakPantheR_ROIStatistics | 17.322 | 0.244 | 17.645 | |
| peakPantheR_loadAnnotationParamsCSV | 0.016 | 0.003 | 0.018 | |
| peakPantheR_parallelAnnotation | 12.869 | 0.093 | 12.977 | |
| peakPantheR_plotEICFit | 0.520 | 0.004 | 0.526 | |
| peakPantheR_plotPeakwidth | 0.681 | 0.013 | 0.697 | |
| peakPantheR_singleFileSearch | 4.426 | 0.056 | 4.485 | |
| peakTables-peakPantheRAnnotation-method | 0.314 | 0.014 | 0.329 | |
| resetAnnotation-peakPantheRAnnotation-method | 0.300 | 0.013 | 0.313 | |
| resetFIR-peakPantheRAnnotation-method | 0.010 | 0.001 | 0.011 | |
| spectraMetadata-peakPantheRAnnotation-method | 0.279 | 0.013 | 0.292 | |
| uROI-peakPantheRAnnotation-method | 0.279 | 0.013 | 0.291 | |
| uROIExist-peakPantheRAnnotation-method | 0.241 | 0.012 | 0.253 | |
| useFIR-peakPantheRAnnotation-method | 0.253 | 0.012 | 0.265 | |
| useUROI-peakPantheRAnnotation-method | 0.291 | 0.013 | 0.303 | |