| Back to Multiple platform build/check report for BioC 3.11 |
|
This page was generated on 2020-10-17 11:57:22 -0400 (Sat, 17 Oct 2020).
| TO THE DEVELOPERS/MAINTAINERS OF THE pcaGoPromoter PACKAGE: Please make sure to use the following settings in order to reproduce any error or warning you see on this page. |
| Package 1281/1905 | Hostname | OS / Arch | INSTALL | BUILD | CHECK | BUILD BIN | ||||||
Morten Hansen
| malbec2 | Linux (Ubuntu 18.04.4 LTS) / x86_64 | OK | OK | ERROR | |||||||
| tokay2 | Windows Server 2012 R2 Standard / x64 | OK | OK | ERROR | [ OK ] | |||||||
| machv2 | macOS 10.14.6 Mojave / x86_64 | OK | OK | ERROR | OK |
| Package: pcaGoPromoter |
| Version: 1.32.0 |
| Command: rm -rf pcaGoPromoter.buildbin-libdir && mkdir pcaGoPromoter.buildbin-libdir && C:\Users\biocbuild\bbs-3.11-bioc\R\bin\R.exe CMD INSTALL --merge-multiarch --build --library=pcaGoPromoter.buildbin-libdir pcaGoPromoter_1.32.0.tar.gz |
| StartedAt: 2020-10-17 11:14:20 -0400 (Sat, 17 Oct 2020) |
| EndedAt: 2020-10-17 11:15:02 -0400 (Sat, 17 Oct 2020) |
| EllapsedTime: 41.2 seconds |
| RetCode: 0 |
| Status: OK |
| PackageFile: pcaGoPromoter_1.32.0.zip |
| PackageFileSize: 202.1 KiB |
##############################################################################
##############################################################################
###
### Running command:
###
### rm -rf pcaGoPromoter.buildbin-libdir && mkdir pcaGoPromoter.buildbin-libdir && C:\Users\biocbuild\bbs-3.11-bioc\R\bin\R.exe CMD INSTALL --merge-multiarch --build --library=pcaGoPromoter.buildbin-libdir pcaGoPromoter_1.32.0.tar.gz
###
##############################################################################
##############################################################################
install for i386
* installing *source* package 'pcaGoPromoter' ...
** using staged installation
** R
** inst
** byte-compile and prepare package for lazy loading
** help
*** installing help indices
converting help for package 'pcaGoPromoter'
finding HTML links ... done
GOtree html
pca html
pcaGoPromoter-package html
primo html
primoData html
** building package indices
** installing vignettes
** testing if installed package can be loaded from temporary location
Warning: Package 'pcaGoPromoter' is deprecated and will be removed from
Bioconductor version 3.12
** testing if installed package can be loaded from final location
Warning: Package 'pcaGoPromoter' is deprecated and will be removed from
Bioconductor version 3.12
** testing if installed package keeps a record of temporary installation path
install for x64
* installing *source* package 'pcaGoPromoter' ...
** testing if installed package can be loaded
Warning: Package 'pcaGoPromoter' is deprecated and will be removed from
Bioconductor version 3.12
* MD5 sums
packaged installation of 'pcaGoPromoter' as pcaGoPromoter_1.32.0.zip
* DONE (pcaGoPromoter)