| Back to Multiple platform build/check report for BioC 3.11 |
|
This page was generated on 2020-10-17 11:57:21 -0400 (Sat, 17 Oct 2020).
| TO THE DEVELOPERS/MAINTAINERS OF THE pathifier PACKAGE: Please make sure to use the following settings in order to reproduce any error or warning you see on this page. |
| Package 1270/1905 | Hostname | OS / Arch | INSTALL | BUILD | CHECK | BUILD BIN | ||||||
| pathifier 1.26.0 Assif Yitzhaky
| malbec2 | Linux (Ubuntu 18.04.4 LTS) / x86_64 | OK | OK | OK | |||||||
| tokay2 | Windows Server 2012 R2 Standard / x64 | OK | OK | [ OK ] | OK | |||||||
| machv2 | macOS 10.14.6 Mojave / x86_64 | OK | OK | OK | OK |
| Package: pathifier |
| Version: 1.26.0 |
| Command: C:\Users\biocbuild\bbs-3.11-bioc\R\bin\R.exe CMD check --force-multiarch --install=check:pathifier.install-out.txt --library=C:\Users\biocbuild\bbs-3.11-bioc\R\library --no-vignettes --timings pathifier_1.26.0.tar.gz |
| StartedAt: 2020-10-17 06:45:24 -0400 (Sat, 17 Oct 2020) |
| EndedAt: 2020-10-17 06:47:29 -0400 (Sat, 17 Oct 2020) |
| EllapsedTime: 125.0 seconds |
| RetCode: 0 |
| Status: OK |
| CheckDir: pathifier.Rcheck |
| Warnings: 0 |
##############################################################################
##############################################################################
###
### Running command:
###
### C:\Users\biocbuild\bbs-3.11-bioc\R\bin\R.exe CMD check --force-multiarch --install=check:pathifier.install-out.txt --library=C:\Users\biocbuild\bbs-3.11-bioc\R\library --no-vignettes --timings pathifier_1.26.0.tar.gz
###
##############################################################################
##############################################################################
* using log directory 'C:/Users/biocbuild/bbs-3.11-bioc/meat/pathifier.Rcheck'
* using R version 4.0.3 (2020-10-10)
* using platform: x86_64-w64-mingw32 (64-bit)
* using session charset: ISO8859-1
* using option '--no-vignettes'
* checking for file 'pathifier/DESCRIPTION' ... OK
* checking extension type ... Package
* this is package 'pathifier' version '1.26.0'
* checking package namespace information ... OK
* checking package dependencies ... OK
* checking if this is a source package ... OK
* checking if there is a namespace ... OK
* checking for hidden files and directories ... OK
* checking for portable file names ... OK
* checking whether package 'pathifier' can be installed ... OK
* checking installed package size ... OK
* checking package directory ... OK
* checking 'build' directory ... OK
* checking DESCRIPTION meta-information ... OK
* checking top-level files ... OK
* checking for left-over files ... OK
* checking index information ... OK
* checking package subdirectories ... OK
* checking R files for non-ASCII characters ... OK
* checking R files for syntax errors ... OK
* loading checks for arch 'i386'
** checking whether the package can be loaded ... OK
** checking whether the package can be loaded with stated dependencies ... OK
** checking whether the package can be unloaded cleanly ... OK
** checking whether the namespace can be loaded with stated dependencies ... OK
** checking whether the namespace can be unloaded cleanly ... OK
* loading checks for arch 'x64'
** checking whether the package can be loaded ... OK
** checking whether the package can be loaded with stated dependencies ... OK
** checking whether the package can be unloaded cleanly ... OK
** checking whether the namespace can be loaded with stated dependencies ... OK
** checking whether the namespace can be unloaded cleanly ... OK
* checking dependencies in R code ... OK
* checking S3 generic/method consistency ... OK
* checking replacement functions ... OK
* checking foreign function calls ... OK
* checking R code for possible problems ... NOTE
.getpathway: no visible global function definition for 'var'
.samplings_stdev: no visible binding for global variable 'sd'
.score_pathway: no visible binding for global variable 'sd'
.score_pathway: no visible global function definition for 'aggregate'
.score_pathway: no visible global function definition for 'dist'
quantify_pathways_deregulation: no visible binding for global variable
'sd'
quantify_pathways_deregulation: no visible global function definition
for 'prcomp'
Undefined global functions or variables:
aggregate dist prcomp sd var
Consider adding
importFrom("stats", "aggregate", "dist", "prcomp", "sd", "var")
to your NAMESPACE file.
* checking Rd files ... OK
* checking Rd metadata ... OK
* checking Rd cross-references ... OK
* checking for missing documentation entries ... OK
* checking for code/documentation mismatches ... OK
* checking Rd \usage sections ... OK
* checking Rd contents ... OK
* checking for unstated dependencies in examples ... OK
* checking contents of 'data' directory ... OK
* checking data for non-ASCII characters ... OK
* checking data for ASCII and uncompressed saves ... OK
* checking files in 'vignettes' ... OK
* checking examples ...
** running examples for arch 'i386' ... OK
Examples with CPU (user + system) or elapsed time > 5s
user system elapsed
quantify_pathways_deregulation 18.36 0.02 21.21
pathifier-package 16.94 0.03 18.79
** running examples for arch 'x64' ... OK
Examples with CPU (user + system) or elapsed time > 5s
user system elapsed
pathifier-package 14.36 0.00 15.17
quantify_pathways_deregulation 14.28 0.02 14.33
* checking for unstated dependencies in vignettes ... OK
* checking package vignettes in 'inst/doc' ... OK
* checking running R code from vignettes ... SKIPPED
* checking re-building of vignette outputs ... SKIPPED
* checking PDF version of manual ... OK
* DONE
Status: 1 NOTE
See
'C:/Users/biocbuild/bbs-3.11-bioc/meat/pathifier.Rcheck/00check.log'
for details.
pathifier.Rcheck/00install.out
##############################################################################
##############################################################################
###
### Running command:
###
### C:\cygwin\bin\curl.exe -O https://malbec2.bioconductor.org/BBS/3.11/bioc/src/contrib/pathifier_1.26.0.tar.gz && rm -rf pathifier.buildbin-libdir && mkdir pathifier.buildbin-libdir && C:\Users\biocbuild\bbs-3.11-bioc\R\bin\R.exe CMD INSTALL --merge-multiarch --build --library=pathifier.buildbin-libdir pathifier_1.26.0.tar.gz && C:\Users\biocbuild\bbs-3.11-bioc\R\bin\R.exe CMD INSTALL pathifier_1.26.0.zip && rm pathifier_1.26.0.tar.gz pathifier_1.26.0.zip
###
##############################################################################
##############################################################################
% Total % Received % Xferd Average Speed Time Time Time Current
Dload Upload Total Spent Left Speed
0 0 0 0 0 0 0 0 --:--:-- --:--:-- --:--:-- 0
100 1864k 100 1864k 0 0 9206k 0 --:--:-- --:--:-- --:--:-- 9514k
install for i386
* installing *source* package 'pathifier' ...
** using staged installation
** R
** data
** inst
** byte-compile and prepare package for lazy loading
** help
*** installing help indices
converting help for package 'pathifier'
finding HTML links ... done
KEGG html
Sheffer html
pathifier-package html
quantify_pathways_deregulation html
** building package indices
** installing vignettes
** testing if installed package can be loaded from temporary location
** testing if installed package can be loaded from final location
** testing if installed package keeps a record of temporary installation path
install for x64
* installing *source* package 'pathifier' ...
** testing if installed package can be loaded
* MD5 sums
packaged installation of 'pathifier' as pathifier_1.26.0.zip
* DONE (pathifier)
* installing to library 'C:/Users/biocbuild/bbs-3.11-bioc/R/library'
package 'pathifier' successfully unpacked and MD5 sums checked
|
pathifier.Rcheck/examples_i386/pathifier-Ex.timings
|
pathifier.Rcheck/examples_x64/pathifier-Ex.timings
|