| Back to Multiple platform build/check report for BioC 3.11 | 
  | 
This page was generated on 2020-10-17 11:57:21 -0400 (Sat, 17 Oct 2020).
| TO THE DEVELOPERS/MAINTAINERS OF THE parglms PACKAGE: Please make sure to use the following settings in order to reproduce any error or warning you see on this page. | 
| Package 1266/1905 | Hostname | OS / Arch | INSTALL | BUILD | CHECK | BUILD BIN | ||||||
| parglms 1.20.0 VJ Carey 
  | malbec2 | Linux (Ubuntu 18.04.4 LTS) / x86_64 | OK | OK | OK | |||||||
| tokay2 | Windows Server 2012 R2 Standard / x64 | OK | OK | OK | [ OK ] | |||||||
| machv2 | macOS 10.14.6 Mojave / x86_64 | OK | OK | OK | OK | 
| Package: parglms | 
| Version: 1.20.0 | 
| Command: rm -rf parglms.buildbin-libdir && mkdir parglms.buildbin-libdir && C:\Users\biocbuild\bbs-3.11-bioc\R\bin\R.exe CMD INSTALL --merge-multiarch --build --library=parglms.buildbin-libdir parglms_1.20.0.tar.gz | 
| StartedAt: 2020-10-17 11:13:24 -0400 (Sat, 17 Oct 2020) | 
| EndedAt: 2020-10-17 11:14:00 -0400 (Sat, 17 Oct 2020) | 
| EllapsedTime: 36.1 seconds | 
| RetCode: 0 | 
| Status: OK | 
| PackageFile: parglms_1.20.0.zip | 
| PackageFileSize: 296.4 KiB | 
##############################################################################
##############################################################################
###
### Running command:
###
###   rm -rf parglms.buildbin-libdir && mkdir parglms.buildbin-libdir && C:\Users\biocbuild\bbs-3.11-bioc\R\bin\R.exe CMD INSTALL --merge-multiarch --build --library=parglms.buildbin-libdir parglms_1.20.0.tar.gz
###
##############################################################################
##############################################################################
install for i386
* installing *source* package 'parglms' ...
** using staged installation
** R
** inst
** byte-compile and prepare package for lazy loading
** help
*** installing help indices
  converting help for package 'parglms'
    finding HTML links ... done
    parGLM-methods                          html  
    finding level-2 HTML links ... done
    parglms-package                         html  
** building package indices
** installing vignettes
** testing if installed package can be loaded from temporary location
** testing if installed package can be loaded from final location
** testing if installed package keeps a record of temporary installation path
install for x64
* installing *source* package 'parglms' ...
** testing if installed package can be loaded
* MD5 sums
packaged installation of 'parglms' as parglms_1.20.0.zip
* DONE (parglms)