| Back to Multiple platform build/check report for BioC 3.11 |
|
This page was generated on 2020-10-17 11:57:20 -0400 (Sat, 17 Oct 2020).
| TO THE DEVELOPERS/MAINTAINERS OF THE paircompviz PACKAGE: Please make sure to use the following settings in order to reproduce any error or warning you see on this page. |
| Package 1259/1905 | Hostname | OS / Arch | INSTALL | BUILD | CHECK | BUILD BIN | ||||||
| paircompviz 1.26.0 Michal Burda
| malbec2 | Linux (Ubuntu 18.04.4 LTS) / x86_64 | OK | OK | OK | |||||||
| tokay2 | Windows Server 2012 R2 Standard / x64 | OK | OK | OK | [ OK ] | |||||||
| machv2 | macOS 10.14.6 Mojave / x86_64 | OK | OK | OK | OK |
| Package: paircompviz |
| Version: 1.26.0 |
| Command: rm -rf paircompviz.buildbin-libdir && mkdir paircompviz.buildbin-libdir && C:\Users\biocbuild\bbs-3.11-bioc\R\bin\R.exe CMD INSTALL --merge-multiarch --build --library=paircompviz.buildbin-libdir paircompviz_1.26.0.tar.gz |
| StartedAt: 2020-10-17 11:12:55 -0400 (Sat, 17 Oct 2020) |
| EndedAt: 2020-10-17 11:13:07 -0400 (Sat, 17 Oct 2020) |
| EllapsedTime: 12.5 seconds |
| RetCode: 0 |
| Status: OK |
| PackageFile: paircompviz_1.26.0.zip |
| PackageFileSize: 360.7 KiB |
##############################################################################
##############################################################################
###
### Running command:
###
### rm -rf paircompviz.buildbin-libdir && mkdir paircompviz.buildbin-libdir && C:\Users\biocbuild\bbs-3.11-bioc\R\bin\R.exe CMD INSTALL --merge-multiarch --build --library=paircompviz.buildbin-libdir paircompviz_1.26.0.tar.gz
###
##############################################################################
##############################################################################
install for i386
* installing *source* package 'paircompviz' ...
** using staged installation
** R
** data
** inst
** byte-compile and prepare package for lazy loading
** help
*** installing help indices
converting help for package 'paircompviz'
finding HTML links ... done
brokentrans html
hasse html
paircomp html
paircompviz-package html
transReduct html
** building package indices
** installing vignettes
** testing if installed package can be loaded from temporary location
** testing if installed package can be loaded from final location
** testing if installed package keeps a record of temporary installation path
install for x64
* installing *source* package 'paircompviz' ...
** testing if installed package can be loaded
* MD5 sums
packaged installation of 'paircompviz' as paircompviz_1.26.0.zip
* DONE (paircompviz)