| Back to Multiple platform build/check report for BioC 3.11 |
|
This page was generated on 2020-10-17 11:57:20 -0400 (Sat, 17 Oct 2020).
| TO THE DEVELOPERS/MAINTAINERS OF THE packFinder PACKAGE: Please make sure to use the following settings in order to reproduce any error or warning you see on this page. |
| Package 1256/1905 | Hostname | OS / Arch | INSTALL | BUILD | CHECK | BUILD BIN | ||||||
| packFinder 1.0.0 Jack Gisby
| malbec2 | Linux (Ubuntu 18.04.4 LTS) / x86_64 | OK | OK | OK | |||||||
| tokay2 | Windows Server 2012 R2 Standard / x64 | OK | OK | OK | [ OK ] | |||||||
| machv2 | macOS 10.14.6 Mojave / x86_64 | OK | OK | OK | OK |
| Package: packFinder |
| Version: 1.0.0 |
| Command: rm -rf packFinder.buildbin-libdir && mkdir packFinder.buildbin-libdir && C:\Users\biocbuild\bbs-3.11-bioc\R\bin\R.exe CMD INSTALL --merge-multiarch --build --library=packFinder.buildbin-libdir packFinder_1.0.0.tar.gz |
| StartedAt: 2020-10-17 11:12:42 -0400 (Sat, 17 Oct 2020) |
| EndedAt: 2020-10-17 11:13:02 -0400 (Sat, 17 Oct 2020) |
| EllapsedTime: 20.6 seconds |
| RetCode: 0 |
| Status: OK |
| PackageFile: packFinder_1.0.0.zip |
| PackageFileSize: 1.198 MiB |
##############################################################################
##############################################################################
###
### Running command:
###
### rm -rf packFinder.buildbin-libdir && mkdir packFinder.buildbin-libdir && C:\Users\biocbuild\bbs-3.11-bioc\R\bin\R.exe CMD INSTALL --merge-multiarch --build --library=packFinder.buildbin-libdir packFinder_1.0.0.tar.gz
###
##############################################################################
##############################################################################
install for i386
* installing *source* package 'packFinder' ...
** using staged installation
** R
** data
** inst
** byte-compile and prepare package for lazy loading
** help
*** installing help indices
converting help for package 'packFinder'
finding HTML links ... done
arabidopsisThalianaRefseq html
blastAnalysis html
blastAnnotate html
collapseSeqs html
filterWildcards html
getPackSeqs html
getPacksFromCsv html
getPacksFromFasta html
getPacksFromGRanges html
getTsds html
identifyPotentialPackElements html
identifyTirMatches html
makeBlastDb html
packAlign html
packBlast html
packClust html
packFinder html
packMatches html
packSearch html
packsToCsv html
packsToFasta html
packsToGRanges html
readBlast html
readUc html
tirClust html
** building package indices
** installing vignettes
** testing if installed package can be loaded from temporary location
** testing if installed package can be loaded from final location
** testing if installed package keeps a record of temporary installation path
install for x64
* installing *source* package 'packFinder' ...
** testing if installed package can be loaded
* MD5 sums
packaged installation of 'packFinder' as packFinder_1.0.0.zip
* DONE (packFinder)