| Back to Multiple platform build/check report for BioC 3.11 |
|
This page was generated on 2020-10-17 11:57:19 -0400 (Sat, 17 Oct 2020).
| TO THE DEVELOPERS/MAINTAINERS OF THE optimalFlow PACKAGE: Please make sure to use the following settings in order to reproduce any error or warning you see on this page. |
| Package 1243/1905 | Hostname | OS / Arch | INSTALL | BUILD | CHECK | BUILD BIN | ||||||
| optimalFlow 1.0.1 Hristo Inouzhe
| malbec2 | Linux (Ubuntu 18.04.4 LTS) / x86_64 | OK | OK | OK | |||||||
| tokay2 | Windows Server 2012 R2 Standard / x64 | [ OK ] | OK | OK | OK | |||||||
| machv2 | macOS 10.14.6 Mojave / x86_64 | OK | OK | WARNINGS | OK |
| Package: optimalFlow |
| Version: 1.0.1 |
| Command: C:\cygwin\bin\curl.exe -O https://malbec2.bioconductor.org/BBS/3.11/bioc/src/contrib/optimalFlow_1.0.1.tar.gz && rm -rf optimalFlow.buildbin-libdir && mkdir optimalFlow.buildbin-libdir && C:\Users\biocbuild\bbs-3.11-bioc\R\bin\R.exe CMD INSTALL --merge-multiarch --build --library=optimalFlow.buildbin-libdir optimalFlow_1.0.1.tar.gz && C:\Users\biocbuild\bbs-3.11-bioc\R\bin\R.exe CMD INSTALL optimalFlow_1.0.1.zip && rm optimalFlow_1.0.1.tar.gz optimalFlow_1.0.1.zip |
| StartedAt: 2020-10-16 17:44:20 -0400 (Fri, 16 Oct 2020) |
| EndedAt: 2020-10-16 17:45:56 -0400 (Fri, 16 Oct 2020) |
| EllapsedTime: 95.5 seconds |
| RetCode: 0 |
| Status: OK |
##############################################################################
##############################################################################
###
### Running command:
###
### C:\cygwin\bin\curl.exe -O https://malbec2.bioconductor.org/BBS/3.11/bioc/src/contrib/optimalFlow_1.0.1.tar.gz && rm -rf optimalFlow.buildbin-libdir && mkdir optimalFlow.buildbin-libdir && C:\Users\biocbuild\bbs-3.11-bioc\R\bin\R.exe CMD INSTALL --merge-multiarch --build --library=optimalFlow.buildbin-libdir optimalFlow_1.0.1.tar.gz && C:\Users\biocbuild\bbs-3.11-bioc\R\bin\R.exe CMD INSTALL optimalFlow_1.0.1.zip && rm optimalFlow_1.0.1.tar.gz optimalFlow_1.0.1.zip
###
##############################################################################
##############################################################################
% Total % Received % Xferd Average Speed Time Time Time Current
Dload Upload Total Spent Left Speed
0 0 0 0 0 0 0 0 --:--:-- --:--:-- --:--:-- 0
100 963k 100 963k 0 0 12.4M 0 --:--:-- --:--:-- --:--:-- 13.6M
install for i386
* installing *source* package 'optimalFlow' ...
** using staged installation
** R
** byte-compile and prepare package for lazy loading
** help
*** installing help indices
converting help for package 'optimalFlow'
finding HTML links ... done
costWasserMatchingEllipse html
cytoPlot html
cytoPlot3d html
cytoPlotDatabase html
cytoPlotDatabase3d html
estimCovCellGeneral html
estimationCellBarycenter html
f1Score html
f1ScoreVoting html
labelTransfer html
labelTransferEllipse html
optimalFlowClassification html
optimalFlowTemplates html
qdaClassification html
tclustWithInitialization html
tclust_H html
trimmedKBarycenter html
voteLabelTransfer html
w2dist html
wasserCostFunction html
** building package indices
** installing vignettes
** testing if installed package can be loaded from temporary location
** testing if installed package can be loaded from final location
** testing if installed package keeps a record of temporary installation path
install for x64
* installing *source* package 'optimalFlow' ...
** testing if installed package can be loaded
* MD5 sums
packaged installation of 'optimalFlow' as optimalFlow_1.0.1.zip
* DONE (optimalFlow)
* installing to library 'C:/Users/biocbuild/bbs-3.11-bioc/R/library'
package 'optimalFlow' successfully unpacked and MD5 sums checked