| Back to Multiple platform build/check report for BioC 3.11 |
|
This page was generated on 2019-12-12 13:46:02 -0500 (Thu, 12 Dec 2019).
| Package 1156/1808 | Hostname | OS / Arch | INSTALL | BUILD | CHECK | BUILD BIN | ||||||
| nucleR 2.19.1 Diego Gallego
| malbec2 | Linux (Ubuntu 18.04.3 LTS) / x86_64 | OK | OK | WARNINGS | |||||||
| tokay2 | Windows Server 2012 R2 Standard / x64 | OK | ERROR | skipped | skipped | |||||||
| celaya2 | OS X 10.11.6 El Capitan / x86_64 | OK | OK | WARNINGS | [ OK ] |
| Package: nucleR |
| Version: 2.19.1 |
| Command: rm -rf nucleR.buildbin-libdir && mkdir nucleR.buildbin-libdir && /Users/biocbuild/BBS/utils/build-universal.sh nucleR_2.19.1.tar.gz /Library/Frameworks/R.framework/Versions/Current/Resources/bin/R nucleR.buildbin-libdir |
| StartedAt: 2019-12-12 09:09:34 -0500 (Thu, 12 Dec 2019) |
| EndedAt: 2019-12-12 09:10:27 -0500 (Thu, 12 Dec 2019) |
| EllapsedTime: 53.4 seconds |
| RetCode: 0 |
| Status: OK |
| PackageFile: nucleR_2.19.1.tgz |
| PackageFileSize: 1.516 MiB |
############################################################################## ############################################################################## ### ### Running command: ### ### rm -rf nucleR.buildbin-libdir && mkdir nucleR.buildbin-libdir && /Users/biocbuild/BBS/utils/build-universal.sh nucleR_2.19.1.tar.gz /Library/Frameworks/R.framework/Versions/Current/Resources/bin/R nucleR.buildbin-libdir ### ############################################################################## ############################################################################## >>>>>>> >>>>>>> INSTALLATION WITH 'R CMD INSTALL --preclean --no-multiarch --library=nucleR.buildbin-libdir nucleR_2.19.1.tar.gz' >>>>>>> * installing *source* package ‘nucleR’ ... ** using staged installation ** R ** data ** inst ** byte-compile and prepare package for lazy loading ** help *** installing help indices ** building package indices ** installing vignettes ** testing if installed package can be loaded from temporary location ** testing if installed package can be loaded from final location ** testing if installed package keeps a record of temporary installation path * DONE (nucleR)