| Back to Multiple platform build/check report for BioC 3.11 |
|
This page was generated on 2020-10-17 11:59:04 -0400 (Sat, 17 Oct 2020).
| TO THE DEVELOPERS/MAINTAINERS OF THE netprioR PACKAGE: Please make sure to use the following settings in order to reproduce any error or warning you see on this page. |
| Package 1189/1905 | Hostname | OS / Arch | INSTALL | BUILD | CHECK | BUILD BIN | ||||||
| netprioR 1.14.0 Fabian Schmich
| malbec2 | Linux (Ubuntu 18.04.4 LTS) / x86_64 | OK | OK | OK | |||||||
| tokay2 | Windows Server 2012 R2 Standard / x64 | OK | OK | OK | OK | |||||||
| machv2 | macOS 10.14.6 Mojave / x86_64 | OK | OK | [ OK ] | OK |
| Package: netprioR |
| Version: 1.14.0 |
| Command: /Library/Frameworks/R.framework/Versions/Current/Resources/bin/R CMD check --install=check:netprioR.install-out.txt --library=/Library/Frameworks/R.framework/Versions/Current/Resources/library --no-vignettes --timings netprioR_1.14.0.tar.gz |
| StartedAt: 2020-10-17 03:29:45 -0400 (Sat, 17 Oct 2020) |
| EndedAt: 2020-10-17 03:31:25 -0400 (Sat, 17 Oct 2020) |
| EllapsedTime: 99.8 seconds |
| RetCode: 0 |
| Status: OK |
| CheckDir: netprioR.Rcheck |
| Warnings: 0 |
##############################################################################
##############################################################################
###
### Running command:
###
### /Library/Frameworks/R.framework/Versions/Current/Resources/bin/R CMD check --install=check:netprioR.install-out.txt --library=/Library/Frameworks/R.framework/Versions/Current/Resources/library --no-vignettes --timings netprioR_1.14.0.tar.gz
###
##############################################################################
##############################################################################
* using log directory ‘/Users/biocbuild/bbs-3.11-bioc/meat/netprioR.Rcheck’
* using R version 4.0.3 (2020-10-10)
* using platform: x86_64-apple-darwin17.0 (64-bit)
* using session charset: UTF-8
* using option ‘--no-vignettes’
* checking for file ‘netprioR/DESCRIPTION’ ... OK
* checking extension type ... Package
* this is package ‘netprioR’ version ‘1.14.0’
* checking package namespace information ... OK
* checking package dependencies ... OK
* checking if this is a source package ... OK
* checking if there is a namespace ... OK
* checking for hidden files and directories ... OK
* checking for portable file names ... OK
* checking for sufficient/correct file permissions ... OK
* checking whether package ‘netprioR’ can be installed ... OK
* checking installed package size ... OK
* checking package directory ... OK
* checking ‘build’ directory ... OK
* checking DESCRIPTION meta-information ... OK
* checking top-level files ... OK
* checking for left-over files ... OK
* checking index information ... OK
* checking package subdirectories ... OK
* checking R files for non-ASCII characters ... OK
* checking R files for syntax errors ... OK
* checking whether the package can be loaded ... OK
* checking whether the package can be loaded with stated dependencies ... OK
* checking whether the package can be unloaded cleanly ... OK
* checking whether the namespace can be loaded with stated dependencies ... OK
* checking whether the namespace can be unloaded cleanly ... OK
* checking dependencies in R code ... OK
* checking S3 generic/method consistency ... OK
* checking replacement functions ... OK
* checking foreign function calls ... OK
* checking R code for possible problems ... OK
* checking Rd files ... OK
* checking Rd metadata ... OK
* checking Rd cross-references ... OK
* checking for missing documentation entries ... OK
* checking for code/documentation mismatches ... OK
* checking Rd \usage sections ... OK
* checking Rd contents ... OK
* checking for unstated dependencies in examples ... OK
* checking contents of ‘data’ directory ... OK
* checking data for non-ASCII characters ... OK
* checking data for ASCII and uncompressed saves ... OK
* checking files in ‘vignettes’ ... OK
* checking examples ... OK
Examples with CPU (user + system) or elapsed time > 5s
user system elapsed
fit-methods 9.124 0.381 9.521
* checking for unstated dependencies in vignettes ... OK
* checking package vignettes in ‘inst/doc’ ... OK
* checking running R code from vignettes ... SKIPPED
* checking re-building of vignette outputs ... SKIPPED
* checking PDF version of manual ... OK
* DONE
Status: OK
netprioR.Rcheck/00install.out
############################################################################## ############################################################################## ### ### Running command: ### ### /Library/Frameworks/R.framework/Versions/Current/Resources/bin/R CMD INSTALL netprioR ### ############################################################################## ############################################################################## * installing to library ‘/Library/Frameworks/R.framework/Versions/4.0/Resources/library’ * installing *source* package ‘netprioR’ ... ** using staged installation ** R ** data *** moving datasets to lazyload DB ** inst ** byte-compile and prepare package for lazy loading ** help *** installing help indices ** building package indices ** installing vignettes ** testing if installed package can be loaded from temporary location ** testing if installed package can be loaded from final location ** testing if installed package keeps a record of temporary installation path * DONE (netprioR)
netprioR.Rcheck/netprioR-Ex.timings
| name | user | system | elapsed | |
| ROC-methods | 0.036 | 0.006 | 0.042 | |
| fit-methods | 9.124 | 0.381 | 9.521 | |
| netprioR-class | 0.000 | 0.001 | 0.001 | |
| plot.netprioR | 0.862 | 0.024 | 0.886 | |
| ranks-methods | 0.188 | 0.007 | 0.195 | |
| simulate_labels | 0.002 | 0.001 | 0.003 | |
| simulate_network_random | 0.156 | 0.001 | 0.157 | |
| simulate_network_scalefree | 0.250 | 0.011 | 0.264 | |
| simulate_phenotype | 0.008 | 0.001 | 0.012 | |
| weights-methods | 0.039 | 0.001 | 0.049 | |