| Back to Multiple platform build/check report for BioC 3.11 |
|
This page was generated on 2020-10-17 11:55:15 -0400 (Sat, 17 Oct 2020).
| TO THE DEVELOPERS/MAINTAINERS OF THE netbenchmark PACKAGE: Please make sure to use the following settings in order to reproduce any error or warning you see on this page. |
| Package 1182/1905 | Hostname | OS / Arch | INSTALL | BUILD | CHECK | BUILD BIN | ||||||
| netbenchmark 1.20.0 Pau Bellot
| malbec2 | Linux (Ubuntu 18.04.4 LTS) / x86_64 | ERROR | [ ERROR ] | skipped | |||||||
| tokay2 | Windows Server 2012 R2 Standard / x64 | ERROR | ERROR | skipped | skipped | |||||||
| machv2 | macOS 10.14.6 Mojave / x86_64 | ERROR | ERROR | skipped | skipped |
| Package: netbenchmark |
| Version: 1.20.0 |
| Command: /home/biocbuild/bbs-3.11-bioc/R/bin/R CMD build --keep-empty-dirs --no-resave-data netbenchmark |
| StartedAt: 2020-10-16 20:36:14 -0400 (Fri, 16 Oct 2020) |
| EndedAt: 2020-10-16 20:36:15 -0400 (Fri, 16 Oct 2020) |
| EllapsedTime: 1.3 seconds |
| RetCode: 1 |
| Status: ERROR |
| PackageFile: None |
| PackageFileSize: NA |
##############################################################################
##############################################################################
###
### Running command:
###
### /home/biocbuild/bbs-3.11-bioc/R/bin/R CMD build --keep-empty-dirs --no-resave-data netbenchmark
###
##############################################################################
##############################################################################
* checking for file ‘netbenchmark/DESCRIPTION’ ... OK
* preparing ‘netbenchmark’:
* checking DESCRIPTION meta-information ... OK
* cleaning src
* installing the package to build vignettes
-----------------------------------
ERROR: dependency ‘PCIT’ is not available for package ‘netbenchmark’
* removing ‘/tmp/RtmpVZiedR/Rinst30c24bed5ae8/netbenchmark’
-----------------------------------
ERROR: package installation failed