| Back to Multiple platform build/check report for BioC 3.11 |
|
This page was generated on 2020-10-17 11:57:15 -0400 (Sat, 17 Oct 2020).
| TO THE DEVELOPERS/MAINTAINERS OF THE ndexr PACKAGE: Please make sure to use the following settings in order to reproduce any error or warning you see on this page. |
| Package 1179/1905 | Hostname | OS / Arch | INSTALL | BUILD | CHECK | BUILD BIN | ||||||
| ndexr 1.10.0 Florian Auer
| malbec2 | Linux (Ubuntu 18.04.4 LTS) / x86_64 | OK | OK | OK | |||||||
| tokay2 | Windows Server 2012 R2 Standard / x64 | OK | [ OK ] | WARNINGS | OK | |||||||
| machv2 | macOS 10.14.6 Mojave / x86_64 | OK | OK | OK | OK |
| Package: ndexr |
| Version: 1.10.0 |
| Command: chmod a+r ndexr -R && C:\Users\biocbuild\bbs-3.11-bioc\R\bin\R.exe CMD build --keep-empty-dirs --no-resave-data ndexr |
| StartedAt: 2020-10-16 23:07:02 -0400 (Fri, 16 Oct 2020) |
| EndedAt: 2020-10-16 23:08:31 -0400 (Fri, 16 Oct 2020) |
| EllapsedTime: 89.2 seconds |
| RetCode: 0 |
| Status: OK |
| PackageFile: ndexr_1.10.0.tar.gz |
| PackageFileSize: 364.4 KiB |
##############################################################################
##############################################################################
###
### Running command:
###
### chmod a+r ndexr -R && C:\Users\biocbuild\bbs-3.11-bioc\R\bin\R.exe CMD build --keep-empty-dirs --no-resave-data ndexr
###
##############################################################################
##############################################################################
* checking for file 'ndexr/DESCRIPTION' ... OK
* preparing 'ndexr':
* checking DESCRIPTION meta-information ... OK
* installing the package to build vignettes
* creating vignettes ... OK
Warning: 'inst/doc' files
'ndexr-vignette.Rmd', 'ndexr-vignette.html', 'ndexr-vignette.R'
ignored as vignettes have been rebuilt.
Run R CMD build with --no-build-vignettes to prevent rebuilding.
* excluding invalid files
Subdirectory 'R' contains invalid file names:
'ndex_api_config.yml'
* checking for LF line-endings in source and make files and shell scripts
* checking for empty or unneeded directories
WARNING: Removing directory 'ndexr/Meta' which should only occur in an
installed package
* building 'ndexr_1.10.0.tar.gz'