| Back to Multiple platform build/check report for BioC 3.11 |
|
This page was generated on 2020-10-17 11:57:14 -0400 (Sat, 17 Oct 2020).
| TO THE DEVELOPERS/MAINTAINERS OF THE multiMiR PACKAGE: Please make sure to use the following settings in order to reproduce any error or warning you see on this page. |
| Package 1156/1905 | Hostname | OS / Arch | INSTALL | BUILD | CHECK | BUILD BIN | ||||||
| multiMiR 1.10.0 Matt Mulvahill
| malbec2 | Linux (Ubuntu 18.04.4 LTS) / x86_64 | OK | OK | OK | |||||||
| tokay2 | Windows Server 2012 R2 Standard / x64 | [ OK ] | OK | OK | OK | |||||||
| machv2 | macOS 10.14.6 Mojave / x86_64 | OK | OK | OK | OK |
| Package: multiMiR |
| Version: 1.10.0 |
| Command: C:\cygwin\bin\curl.exe -O https://malbec2.bioconductor.org/BBS/3.11/bioc/src/contrib/multiMiR_1.10.0.tar.gz && rm -rf multiMiR.buildbin-libdir && mkdir multiMiR.buildbin-libdir && C:\Users\biocbuild\bbs-3.11-bioc\R\bin\R.exe CMD INSTALL --merge-multiarch --build --library=multiMiR.buildbin-libdir multiMiR_1.10.0.tar.gz && C:\Users\biocbuild\bbs-3.11-bioc\R\bin\R.exe CMD INSTALL multiMiR_1.10.0.zip && rm multiMiR_1.10.0.tar.gz multiMiR_1.10.0.zip |
| StartedAt: 2020-10-16 17:21:08 -0400 (Fri, 16 Oct 2020) |
| EndedAt: 2020-10-16 17:22:44 -0400 (Fri, 16 Oct 2020) |
| EllapsedTime: 96.3 seconds |
| RetCode: 0 |
| Status: OK |
##############################################################################
##############################################################################
###
### Running command:
###
### C:\cygwin\bin\curl.exe -O https://malbec2.bioconductor.org/BBS/3.11/bioc/src/contrib/multiMiR_1.10.0.tar.gz && rm -rf multiMiR.buildbin-libdir && mkdir multiMiR.buildbin-libdir && C:\Users\biocbuild\bbs-3.11-bioc\R\bin\R.exe CMD INSTALL --merge-multiarch --build --library=multiMiR.buildbin-libdir multiMiR_1.10.0.tar.gz && C:\Users\biocbuild\bbs-3.11-bioc\R\bin\R.exe CMD INSTALL multiMiR_1.10.0.zip && rm multiMiR_1.10.0.tar.gz multiMiR_1.10.0.zip
###
##############################################################################
##############################################################################
% Total % Received % Xferd Average Speed Time Time Time Current
Dload Upload Total Spent Left Speed
0 0 0 0 0 0 0 0 --:--:-- --:--:-- --:--:-- 0
100 51728 100 51728 0 0 727k 0 --:--:-- --:--:-- --:--:-- 814k
install for i386
* installing *source* package 'multiMiR' ...
** using staged installation
** R
** inst
** byte-compile and prepare package for lazy loading
** help
*** installing help indices
converting help for package 'multiMiR'
finding HTML links ... done
add.multimir.links html
all_tables html
as.mmquery html
as_mmsql_components html
build_mmsql html
default_cutoff html
deprecate_arg html
extract_mmquery html
get.multimir.cutoffs html
get_multimir html
list_multimir html
mmquery_bioc-class html
multiMiR html
multimir.summary html
multimir_dbInfo html
multimir_switchDBVersion html
null_to_df html
pad html
parens_quote html
parens_wrap html
parse_orgs html
parse_response html
query_multimir html
quote_wrap html
remove_empty_strings html
remove_table html
search_multimir html
split_by html
sql_org html
sql_validated html
submit_request html
** building package indices
** installing vignettes
** testing if installed package can be loaded from temporary location
** testing if installed package can be loaded from final location
** testing if installed package keeps a record of temporary installation path
install for x64
* installing *source* package 'multiMiR' ...
** testing if installed package can be loaded
* MD5 sums
packaged installation of 'multiMiR' as multiMiR_1.10.0.zip
* DONE (multiMiR)
* installing to library 'C:/Users/biocbuild/bbs-3.11-bioc/R/library'
package 'multiMiR' successfully unpacked and MD5 sums checked