| Back to Multiple platform build/check report for BioC 3.11 |
|
This page was generated on 2020-10-17 11:59:01 -0400 (Sat, 17 Oct 2020).
| TO THE DEVELOPERS/MAINTAINERS OF THE multiHiCcompare PACKAGE: Please make sure to use the following settings in order to reproduce any error or warning you see on this page. |
| Package 1154/1905 | Hostname | OS / Arch | INSTALL | BUILD | CHECK | BUILD BIN | ||||||
| multiHiCcompare 1.6.0 John Stansfield
| malbec2 | Linux (Ubuntu 18.04.4 LTS) / x86_64 | OK | OK | OK | |||||||
| tokay2 | Windows Server 2012 R2 Standard / x64 | OK | OK | OK | OK | |||||||
| machv2 | macOS 10.14.6 Mojave / x86_64 | OK | OK | [ OK ] | OK |
| Package: multiHiCcompare |
| Version: 1.6.0 |
| Command: /Library/Frameworks/R.framework/Versions/Current/Resources/bin/R CMD check --install=check:multiHiCcompare.install-out.txt --library=/Library/Frameworks/R.framework/Versions/Current/Resources/library --no-vignettes --timings multiHiCcompare_1.6.0.tar.gz |
| StartedAt: 2020-10-17 03:21:46 -0400 (Sat, 17 Oct 2020) |
| EndedAt: 2020-10-17 03:28:57 -0400 (Sat, 17 Oct 2020) |
| EllapsedTime: 430.8 seconds |
| RetCode: 0 |
| Status: OK |
| CheckDir: multiHiCcompare.Rcheck |
| Warnings: 0 |
##############################################################################
##############################################################################
###
### Running command:
###
### /Library/Frameworks/R.framework/Versions/Current/Resources/bin/R CMD check --install=check:multiHiCcompare.install-out.txt --library=/Library/Frameworks/R.framework/Versions/Current/Resources/library --no-vignettes --timings multiHiCcompare_1.6.0.tar.gz
###
##############################################################################
##############################################################################
* using log directory ‘/Users/biocbuild/bbs-3.11-bioc/meat/multiHiCcompare.Rcheck’
* using R version 4.0.3 (2020-10-10)
* using platform: x86_64-apple-darwin17.0 (64-bit)
* using session charset: UTF-8
* using option ‘--no-vignettes’
* checking for file ‘multiHiCcompare/DESCRIPTION’ ... OK
* this is package ‘multiHiCcompare’ version ‘1.6.0’
* package encoding: UTF-8
* checking package namespace information ... OK
* checking package dependencies ... OK
* checking if this is a source package ... OK
* checking if there is a namespace ... OK
* checking for hidden files and directories ... OK
* checking for portable file names ... OK
* checking for sufficient/correct file permissions ... OK
* checking whether package ‘multiHiCcompare’ can be installed ... OK
* checking installed package size ... OK
* checking package directory ... OK
* checking ‘build’ directory ... OK
* checking DESCRIPTION meta-information ... OK
* checking top-level files ... OK
* checking for left-over files ... OK
* checking index information ... OK
* checking package subdirectories ... OK
* checking R files for non-ASCII characters ... OK
* checking R files for syntax errors ... OK
* checking whether the package can be loaded ... OK
* checking whether the package can be loaded with stated dependencies ... OK
* checking whether the package can be unloaded cleanly ... OK
* checking whether the namespace can be loaded with stated dependencies ... OK
* checking whether the namespace can be unloaded cleanly ... OK
* checking dependencies in R code ... NOTE
Namespace in Imports field not imported from: ‘GenomeInfoDbData’
All declared Imports should be used.
* checking S3 generic/method consistency ... OK
* checking replacement functions ... OK
* checking foreign function calls ... OK
* checking R code for possible problems ... NOTE
.count_manhattan: no visible global function definition for ‘tail’
.count_manhattan: no visible global function definition for ‘axis’
.count_manhattan: no visible global function definition for ‘textxy’
cyclic_loess: no visible binding for global variable ‘chr’
cyclic_loess: no visible binding for global variable ‘region1’
cyclic_loess: no visible binding for global variable ‘region2’
exportJuicebox: no visible binding for global variable ‘logCPM’
exportJuicebox: no visible binding for global variable ‘logFC’
exportJuicebox: no visible binding for global variable ‘p.adj’
exportJuicebox: no visible global function definition for ‘write.table’
fastlo: no visible binding for global variable ‘chr’
fastlo: no visible binding for global variable ‘region1’
fastlo: no visible binding for global variable ‘region2’
hic_exactTest: no visible binding for global variable ‘chr’
hic_exactTest: no visible binding for global variable ‘region1’
hic_exactTest: no visible binding for global variable ‘region2’
hic_filter: no visible binding for global variable ‘hg19_cyto’
hic_glm: no visible binding for global variable ‘chr’
hic_glm: no visible binding for global variable ‘region1’
hic_glm: no visible binding for global variable ‘region2’
make_hicexp: no visible binding for global variable ‘hg19_cyto’
make_hicexp: no visible binding for global variable ‘region2’
make_hicexp: no visible binding for global variable ‘region1’
make_hicexp: no visible binding for global variable ‘chr’
perm_test: no visible global function definition for ‘seqlevelsStyle<-’
perm_test: no visible binding for global variable ‘chr’
perm_test: no visible binding for global variable ‘start’
perm_test: no visible binding for global variable ‘end’
perm_test: no visible global function definition for ‘IRanges’
topDirs: no visible binding for global variable ‘logCPM’
topDirs: no visible binding for global variable ‘logFC’
topDirs: no visible binding for global variable ‘p.adj’
topDirs: no visible binding for global variable ‘avgLogCPM’
topDirs: no visible binding for global variable ‘avgLogFC’
topDirs: no visible binding for global variable ‘avgP.adj’
topDirs: no visible binding for global variable ‘avgD’
Undefined global functions or variables:
IRanges avgD avgLogCPM avgLogFC avgP.adj axis chr end hg19_cyto
logCPM logFC p.adj region1 region2 seqlevelsStyle<- start tail textxy
write.table
Consider adding
importFrom("graphics", "axis")
importFrom("stats", "end", "start")
importFrom("utils", "tail", "write.table")
to your NAMESPACE file.
* checking Rd files ... OK
* checking Rd metadata ... OK
* checking Rd cross-references ... OK
* checking for missing documentation entries ... OK
* checking for code/documentation mismatches ... OK
* checking Rd \usage sections ... OK
* checking Rd contents ... OK
* checking for unstated dependencies in examples ... OK
* checking contents of ‘data’ directory ... OK
* checking data for non-ASCII characters ... OK
* checking data for ASCII and uncompressed saves ... OK
* checking files in ‘vignettes’ ... OK
* checking examples ... OK
* checking for unstated dependencies in ‘tests’ ... OK
* checking tests ...
Running ‘testthat.R’
OK
* checking for unstated dependencies in vignettes ... OK
* checking package vignettes in ‘inst/doc’ ... OK
* checking running R code from vignettes ... SKIPPED
* checking re-building of vignette outputs ... SKIPPED
* checking PDF version of manual ... OK
* DONE
Status: 2 NOTEs
See
‘/Users/biocbuild/bbs-3.11-bioc/meat/multiHiCcompare.Rcheck/00check.log’
for details.
multiHiCcompare.Rcheck/00install.out
############################################################################## ############################################################################## ### ### Running command: ### ### /Library/Frameworks/R.framework/Versions/Current/Resources/bin/R CMD INSTALL multiHiCcompare ### ############################################################################## ############################################################################## * installing to library ‘/Library/Frameworks/R.framework/Versions/4.0/Resources/library’ * installing *source* package ‘multiHiCcompare’ ... ** using staged installation ** R ** data *** moving datasets to lazyload DB ** byte-compile and prepare package for lazy loading ** help *** installing help indices ** building package indices ** installing vignettes ** testing if installed package can be loaded from temporary location ** testing if installed package can be loaded from final location ** testing if installed package keeps a record of temporary installation path * DONE (multiHiCcompare)
multiHiCcompare.Rcheck/tests/testthat.Rout
R version 4.0.3 (2020-10-10) -- "Bunny-Wunnies Freak Out"
Copyright (C) 2020 The R Foundation for Statistical Computing
Platform: x86_64-apple-darwin17.0 (64-bit)
R is free software and comes with ABSOLUTELY NO WARRANTY.
You are welcome to redistribute it under certain conditions.
Type 'license()' or 'licence()' for distribution details.
R is a collaborative project with many contributors.
Type 'contributors()' for more information and
'citation()' on how to cite R or R packages in publications.
Type 'demo()' for some demos, 'help()' for on-line help, or
'help.start()' for an HTML browser interface to help.
Type 'q()' to quit R.
> library(testthat)
> library(multiHiCcompare)
>
> test_check("multiHiCcompare")
══ testthat results ═══════════════════════════════════════════════════════════
[ OK: 17 | SKIPPED: 0 | WARNINGS: 0 | FAILED: 0 ]
>
> proc.time()
user system elapsed
56.534 1.524 58.088
multiHiCcompare.Rcheck/multiHiCcompare-Ex.timings
| name | user | system | elapsed | |
| Hicexp-class | 0.021 | 0.007 | 0.028 | |
| MD_composite | 0.160 | 0.023 | 0.184 | |
| MD_hicexp | 0.719 | 0.108 | 0.829 | |
| cyclic_loess | 2.685 | 0.143 | 2.830 | |
| exportJuicebox | 0.050 | 0.003 | 0.054 | |
| fastlo | 1.351 | 0.077 | 1.431 | |
| hic_exactTest | 0.000 | 0.000 | 0.001 | |
| hic_filter | 0.932 | 0.025 | 0.992 | |
| hic_glm | 0.000 | 0.001 | 0.001 | |
| hic_scale | 0.109 | 0.013 | 0.122 | |
| hic_table | 0.024 | 0.002 | 0.026 | |
| make_hicexp | 1.455 | 0.048 | 1.504 | |
| manhattan_hicexp | 0.579 | 0.019 | 0.606 | |
| meta | 0.022 | 0.003 | 0.024 | |
| normalized | 0.017 | 0.003 | 0.020 | |
| perm_test | 0 | 0 | 0 | |
| plot_counts | 0.137 | 0.007 | 0.144 | |
| plot_pvals | 0.159 | 0.013 | 0.173 | |
| pval_heatmap | 1.145 | 0.088 | 1.283 | |
| resolution | 0.019 | 0.003 | 0.022 | |
| results | 0.019 | 0.001 | 0.021 | |
| topDirs | 0.057 | 0.006 | 0.063 | |