| Back to Multiple platform build/check report for BioC 3.11 |
|
This page was generated on 2020-10-17 11:57:13 -0400 (Sat, 17 Oct 2020).
| TO THE DEVELOPERS/MAINTAINERS OF THE msPurity PACKAGE: Please make sure to use the following settings in order to reproduce any error or warning you see on this page. |
| Package 1143/1905 | Hostname | OS / Arch | INSTALL | BUILD | CHECK | BUILD BIN | ||||||
| msPurity 1.14.1 Thomas N. Lawson
| malbec2 | Linux (Ubuntu 18.04.4 LTS) / x86_64 | OK | OK | OK | |||||||
| tokay2 | Windows Server 2012 R2 Standard / x64 | OK | OK | OK | [ OK ] | |||||||
| machv2 | macOS 10.14.6 Mojave / x86_64 | OK | OK | OK | OK |
| Package: msPurity |
| Version: 1.14.1 |
| Command: rm -rf msPurity.buildbin-libdir && mkdir msPurity.buildbin-libdir && C:\Users\biocbuild\bbs-3.11-bioc\R\bin\R.exe CMD INSTALL --merge-multiarch --build --library=msPurity.buildbin-libdir msPurity_1.14.1.tar.gz |
| StartedAt: 2020-10-17 11:05:48 -0400 (Sat, 17 Oct 2020) |
| EndedAt: 2020-10-17 11:06:53 -0400 (Sat, 17 Oct 2020) |
| EllapsedTime: 64.5 seconds |
| RetCode: 0 |
| Status: OK |
| PackageFile: msPurity_1.14.1.zip |
| PackageFileSize: 7.77 MiB |
##############################################################################
##############################################################################
###
### Running command:
###
### rm -rf msPurity.buildbin-libdir && mkdir msPurity.buildbin-libdir && C:\Users\biocbuild\bbs-3.11-bioc\R\bin\R.exe CMD INSTALL --merge-multiarch --build --library=msPurity.buildbin-libdir msPurity_1.14.1.tar.gz
###
##############################################################################
##############################################################################
install for i386
* installing *source* package 'msPurity' ...
** using staged installation
** R
** inst
** byte-compile and prepare package for lazy loading
** help
*** installing help indices
converting help for package 'msPurity'
finding HTML links ... done
Getfiles html
assessPuritySingle html
averageAllFragSpectra-purityA-method html
averageInterFragSpectra-purityA-method
html
averageIntraFragSpectra-purityA-method
html
averageSpectra-purityD-method html
averageSpectraSingle html
combineAnnotations html
createDatabase html
createMSP-purityA-method html
create_database html
dimsPredictPurity-purityD-method html
dimsPredictPuritySingle html
filterFragSpectra-purityA-method html
filterp-purityD-method html
flag_remove html
frag4feature-purityA-method html
getP-purityD-method html
get_additional_mzml_meta html
groupPeaks-purityD-method html
groupPeaksEx html
initialize-purityD-method html
iwNormGauss html
iwNormQE.5 html
iwNormRcosine html
msPurity html
pcalc html
purityA html
purityD-class html
purityX html
show-purityA-method html
show-purityD-method html
show-purityX-method html
spectralMatching html
spectral_matching html
subtract-purityD-method html
subtractMZ html
validate-purityA-method html
writeOut-purityD-method html
** building package indices
** installing vignettes
** testing if installed package can be loaded from temporary location
** testing if installed package can be loaded from final location
** testing if installed package keeps a record of temporary installation path
install for x64
* installing *source* package 'msPurity' ...
** testing if installed package can be loaded
* MD5 sums
packaged installation of 'msPurity' as msPurity_1.14.1.zip
* DONE (msPurity)