| Back to Multiple platform build/check report for BioC 3.11 |
|
This page was generated on 2020-10-17 11:59:00 -0400 (Sat, 17 Oct 2020).
| TO THE DEVELOPERS/MAINTAINERS OF THE motifStack PACKAGE: Please make sure to use the following settings in order to reproduce any error or warning you see on this page. |
| Package 1129/1905 | Hostname | OS / Arch | INSTALL | BUILD | CHECK | BUILD BIN | ||||||
| motifStack 1.32.1 Jianhong Ou
| malbec2 | Linux (Ubuntu 18.04.4 LTS) / x86_64 | OK | OK | OK | |||||||
| tokay2 | Windows Server 2012 R2 Standard / x64 | OK | OK | OK | OK | |||||||
| machv2 | macOS 10.14.6 Mojave / x86_64 | OK | OK | [ OK ] | OK |
| Package: motifStack |
| Version: 1.32.1 |
| Command: /Library/Frameworks/R.framework/Versions/Current/Resources/bin/R CMD check --install=check:motifStack.install-out.txt --library=/Library/Frameworks/R.framework/Versions/Current/Resources/library --no-vignettes --timings motifStack_1.32.1.tar.gz |
| StartedAt: 2020-10-17 03:15:35 -0400 (Sat, 17 Oct 2020) |
| EndedAt: 2020-10-17 03:21:43 -0400 (Sat, 17 Oct 2020) |
| EllapsedTime: 367.7 seconds |
| RetCode: 0 |
| Status: OK |
| CheckDir: motifStack.Rcheck |
| Warnings: 0 |
##############################################################################
##############################################################################
###
### Running command:
###
### /Library/Frameworks/R.framework/Versions/Current/Resources/bin/R CMD check --install=check:motifStack.install-out.txt --library=/Library/Frameworks/R.framework/Versions/Current/Resources/library --no-vignettes --timings motifStack_1.32.1.tar.gz
###
##############################################################################
##############################################################################
* using log directory ‘/Users/biocbuild/bbs-3.11-bioc/meat/motifStack.Rcheck’
* using R version 4.0.3 (2020-10-10)
* using platform: x86_64-apple-darwin17.0 (64-bit)
* using session charset: UTF-8
* using option ‘--no-vignettes’
* checking for file ‘motifStack/DESCRIPTION’ ... OK
* checking extension type ... Package
* this is package ‘motifStack’ version ‘1.32.1’
* checking package namespace information ... OK
* checking package dependencies ... OK
* checking if this is a source package ... OK
* checking if there is a namespace ... OK
* checking for hidden files and directories ... OK
* checking for portable file names ... OK
* checking for sufficient/correct file permissions ... OK
* checking whether package ‘motifStack’ can be installed ... OK
* checking installed package size ... OK
* checking package directory ... OK
* checking ‘build’ directory ... OK
* checking DESCRIPTION meta-information ... OK
* checking top-level files ... OK
* checking for left-over files ... OK
* checking index information ... OK
* checking package subdirectories ... OK
* checking R files for non-ASCII characters ... OK
* checking R files for syntax errors ... OK
* checking whether the package can be loaded ... OK
* checking whether the package can be loaded with stated dependencies ... OK
* checking whether the package can be unloaded cleanly ... OK
* checking whether the namespace can be loaded with stated dependencies ... OK
* checking whether the namespace can be unloaded cleanly ... OK
* checking dependencies in R code ... OK
* checking S3 generic/method consistency ... OK
* checking replacement functions ... OK
* checking foreign function calls ... OK
* checking R code for possible problems ... OK
* checking Rd files ... OK
* checking Rd metadata ... OK
* checking Rd cross-references ... OK
* checking for missing documentation entries ... OK
* checking for code/documentation mismatches ... OK
* checking Rd \usage sections ... OK
* checking Rd contents ... OK
* checking for unstated dependencies in examples ... OK
* checking files in ‘vignettes’ ... OK
* checking examples ... OK
Examples with CPU (user + system) or elapsed time > 5s
user system elapsed
browseMotifs 10.127 0.183 10.322
* checking for unstated dependencies in ‘tests’ ... OK
* checking tests ...
Running ‘runTests.R’
OK
* checking for unstated dependencies in vignettes ... OK
* checking package vignettes in ‘inst/doc’ ... OK
* checking running R code from vignettes ... SKIPPED
* checking re-building of vignette outputs ... SKIPPED
* checking PDF version of manual ... OK
* DONE
Status: OK
motifStack.Rcheck/00install.out
############################################################################## ############################################################################## ### ### Running command: ### ### /Library/Frameworks/R.framework/Versions/Current/Resources/bin/R CMD INSTALL motifStack ### ############################################################################## ############################################################################## * installing to library ‘/Library/Frameworks/R.framework/Versions/4.0/Resources/library’ * installing *source* package ‘motifStack’ ... ** using staged installation ** R ** inst ** byte-compile and prepare package for lazy loading ** help *** installing help indices ** building package indices ** installing vignettes ** testing if installed package can be loaded from temporary location ** testing if installed package can be loaded from final location ** testing if installed package keeps a record of temporary installation path * DONE (motifStack)
motifStack.Rcheck/tests/runTests.Rout
R version 4.0.3 (2020-10-10) -- "Bunny-Wunnies Freak Out"
Copyright (C) 2020 The R Foundation for Statistical Computing
Platform: x86_64-apple-darwin17.0 (64-bit)
R is free software and comes with ABSOLUTELY NO WARRANTY.
You are welcome to redistribute it under certain conditions.
Type 'license()' or 'licence()' for distribution details.
R is a collaborative project with many contributors.
Type 'contributors()' for more information and
'citation()' on how to cite R or R packages in publications.
Type 'demo()' for some demos, 'help()' for on-line help, or
'help.start()' for an HTML browser interface to help.
Type 'q()' to quit R.
> require("motifStack") || stop("unable to load Package:motifStack")
Loading required package: motifStack
Loading required package: grImport2
Loading required package: grid
Loading required package: MotIV
Loading required package: BiocGenerics
Loading required package: parallel
Attaching package: 'BiocGenerics'
The following objects are masked from 'package:parallel':
clusterApply, clusterApplyLB, clusterCall, clusterEvalQ,
clusterExport, clusterMap, parApply, parCapply, parLapply,
parLapplyLB, parRapply, parSapply, parSapplyLB
The following objects are masked from 'package:stats':
IQR, mad, sd, var, xtabs
The following objects are masked from 'package:base':
Filter, Find, Map, Position, Reduce, anyDuplicated, append,
as.data.frame, basename, cbind, colnames, dirname, do.call,
duplicated, eval, evalq, get, grep, grepl, intersect, is.unsorted,
lapply, mapply, match, mget, order, paste, pmax, pmax.int, pmin,
pmin.int, rank, rbind, rownames, sapply, setdiff, sort, table,
tapply, union, unique, unsplit, which, which.max, which.min
Loading required package: GenomicRanges
Loading required package: stats4
Loading required package: S4Vectors
Attaching package: 'S4Vectors'
The following object is masked from 'package:base':
expand.grid
Loading required package: IRanges
Loading required package: GenomeInfoDb
Attaching package: 'MotIV'
The following object is masked from 'package:stats':
filter
Loading required package: ade4
Attaching package: 'ade4'
The following object is masked from 'package:GenomicRanges':
score
The following object is masked from 'package:BiocGenerics':
score
Loading required package: Biostrings
Loading required package: XVector
Attaching package: 'Biostrings'
The following object is masked from 'package:base':
strsplit
[1] TRUE
> #require("MotifDb") || stop("unalble to load Package::motifDb")
> BiocGenerics:::testPackage("motifStack")
RUNIT TEST PROTOCOL -- Sat Oct 17 03:21:33 2020
***********************************************
Number of test functions: 10
Number of errors: 0
Number of failures: 0
1 Test Suite :
motifStack RUnit Tests - 10 test functions, 0 errors, 0 failures
Number of test functions: 10
Number of errors: 0
Number of failures: 0
>
> proc.time()
user system elapsed
16.431 0.693 17.119
motifStack.Rcheck/motifStack-Ex.timings
| name | user | system | elapsed | |
| DNAmotifAlignment | 0.239 | 0.006 | 0.246 | |
| GeomMotif | 0.887 | 0.080 | 0.984 | |
| browseMotifs | 10.127 | 0.183 | 10.322 | |
| colorset | 0 | 0 | 0 | |
| geom_motif | 0.420 | 0.004 | 0.424 | |
| getRankedUniqueMotifs | 0.003 | 0.000 | 0.003 | |
| highlightCol | 0.002 | 0.000 | 0.002 | |
| importMatrix | 0.023 | 0.008 | 0.031 | |
| marker-class | 0.002 | 0.001 | 0.003 | |
| mergeMotifs | 0.206 | 0.003 | 0.209 | |
| motifCircos | 0.009 | 0.001 | 0.010 | |
| motifCloud | 0.004 | 0.001 | 0.004 | |
| motifGrob | 0.211 | 0.002 | 0.212 | |
| motifPiles | 0.008 | 0.001 | 0.009 | |
| motifSignature | 0.005 | 0.001 | 0.006 | |
| motifStack | 0.002 | 0.000 | 0.002 | |
| ouNode-class | 0.003 | 0.001 | 0.005 | |
| pcm-class | 0.136 | 0.002 | 0.138 | |
| pcm-methods | 0.011 | 0.003 | 0.014 | |
| pfm-class | 0.135 | 0.002 | 0.137 | |
| pfm-methods | 0.013 | 0.005 | 0.018 | |
| pfm2pwm | 0.229 | 0.004 | 0.231 | |
| plotAffinityLogo | 0.971 | 0.010 | 0.982 | |
| plotMotifLogo | 0.374 | 0.003 | 0.378 | |
| plotMotifLogoA | 0.316 | 0.002 | 0.318 | |
| plotMotifLogoStack | 0.414 | 0.005 | 0.421 | |
| plotMotifLogoStackWithTree | 2.998 | 0.022 | 3.025 | |
| plotMotifOverMotif | 0.467 | 0.007 | 0.475 | |
| plotMotifStackWithPhylog | 0.006 | 0.000 | 0.007 | |
| plotMotifStackWithRadialPhylog | 0.007 | 0.001 | 0.008 | |
| psam-class | 1.094 | 0.011 | 1.105 | |
| psam-methods | 0.028 | 0.008 | 0.037 | |
| readPCM | 0.017 | 0.001 | 0.019 | |
| reorderUPGMAtree | 0.004 | 0.000 | 0.004 | |