| Back to Multiple platform build/check report for BioC 3.11 |
|
This page was generated on 2020-10-17 11:58:58 -0400 (Sat, 17 Oct 2020).
| TO THE DEVELOPERS/MAINTAINERS OF THE minfi PACKAGE: Please make sure to use the following settings in order to reproduce any error or warning you see on this page. |
| Package 1085/1905 | Hostname | OS / Arch | INSTALL | BUILD | CHECK | BUILD BIN | ||||||
| minfi 1.34.0 Kasper Daniel Hansen
| malbec2 | Linux (Ubuntu 18.04.4 LTS) / x86_64 | OK | OK | OK | |||||||
| tokay2 | Windows Server 2012 R2 Standard / x64 | OK | OK | WARNINGS | OK | |||||||
| machv2 | macOS 10.14.6 Mojave / x86_64 | OK | OK | [ OK ] | OK |
| Package: minfi |
| Version: 1.34.0 |
| Command: /Library/Frameworks/R.framework/Versions/Current/Resources/bin/R CMD check --install=check:minfi.install-out.txt --library=/Library/Frameworks/R.framework/Versions/Current/Resources/library --no-vignettes --timings minfi_1.34.0.tar.gz |
| StartedAt: 2020-10-17 03:05:08 -0400 (Sat, 17 Oct 2020) |
| EndedAt: 2020-10-17 03:16:43 -0400 (Sat, 17 Oct 2020) |
| EllapsedTime: 694.4 seconds |
| RetCode: 0 |
| Status: OK |
| CheckDir: minfi.Rcheck |
| Warnings: 0 |
##############################################################################
##############################################################################
###
### Running command:
###
### /Library/Frameworks/R.framework/Versions/Current/Resources/bin/R CMD check --install=check:minfi.install-out.txt --library=/Library/Frameworks/R.framework/Versions/Current/Resources/library --no-vignettes --timings minfi_1.34.0.tar.gz
###
##############################################################################
##############################################################################
* using log directory ‘/Users/biocbuild/bbs-3.11-bioc/meat/minfi.Rcheck’
* using R version 4.0.3 (2020-10-10)
* using platform: x86_64-apple-darwin17.0 (64-bit)
* using session charset: UTF-8
* using option ‘--no-vignettes’
* checking for file ‘minfi/DESCRIPTION’ ... OK
* this is package ‘minfi’ version ‘1.34.0’
* checking package namespace information ... OK
* checking package dependencies ... OK
* checking if this is a source package ... OK
* checking if there is a namespace ... OK
* checking for hidden files and directories ... OK
* checking for portable file names ... OK
* checking for sufficient/correct file permissions ... OK
* checking whether package ‘minfi’ can be installed ... OK
* checking installed package size ... OK
* checking package directory ... OK
* checking ‘build’ directory ... OK
* checking DESCRIPTION meta-information ... OK
* checking top-level files ... OK
* checking for left-over files ... OK
* checking index information ... OK
* checking package subdirectories ... OK
* checking R files for non-ASCII characters ... OK
* checking R files for syntax errors ... OK
* checking whether the package can be loaded ... OK
* checking whether the package can be loaded with stated dependencies ... OK
* checking whether the package can be unloaded cleanly ... OK
* checking whether the namespace can be loaded with stated dependencies ... OK
* checking whether the namespace can be unloaded cleanly ... OK
* checking dependencies in R code ... NOTE
Unexported objects imported by ':::' calls:
‘DelayedArray:::get_verbose_block_processing’
‘DelayedArray:::normarg_grid’ ‘bumphunter:::.getEstimate’
See the note in ?`:::` about the use of this operator.
There are ::: calls to the package's namespace in its code. A package
almost never needs to use ::: for its own objects:
‘.guessArrayTypes’
* checking S3 generic/method consistency ... OK
* checking replacement functions ... OK
* checking foreign function calls ... OK
* checking R code for possible problems ... OK
* checking Rd files ... OK
* checking Rd metadata ... OK
* checking Rd cross-references ... OK
* checking for missing documentation entries ... OK
* checking for code/documentation mismatches ... OK
* checking Rd \usage sections ... OK
* checking Rd contents ... OK
* checking for unstated dependencies in examples ... OK
* checking files in ‘vignettes’ ... OK
* checking examples ... OK
Examples with CPU (user + system) or elapsed time > 5s
user system elapsed
combineArrays 81.649 2.508 84.285
bumphunter 34.481 4.603 39.134
read.metharray.exp 10.646 0.085 10.738
read.metharray 6.914 0.155 7.074
densityPlot 5.657 0.146 5.807
preprocessFunnorm 4.935 0.234 5.171
preprocessIllumina 5.012 0.101 5.116
* checking for unstated dependencies in ‘tests’ ... OK
* checking tests ...
Running ‘runTests.R’
OK
* checking for unstated dependencies in vignettes ... OK
* checking package vignettes in ‘inst/doc’ ... OK
* checking running R code from vignettes ... SKIPPED
* checking re-building of vignette outputs ... SKIPPED
* checking PDF version of manual ... OK
* DONE
Status: 1 NOTE
See
‘/Users/biocbuild/bbs-3.11-bioc/meat/minfi.Rcheck/00check.log’
for details.
minfi.Rcheck/00install.out
############################################################################## ############################################################################## ### ### Running command: ### ### /Library/Frameworks/R.framework/Versions/Current/Resources/bin/R CMD INSTALL minfi ### ############################################################################## ############################################################################## * installing to library ‘/Library/Frameworks/R.framework/Versions/4.0/Resources/library’ * installing *source* package ‘minfi’ ... ** using staged installation ** R ** inst ** byte-compile and prepare package for lazy loading ** help *** installing help indices ** building package indices ** installing vignettes ** testing if installed package can be loaded from temporary location ** testing if installed package can be loaded from final location ** testing if installed package keeps a record of temporary installation path * DONE (minfi)
minfi.Rcheck/tests/runTests.Rout
R version 4.0.3 (2020-10-10) -- "Bunny-Wunnies Freak Out"
Copyright (C) 2020 The R Foundation for Statistical Computing
Platform: x86_64-apple-darwin17.0 (64-bit)
R is free software and comes with ABSOLUTELY NO WARRANTY.
You are welcome to redistribute it under certain conditions.
Type 'license()' or 'licence()' for distribution details.
R is a collaborative project with many contributors.
Type 'contributors()' for more information and
'citation()' on how to cite R or R packages in publications.
Type 'demo()' for some demos, 'help()' for on-line help, or
'help.start()' for an HTML browser interface to help.
Type 'q()' to quit R.
> require("minfi") || stop("unable to load minfi")
Loading required package: minfi
Loading required package: BiocGenerics
Loading required package: parallel
Attaching package: 'BiocGenerics'
The following objects are masked from 'package:parallel':
clusterApply, clusterApplyLB, clusterCall, clusterEvalQ,
clusterExport, clusterMap, parApply, parCapply, parLapply,
parLapplyLB, parRapply, parSapply, parSapplyLB
The following objects are masked from 'package:stats':
IQR, mad, sd, var, xtabs
The following objects are masked from 'package:base':
Filter, Find, Map, Position, Reduce, anyDuplicated, append,
as.data.frame, basename, cbind, colnames, dirname, do.call,
duplicated, eval, evalq, get, grep, grepl, intersect, is.unsorted,
lapply, mapply, match, mget, order, paste, pmax, pmax.int, pmin,
pmin.int, rank, rbind, rownames, sapply, setdiff, sort, table,
tapply, union, unique, unsplit, which, which.max, which.min
Loading required package: GenomicRanges
Loading required package: stats4
Loading required package: S4Vectors
Attaching package: 'S4Vectors'
The following object is masked from 'package:base':
expand.grid
Loading required package: IRanges
Loading required package: GenomeInfoDb
Loading required package: SummarizedExperiment
Loading required package: Biobase
Welcome to Bioconductor
Vignettes contain introductory material; view with
'browseVignettes()'. To cite Bioconductor, see
'citation("Biobase")', and for packages 'citation("pkgname")'.
Loading required package: DelayedArray
Loading required package: matrixStats
Attaching package: 'matrixStats'
The following objects are masked from 'package:Biobase':
anyMissing, rowMedians
Attaching package: 'DelayedArray'
The following objects are masked from 'package:matrixStats':
colMaxs, colMins, colRanges, rowMaxs, rowMins, rowRanges
The following objects are masked from 'package:base':
aperm, apply, rowsum
Loading required package: Biostrings
Loading required package: XVector
Attaching package: 'Biostrings'
The following object is masked from 'package:base':
strsplit
Loading required package: bumphunter
Loading required package: foreach
Loading required package: iterators
Loading required package: locfit
locfit 1.5-9.4 2020-03-24
Setting options('download.file.method.GEOquery'='auto')
Setting options('GEOquery.inmemory.gpl'=FALSE)
[1] TRUE
> BiocGenerics:::testPackage("minfi")
Loading required package: minfiData
Loading required package: IlluminaHumanMethylation450kmanifest
Loading required package: IlluminaHumanMethylation450kanno.ilmn12.hg19
Loading required package: digest
RUNIT TEST PROTOCOL -- Sat Oct 17 03:16:32 2020
***********************************************
Number of test functions: 10
Number of errors: 0
Number of failures: 0
1 Test Suite :
minfi RUnit Tests - 10 test functions, 0 errors, 0 failures
Number of test functions: 10
Number of errors: 0
Number of failures: 0
>
> proc.time()
user system elapsed
54.359 1.752 59.057
minfi.Rcheck/minfi-Ex.timings
| name | user | system | elapsed | |
| GenomicMethylSet-class | 0.003 | 0.001 | 0.005 | |
| GenomicRatioSet-class | 0.002 | 0.001 | 0.003 | |
| IlluminaMethylationManifest-class | 4.089 | 0.127 | 4.220 | |
| MethylSet-class | 0.001 | 0.001 | 0.002 | |
| RGChannelSet-class | 0.002 | 0.001 | 0.002 | |
| RatioSet-class | 0.001 | 0.001 | 0.002 | |
| bumphunter | 34.481 | 4.603 | 39.134 | |
| combineArrays | 81.649 | 2.508 | 84.285 | |
| compartments | 4.048 | 0.280 | 4.332 | |
| controlStripPlot | 2.799 | 0.039 | 2.885 | |
| convertArray | 1.658 | 0.037 | 1.695 | |
| densityBeanPlot | 4.193 | 0.106 | 4.302 | |
| densityPlot | 5.657 | 0.146 | 5.807 | |
| detectionP | 0.328 | 0.004 | 0.332 | |
| dmpFinder | 0.163 | 0.005 | 0.168 | |
| estimateCellCounts | 0.000 | 0.000 | 0.001 | |
| fixMethOutliers | 0.777 | 0.006 | 0.784 | |
| gaphunter | 0.163 | 0.004 | 0.167 | |
| getAnnotation | 3.200 | 0.078 | 3.280 | |
| getGenomicRatioSetFromGEO | 0.000 | 0.000 | 0.001 | |
| getQC | 0.195 | 0.003 | 0.198 | |
| getSex | 1.154 | 0.010 | 1.163 | |
| logit2 | 0.000 | 0.001 | 0.001 | |
| makeGenomicRatioSetFromMatrix | 0.403 | 0.005 | 0.408 | |
| mapToGenome-methods | 0.209 | 0.003 | 0.212 | |
| mdsPlot | 0.233 | 0.006 | 0.239 | |
| minfiQC | 3.577 | 0.082 | 3.661 | |
| plotBetasByType | 0.000 | 0.000 | 0.001 | |
| plotCpg | 0.144 | 0.003 | 0.148 | |
| preprocessFunnorm | 4.935 | 0.234 | 5.171 | |
| preprocessIllumina | 5.012 | 0.101 | 5.116 | |
| preprocessNoob | 0.768 | 0.006 | 0.774 | |
| preprocessQuantile | 1.024 | 0.009 | 1.033 | |
| preprocessRaw | 3.770 | 0.077 | 3.848 | |
| preprocessSwan | 0.498 | 0.005 | 0.503 | |
| qcReport | 0.061 | 0.004 | 0.064 | |
| ratioConvert-methods | 0.116 | 0.004 | 0.119 | |
| read.metharray | 6.914 | 0.155 | 7.074 | |
| read.metharray.exp | 10.646 | 0.085 | 10.738 | |
| read.metharray.sheet | 0.079 | 0.004 | 0.084 | |
| readGEORawFile | 0 | 0 | 0 | |
| readTCGA | 0 | 0 | 0 | |
| subsetByLoci | 0.513 | 0.004 | 0.517 | |
| utils | 0.151 | 0.003 | 0.153 | |