| Back to Multiple platform build/check report for BioC 3.11 | 
 | 
This page was generated on 2020-10-17 11:55:10 -0400 (Sat, 17 Oct 2020).
| TO THE DEVELOPERS/MAINTAINERS OF THE minet PACKAGE: Please make sure to use the following settings in order to reproduce any error or warning you see on this page. | 
| Package 1084/1905 | Hostname | OS / Arch | INSTALL | BUILD | CHECK | BUILD BIN | ||||||
| minet 3.46.0 Patrick E. Meyer 
 | malbec2 | Linux (Ubuntu 18.04.4 LTS) / x86_64 | [ OK ] | OK | OK |  | ||||||
| tokay2 | Windows Server 2012 R2 Standard / x64 | OK | OK | OK | OK |  | ||||||
| machv2 | macOS 10.14.6 Mojave / x86_64 | OK | OK | OK | OK |  | 
| Package: minet | 
| Version: 3.46.0 | 
| Command: /home/biocbuild/bbs-3.11-bioc/R/bin/R CMD INSTALL minet | 
| StartedAt: 2020-10-16 16:03:24 -0400 (Fri, 16 Oct 2020) | 
| EndedAt: 2020-10-16 16:03:30 -0400 (Fri, 16 Oct 2020) | 
| EllapsedTime: 5.7 seconds | 
| RetCode: 0 | 
| Status: OK | 
##############################################################################
##############################################################################
###
### Running command:
###
###   /home/biocbuild/bbs-3.11-bioc/R/bin/R CMD INSTALL minet
###
##############################################################################
##############################################################################
* installing to library ‘/home/biocbuild/bbs-3.11-bioc/R/library’
* installing *source* package ‘minet’ ...
** using staged installation
** libs
g++ -std=gnu++11 -I"/home/biocbuild/bbs-3.11-bioc/R/include" -DNDEBUG   -I/usr/local/include   -fpic  -g -O2  -Wall -c aracne.cpp -o aracne.o
g++ -std=gnu++11 -I"/home/biocbuild/bbs-3.11-bioc/R/include" -DNDEBUG   -I/usr/local/include   -fpic  -g -O2  -Wall -c clr.cpp -o clr.o
g++ -std=gnu++11 -I"/home/biocbuild/bbs-3.11-bioc/R/include" -DNDEBUG   -I/usr/local/include   -fpic  -g -O2  -Wall -c minet.cpp -o minet.o
g++ -std=gnu++11 -I"/home/biocbuild/bbs-3.11-bioc/R/include" -DNDEBUG   -I/usr/local/include   -fpic  -g -O2  -Wall -c mrnet.cpp -o mrnet.o
mrnet.cpp: In function ‘SEXPREC* mrnet(SEXP, SEXP)’:
mrnet.cpp:190:34: warning: comparison between signed and unsigned integer expressions [-Wsign-compare]
                   for( int l=0; l<n; ++l )
                                 ~^~
g++ -std=gnu++11 -I"/home/biocbuild/bbs-3.11-bioc/R/include" -DNDEBUG   -I/usr/local/include   -fpic  -g -O2  -Wall -c validate.cpp -o validate.o
g++ -std=gnu++11 -shared -L/home/biocbuild/bbs-3.11-bioc/R/lib -L/usr/local/lib -o minet.so aracne.o clr.o minet.o mrnet.o validate.o -L/home/biocbuild/bbs-3.11-bioc/R/lib -lR
installing to /home/biocbuild/bbs-3.11-bioc/R/library/00LOCK-minet/00new/minet/libs
** R
** data
** inst
** byte-compile and prepare package for lazy loading
** help
*** installing help indices
** building package indices
** testing if installed package can be loaded from temporary location
** checking absolute paths in shared objects and dynamic libraries
** testing if installed package can be loaded from final location
** testing if installed package keeps a record of temporary installation path
* DONE (minet)